{"text_format":"1","workbook":"xlsx","n_sheets":8,"sheets":["Beregning","Lister","Data2","Data","Endring","Ferskvann","Fjord","Hav"],"not_rendered":{"charts":0,"images":1,"macros":1,"external_links":0,"defined_names":5,"comments":0,"pivot_tables":0},"unopened":[],"bounds":{"document_bytes":16777216,"sheet_cells":100000,"rows_first":2000,"rows_last":500,"rows_between":2000,"halvings":0,"cell_chars":16384,"cell_head_chars":4096},"cells_cut":0,"cells_raw":0,"read":"whole","date_system":"1900"}

{"sheet":"Beregning","index":0,"n_rows":13,"n_cols":11,"rows_kept":13,"cut":false,"hidden":false,"merged":[[15,1,15,8],[12,2,12,3],[12,4,12,5],[17,1,17,8],[24,1,24,6],[23,1,23,8],[18,1,18,8],[19,1,19,8],[20,1,20,8],[22,1,22,8],[5,4,5,5],[6,4,6,5],[2,2,2,5],[5,2,5,3],[6,2,6,3],[7,4,7,5],[11,2,11,3],[11,4,11,5],[9,2,9,3],[9,4,9,5],[10,2,10,3],[10,4,10,5],[7,2,7,3],[8,2,8,3],[8,4,8,5]]}
[]
[null,null,null,null,null,null,null,null,null,null,"Revidert: 27.06.25"]
[]
[]
[]
[null,null,"Luftfyllingsgrad i %"]
[null,null,"SDR klasse",null,7.4]
[null,null,"Dim ledning",null,"900mm - 1850kg  boltefritt lodd"]
[null,null,"Vannforhold"]
[null,null,"Lengde"]
[null,null,"c/c",null,{"$f":"IF(E10=\"\",\"\",IF(E12>0,(E10/E12),\"Du kan ikke benytte dette røret ved angitt SDR klasse\"))","v":""}]
[null,null,"Antall lodd",null,{"$f":"IF(E10=\"\",\"\",IF(E7=26,Data2!J40,IF(E7=21,Data2!J41,IF(E7=17,Data2!J42,IF(E7=13.6,Data2!J43,IF(E7=11,Data2!J44,IF(E7=9,Data2!J45,IF(E7=7.4,Data2!J46,\"Feil\"))))))))","v":""}]
[null,null,"Total belastning",null,{"$f":"IF(E10=\"\",\"\",IF(E7=26,Data2!K40,IF(E7=21,Data2!K41,IF(E7=17,Data2!K42,IF(E7=13.6,Data2!K43,IF(E7=11,Data2!K44,IF(E7=9,Data2!K45,IF(E7=7.4,Data2!K46,\"Feil\"))))))))","v":""}]

{"sheet":"Lister","index":1,"n_rows":33,"n_cols":17,"rows_kept":33,"cut":false,"hidden":true,"merged":[]}
[]
[]
[null,null,"Ferskvann"]
[null,null,"Fjord",null,null,null,null,"32mm - 4kg stripselodd ",null,null,null,null,7.4,null,null,null,{"$f":"Beregning!E9","v":0}]
[null,null,"Hav",null,null,null,null,"40mm - 4kg stripselodd",null,null,null,null,9]
[null,null,null,null,null,null,null,"40mm - 8,5kg stripselodd",null,null,null,null,11]
[null,null,null,null,null,null,null,"50mm - 4kg stripselodd",null,null,null,null,13.6]
[null,null,null,null,null,null,null,"50mm - 8,5kg stripselodd",null,null,null,null,17]
[null,null,null,null,null,null,null,"63mm - 4kg stripselodd",null,null,null,null,21]
[null,null,null,null,null,null,null,"63mm - 8,5kg stripselodd",null,null,null,null,26]
[null,null,null,null,null,null,null,"75mm - 8,5kg stripselodd"]
[null,null,null,null,null,null,null,"75mm - 17,7kg boltefritt lodd"]
[null,null,null,null,null,null,null,"90mm - 16,8kg  boltefritt lodd"]
[null,null,null,null,null,null,null,"110mm - 16,3kg  boltefritt lodd"]
[null,null,null,null,null,null,null,"125mm - 30kg  boltefritt lodd"]
[null,null,null,null,null,null,null,"140mm - 40kg  boltefritt lodd"]
[null,null,null,null,null,null,null,"160mm - 55kg  boltefritt lodd"]
[null,null,null,null,null,null,null,"160mm - 70kg boltefritt lodd"]
[null,null,null,null,null,null,null,"180mm - 70kg  boltefritt lodd"]
[null,null,null,null,null,null,null,"200mm - 90kg  boltefritt lodd"]
[null,null,null,null,null,null,null,"225mm - 106kg  boltefritt lodd"]
[null,null,null,null,null,null,null,"250mm - 125kg  boltefritt lodd"]
[null,null,null,null,null,null,null,"280mm - 165kg  boltefritt lodd"]
[null,null,null,null,null,null,null,"315mm - 210kg  boltefritt lodd"]
[null,null,null,null,null,null,null,"355mm - 256kg  boltefritt lodd"]
[null,null,null,null,null,null,null,"400mm - 300kg  boltefritt lodd"]
[null,null,null,null,null,null,null,"450mm - 400kg  boltefritt lodd"]
[null,null,null,null,null,null,null,"500mm - 720kg  boltefritt lodd"]
[null,null,null,null,null,null,null,"560mm - 830kg  boltefritt lodd"]
[null,null,null,null,null,null,null,"630mm - 900kg  boltefritt lodd"]
[null,null,null,null,null,null,null,"710mm - 1200kg  boltefritt lodd"]
[null,null,null,null,null,null,null,"800mm - 1460kg  boltefritt lodd"]
[null,null,null,null,null,null,null,"900mm - 1850kg  boltefritt lodd"]

{"sheet":"Data2","index":2,"n_rows":57,"n_cols":17,"rows_kept":57,"cut":false,"hidden":false,"merged":[[0,15,0,16],[0,13,0,14],[0,5,0,6],[0,7,0,8],[40,4,40,5],[0,3,0,4],[39,4,39,5],[0,9,0,10],[0,11,0,12],[56,0,57,14],[52,0,52,14],[41,4,41,5],[42,4,42,5],[54,3,54,13],[55,3,55,13],[46,3,46,11]]}
[null,null,null,"SDR 26",null,"SDR 21",null,"SDR 17",null,"SDR 13,6",null,"SDR 11",null,"SDR 9",null,"SDR 7,4"]
[]
["Størrelse","vekt i kg"," ","Kg/m ","c/c","Kg/m ","c/c","Kg/m ","c/c","Kg/m ","c/c","Kg/m ","c/c","Kg/m ","c/c"]
[]
["32mm - 4kg stripselodd ",4,null,0,0,null,null,{"$f":"(Data!$G5+Beregning!$E$6*Data!$H5)","v":{"$error":"#REF!"}},{"$f":"(B5/H5)","v":{"$error":"#REF!"}},{"$f":"(Data!$I5+Beregning!$E$6*Data!$J5)","v":{"$error":"#REF!"}},{"$f":"(B5/J5)","v":{"$error":"#REF!"}},{"$f":"(Data!$K5+Beregning!$E$6*Data!$L5)","v":{"$error":"#REF!"}},{"$f":"(B5/L5)","v":{"$error":"#REF!"}},{"$f":"(Data!$M5+Beregning!$E$6*Data!$N5)","v":{"$error":"#REF!"}},{"$f":"(B5/N5)","v":{"$error":"#REF!"}},{"$f":"(Data!$O5+Beregning!$E$6*Data!$P5)","v":{"$error":"#REF!"}},{"$f":"(B5/P5)","v":{"$error":"#REF!"}}]
["40mm - 4kg stripselodd",4,null,null,null,null,null,{"$f":"(Data!$G6+Beregning!$E$6*Data!$H6)","v":{"$error":"#REF!"}},{"$error":"#REF!"},{"$f":"(Data!$I6+Beregning!$E$6*Data!$J6)","v":{"$error":"#REF!"}},{"$error":"#REF!"},{"$f":"(Data!$K6+Beregning!$E$6*Data!$L6)","v":{"$error":"#REF!"}},{"$error":"#REF!"},{"$f":"(Data!$M6+Beregning!$E$6*Data!$N6)","v":{"$error":"#REF!"}},{"$error":"#REF!"},{"$f":"(Data!$O6+Beregning!$E$6*Data!$P6)","v":{"$error":"#REF!"}},{"$f":"(B6/P6)","v":{"$error":"#REF!"}}]
["40mm - 6kg stripselodd",6,null,null,null,null,null,{"$f":"(Data!$G7+Beregning!$E$6*Data!$H7)","v":{"$error":"#REF!"}},{"$error":"#REF!"},{"$f":"(Data!$I7+Beregning!$E$6*Data!$J7)","v":{"$error":"#REF!"}},{"$error":"#REF!"},{"$f":"(Data!$K7+Beregning!$E$6*Data!$L7)","v":{"$error":"#REF!"}},{"$error":"#REF!"},{"$f":"(Data!$M7+Beregning!$E$6*Data!$N7)","v":{"$error":"#REF!"}},{"$error":"#REF!"},{"$f":"(Data!$O7+Beregning!$E$6*Data!$P7)","v":{"$error":"#REF!"}},{"$error":"#REF!"}]
["40mm - 8,5kg stripselodd",8.5,null,null,null,null,null,{"$f":"(Data!$G8+Beregning!$E$6*Data!$H8)","v":{"$error":"#REF!"}},{"$f":"(B8/H8)","v":{"$error":"#REF!"}},{"$f":"(Data!$I8+Beregning!$E$6*Data!$J8)","v":{"$error":"#REF!"}},{"$f":"(B8/J8)","v":{"$error":"#REF!"}},{"$f":"(Data!$K8+Beregning!$E$6*Data!$L8)","v":{"$error":"#REF!"}},{"$f":"(B8/L8)","v":{"$error":"#REF!"}},{"$f":"(Data!$M8+Beregning!$E$6*Data!$N8)","v":{"$error":"#REF!"}},{"$f":"(B8/N8)","v":{"$error":"#REF!"}},{"$f":"(Data!$O8+Beregning!$E$6*Data!$P8)","v":{"$error":"#REF!"}},{"$error":"#REF!"}]
["50mm - 4kg stripselodd",4,null,{"$f":"SUM(Data!$C9+Beregning!$E$6*Data!$D9)","v":{"$error":"#REF!"}},{"$f":"SUM(B9/D9)","v":{"$error":"#REF!"}},{"$f":"SUM(Data!$E9+Beregning!$E$6*Data!$F9)","v":{"$error":"#REF!"}},{"$f":"SUM(B9/F9)","v":{"$error":"#REF!"}},{"$f":"(Data!$G9+Beregning!$E$6*Data!$H9)","v":{"$error":"#REF!"}},{"$error":"#REF!"},{"$f":"(Data!$I9+Beregning!$E$6*Data!$J9)","v":{"$error":"#REF!"}},{"$error":"#REF!"},{"$f":"(Data!$K9+Beregning!$E$6*Data!$L9)","v":{"$error":"#REF!"}},{"$error":"#REF!"},{"$f":"(Data!$M9+Beregning!$E$6*Data!$N9)","v":{"$error":"#REF!"}},{"$error":"#REF!"},{"$f":"(Data!$O9+Beregning!$E$6*Data!$P9)","v":{"$error":"#REF!"}},{"$error":"#REF!"}]
["50mm - 6kg stripselodd",6,null,{"$f":"SUM(Data!$C10+Beregning!$E$6*Data!$D10)","v":{"$error":"#REF!"}},{"$error":"#REF!"},{"$f":"SUM(Data!$E10+Beregning!$E$6*Data!$F10)","v":{"$error":"#REF!"}},{"$f":"SUM(B10/F10)","v":{"$error":"#REF!"}},{"$f":"(Data!$G10+Beregning!$E$6*Data!$H10)","v":{"$error":"#REF!"}},{"$error":"#REF!"},{"$f":"(Data!$I10+Beregning!$E$6*Data!$J10)","v":{"$error":"#REF!"}},{"$error":"#REF!"},{"$f":"(Data!$K10+Beregning!$E$6*Data!$L10)","v":{"$error":"#REF!"}},{"$error":"#REF!"},{"$f":"(Data!$M10+Beregning!$E$6*Data!$N10)","v":{"$error":"#REF!"}},{"$error":"#REF!"},{"$f":"(Data!$O10+Beregning!$E$6*Data!$P10)","v":{"$error":"#REF!"}},{"$error":"#REF!"}]
["50mm - 8,5kg stripselodd",8.5,null,{"$f":"SUM(Data!$C11+Beregning!$E$6*Data!$D11)","v":{"$error":"#REF!"}},{"$error":"#REF!"},{"$f":"SUM(Data!$E11+Beregning!$E$6*Data!$F11)","v":{"$error":"#REF!"}},{"$error":"#REF!"},{"$f":"(Data!$G12+Beregning!$E$6*Data!$H12)","v":{"$error":"#REF!"}},{"$error":"#REF!"},{"$f":"(Data!$I11+Beregning!$E$6*Data!$J11)","v":{"$error":"#REF!"}},{"$f":"(B11/J11)","v":{"$error":"#REF!"}},{"$f":"(Data!$K11+Beregning!$E$6*Data!$L11)","v":{"$error":"#REF!"}},{"$f":"(B11/L11)","v":{"$error":"#REF!"}},{"$f":"(Data!$M11+Beregning!$E$6*Data!$N11)","v":{"$error":"#REF!"}},{"$f":"(B11/N11)","v":{"$error":"#REF!"}},{"$f":"(Data!$O11+Beregning!$E$6*Data!$P11)","v":{"$error":"#REF!"}},{"$error":"#REF!"}]
["63mm - 4kg stripselodd",4,null,{"$f":"SUM(Data!$C12+Beregning!$E$6*Data!$D12)","v":{"$error":"#REF!"}},{"$error":"#REF!"},{"$f":"SUM(Data!$E12+Beregning!$E$6*Data!$F12)","v":{"$error":"#REF!"}},{"$error":"#REF!"},{"$f":"(Data!$G12+Beregning!$E$6*Data!$H12)","v":{"$error":"#REF!"}},{"$error":"#REF!"},{"$f":"(Data!$I12+Beregning!$E$6*Data!$J12)","v":{"$error":"#REF!"}},{"$error":"#REF!"},{"$f":"(Data!$K12+Beregning!$E$6*Data!$L12)","v":{"$error":"#REF!"}},{"$error":"#REF!"},{"$f":"(Data!$M12+Beregning!$E$6*Data!$N12)","v":{"$error":"#REF!"}},{"$error":"#REF!"},{"$f":"(Data!$O12+Beregning!$E$6*Data!$P12)","v":{"$error":"#REF!"}},{"$error":"#REF!"}]
["63mm - 6kg stripselodd",6,null,{"$f":"SUM(Data!$C13+Beregning!$E$6*Data!$D13)","v":{"$error":"#REF!"}},{"$error":"#REF!"},{"$f":"SUM(Data!$E13+Beregning!$E$6*Data!$F13)","v":{"$error":"#REF!"}},{"$f":"SUM(B13/F13)","v":{"$error":"#REF!"}},{"$f":"(Data!$G13+Beregning!$E$6*Data!$H13)","v":{"$error":"#REF!"}},{"$error":"#REF!"},{"$f":"(Data!$I13+Beregning!$E$6*Data!$J13)","v":{"$error":"#REF!"}},{"$error":"#REF!"},{"$f":"(Data!$K13+Beregning!$E$6*Data!$L13)","v":{"$error":"#REF!"}},{"$error":"#REF!"},{"$f":"(Data!$M13+Beregning!$E$6*Data!$N13)","v":{"$error":"#REF!"}},{"$error":"#REF!"},{"$f":"(Data!$O13+Beregning!$E$6*Data!$P13)","v":{"$error":"#REF!"}},{"$error":"#REF!"}]
["63mm - 8,5kg stripselodd",8.5,null,{"$f":"SUM(Data!$C14+Beregning!$E$6*Data!$D14)","v":{"$error":"#REF!"}},{"$error":"#REF!"},{"$f":"SUM(Data!$E14+Beregning!$E$6*Data!$F14)","v":{"$error":"#REF!"}},{"$f":"SUM(B14/F14)","v":{"$error":"#REF!"}},{"$f":"(Data!$G14+Beregning!$E$6*Data!$H14)","v":{"$error":"#REF!"}},{"$error":"#REF!"},{"$f":"(Data!$I14+Beregning!$E$6*Data!$J14)","v":{"$error":"#REF!"}},{"$f":"(B14/J14)","v":{"$error":"#REF!"}},{"$f":"(Data!$K14+Beregning!$E$6*Data!$L14)","v":{"$error":"#REF!"}},{"$f":"(B14/L14)","v":{"$error":"#REF!"}},{"$f":"(Data!$M14+Beregning!$E$6*Data!$N14)","v":{"$error":"#REF!"}},{"$f":"(B14/N14)","v":{"$error":"#REF!"}},{"$f":"(Data!$O14+Beregning!$E$6*Data!$P14)","v":{"$error":"#REF!"}},{"$error":"#REF!"}]
["75mm - 6kg stripselodd",6,null,{"$f":"SUM(Data!$C15+Beregning!$E$6*Data!$D15)","v":{"$error":"#REF!"}},{"$error":"#REF!"},{"$f":"SUM(Data!$E15+Beregning!$E$6*Data!$F15)","v":{"$error":"#REF!"}},{"$error":"#REF!"},{"$f":"(Data!$G15+Beregning!$E$6*Data!$H15)","v":{"$error":"#REF!"}},{"$error":"#REF!"},{"$f":"(Data!$I15+Beregning!$E$6*Data!$J15)","v":{"$error":"#REF!"}},{"$error":"#REF!"},{"$f":"(Data!$K15+Beregning!$E$6*Data!$L15)","v":{"$error":"#REF!"}},{"$error":"#REF!"},{"$f":"(Data!$M15+Beregning!$E$6*Data!$N15)","v":{"$error":"#REF!"}},{"$error":"#REF!"},{"$f":"(Data!$O15+Beregning!$E$6*Data!$P15)","v":{"$error":"#REF!"}},{"$error":"#REF!"}]
["75mm - 8,5kg stripselodd",8.5,null,{"$f":"SUM(Data!$C16+Beregning!$E$6*Data!$D16)","v":{"$error":"#REF!"}},{"$error":"#REF!"},{"$f":"SUM(Data!$E16+Beregning!$E$6*Data!$F16)","v":{"$error":"#REF!"}},{"$error":"#REF!"},{"$f":"(Data!$G16+Beregning!$E$6*Data!$H16)","v":{"$error":"#REF!"}},{"$error":"#REF!"},{"$f":"(Data!$I16+Beregning!$E$6*Data!$J16)","v":{"$error":"#REF!"}},{"$f":"(B16/J16)","v":{"$error":"#REF!"}},{"$f":"(Data!$K16+Beregning!$E$6*Data!$L16)","v":{"$error":"#REF!"}},{"$f":"(B16/L16)","v":{"$error":"#REF!"}},{"$f":"(Data!$M16+Beregning!$E$6*Data!$N16)","v":{"$error":"#REF!"}},{"$f":"(B16/N16)","v":{"$error":"#REF!"}},{"$f":"(Data!$O16+Beregning!$E$6*Data!$P16)","v":{"$error":"#REF!"}},{"$error":"#REF!"}]
["75mm - 17,7kg boltefritt lodd",17.7,null,{"$f":"SUM(Data!$C17+Beregning!$E$6*Data!$D17)","v":{"$error":"#REF!"}},{"$error":"#REF!"},{"$f":"SUM(Data!$E17+Beregning!$E$6*Data!$F17)","v":{"$error":"#REF!"}},{"$error":"#REF!"},{"$f":"(Data!$G17+Beregning!$E$6*Data!$H17)","v":{"$error":"#REF!"}},{"$f":"SUM(B17/H17)","v":{"$error":"#REF!"}},{"$f":"(Data!$I17+Beregning!$E$6*Data!$J17)","v":{"$error":"#REF!"}},{"$f":"SUM(B17/J17)","v":{"$error":"#REF!"}},{"$f":"(Data!$K17+Beregning!$E$6*Data!$L17)","v":{"$error":"#REF!"}},{"$f":"SUM(B17/L17)","v":{"$error":"#REF!"}},{"$f":"(Data!$M17+Beregning!$E$6*Data!$N17)","v":{"$error":"#REF!"}},{"$f":"SUM(B17/N17)","v":{"$error":"#REF!"}},{"$f":"(Data!$O17+Beregning!$E$6*Data!$P17)","v":{"$error":"#REF!"}},{"$error":"#REF!"}]
["90mm - 16,8kg  boltefritt lodd",16.8,null,{"$f":"SUM(Data!$C18+Beregning!$E$6*Data!$D18)","v":{"$error":"#REF!"}},{"$error":"#REF!"},{"$f":"SUM(Data!$E18+Beregning!$E$6*Data!$F18)","v":{"$error":"#REF!"}},{"$error":"#REF!"},{"$f":"(Data!$G18+Beregning!$E$6*Data!$H18)","v":{"$error":"#REF!"}},{"$error":"#REF!"},{"$f":"(Data!$I18+Beregning!$E$6*Data!$J18)","v":{"$error":"#REF!"}},{"$error":"#REF!"},{"$f":"(Data!$K18+Beregning!$E$6*Data!$L18)","v":{"$error":"#REF!"}},{"$error":"#REF!"},{"$f":"(Data!$M18+Beregning!$E$6*Data!$N18)","v":{"$error":"#REF!"}},{"$error":"#REF!"},{"$f":"(Data!$O18+Beregning!$E$6*Data!$P18)","v":{"$error":"#REF!"}},{"$error":"#REF!"}]
["110mm - 16,3kg  boltefritt lodd",16.3,null,{"$f":"SUM(Data!$C19+Beregning!$E$6*Data!$D19)","v":{"$error":"#REF!"}},{"$error":"#REF!"},{"$f":"SUM(Data!$E19+Beregning!$E$6*Data!$F19)","v":{"$error":"#REF!"}},{"$error":"#REF!"},{"$f":"(Data!$G19+Beregning!$E$6*Data!$H19)","v":{"$error":"#REF!"}},{"$error":"#REF!"},{"$f":"(Data!$I19+Beregning!$E$6*Data!$J19)","v":{"$error":"#REF!"}},{"$error":"#REF!"},{"$f":"(Data!$K19+Beregning!$E$6*Data!$L19)","v":{"$error":"#REF!"}},{"$error":"#REF!"},{"$f":"(Data!$M19+Beregning!$E$6*Data!$N19)","v":{"$error":"#REF!"}},{"$error":"#REF!"},{"$f":"(Data!$O19+Beregning!$E$6*Data!$P19)","v":{"$error":"#REF!"}},{"$error":"#REF!"}]
["125mm - 30kg  boltefritt lodd",30,null,{"$f":"SUM(Data!$C20+Beregning!$E$6*Data!$D20)","v":{"$error":"#REF!"}},{"$error":"#REF!"},{"$f":"SUM(Data!$E20+Beregning!$E$6*Data!$F20)","v":{"$error":"#REF!"}},{"$error":"#REF!"},{"$f":"(Data!$G20+Beregning!$E$6*Data!$H20)","v":{"$error":"#REF!"}},{"$error":"#REF!"},{"$f":"(Data!$I20+Beregning!$E$6*Data!$J20)","v":{"$error":"#REF!"}},{"$error":"#REF!"},{"$f":"(Data!$K20+Beregning!$E$6*Data!$L20)","v":{"$error":"#REF!"}},{"$error":"#REF!"},{"$f":"(Data!$M20+Beregning!$E$6*Data!$N20)","v":{"$error":"#REF!"}},{"$error":"#REF!"},{"$f":"(Data!$O20+Beregning!$E$6*Data!$P20)","v":{"$error":"#REF!"}},{"$error":"#REF!"}]
["140mm - 40kg  boltefritt lodd",40,null,{"$f":"SUM(Data!$C21+Beregning!$E$6*Data!$D21)","v":{"$error":"#REF!"}},{"$error":"#REF!"},{"$f":"SUM(Data!$E21+Beregning!$E$6*Data!$F21)","v":{"$error":"#REF!"}},{"$error":"#REF!"},{"$f":"(Data!$G21+Beregning!$E$6*Data!$H21)","v":{"$error":"#REF!"}},{"$error":"#REF!"},{"$f":"(Data!$I21+Beregning!$E$6*Data!$J21)","v":{"$error":"#REF!"}},{"$error":"#REF!"},{"$f":"(Data!$K21+Beregning!$E$6*Data!$L21)","v":{"$error":"#REF!"}},{"$error":"#REF!"},{"$f":"(Data!$M21+Beregning!$E$6*Data!$N21)","v":{"$error":"#REF!"}},{"$error":"#REF!"},{"$f":"(Data!$O21+Beregning!$E$6*Data!$P21)","v":{"$error":"#REF!"}},{"$error":"#REF!"}]
["160mm - 55kg  boltefritt lodd",55,null,{"$f":"SUM(Data!$C22+Beregning!$E$6*Data!$D22)","v":{"$error":"#REF!"}},{"$error":"#REF!"},{"$f":"SUM(Data!$E22+Beregning!$E$6*Data!$F22)","v":{"$error":"#REF!"}},{"$error":"#REF!"},{"$f":"(Data!$G22+Beregning!$E$6*Data!$H22)","v":{"$error":"#REF!"}},{"$error":"#REF!"},{"$f":"(Data!$I22+Beregning!$E$6*Data!$J22)","v":{"$error":"#REF!"}},{"$error":"#REF!"},{"$f":"(Data!$K22+Beregning!$E$6*Data!$L22)","v":{"$error":"#REF!"}},{"$error":"#REF!"},{"$f":"(Data!$M22+Beregning!$E$6*Data!$N22)","v":{"$error":"#REF!"}},{"$error":"#REF!"},{"$f":"(Data!$O22+Beregning!$E$6*Data!$P22)","v":{"$error":"#REF!"}},{"$error":"#REF!"}]
["160mm - 70kg boltefritt lodd",70,null,{"$f":"SUM(Data!$C23+Beregning!$E$6*Data!$D23)","v":{"$error":"#REF!"}},{"$f":"SUM(B23/D23)","v":{"$error":"#REF!"}},{"$f":"SUM(Data!$E23+Beregning!$E$6*Data!$F23)","v":{"$error":"#REF!"}},{"$f":"SUM(B23/F23)","v":{"$error":"#REF!"}},{"$f":"(Data!$G23+Beregning!$E$6*Data!$H23)","v":{"$error":"#REF!"}},{"$f":"SUM(B23/H23)","v":{"$error":"#REF!"}},{"$f":"(Data!$I23+Beregning!$E$6*Data!$J23)","v":{"$error":"#REF!"}},{"$f":"SUM(B23/J23)","v":{"$error":"#REF!"}},{"$f":"(Data!$K23+Beregning!$E$6*Data!$L23)","v":{"$error":"#REF!"}},{"$f":"SUM(B23/L23)","v":{"$error":"#REF!"}},{"$f":"(Data!$M23+Beregning!$E$6*Data!$N23)","v":{"$error":"#REF!"}},{"$f":"SUM(B23/N23)","v":{"$error":"#REF!"}},{"$f":"(Data!$O23+Beregning!$E$6*Data!$P23)","v":{"$error":"#REF!"}},{"$error":"#REF!"}]
["180mm - 70kg  boltefritt lodd",70,null,{"$f":"SUM(Data!$C24+Beregning!$E$6*Data!$D24)","v":{"$error":"#REF!"}},{"$error":"#REF!"},{"$f":"SUM(Data!$E24+Beregning!$E$6*Data!$F24)","v":{"$error":"#REF!"}},{"$error":"#REF!"},{"$f":"(Data!$G24+Beregning!$E$6*Data!$H24)","v":{"$error":"#REF!"}},{"$error":"#REF!"},{"$f":"(Data!$I24+Beregning!$E$6*Data!$J24)","v":{"$error":"#REF!"}},{"$error":"#REF!"},{"$f":"(Data!$K24+Beregning!$E$6*Data!$L24)","v":{"$error":"#REF!"}},{"$error":"#REF!"},{"$f":"(Data!$M24+Beregning!$E$6*Data!$N24)","v":{"$error":"#REF!"}},{"$error":"#REF!"},{"$f":"(Data!$O24+Beregning!$E$6*Data!$P24)","v":{"$error":"#REF!"}},{"$error":"#REF!"}]
["200mm - 90kg  boltefritt lodd",90,null,{"$f":"SUM(Data!$C25+Beregning!$E$6*Data!$D25)","v":{"$error":"#REF!"}},{"$error":"#REF!"},{"$f":"SUM(Data!$E25+Beregning!$E$6*Data!$F25)","v":{"$error":"#REF!"}},{"$error":"#REF!"},{"$f":"(Data!$G25+Beregning!$E$6*Data!$H25)","v":{"$error":"#REF!"}},{"$error":"#REF!"},{"$f":"(Data!$I25+Beregning!$E$6*Data!$J25)","v":{"$error":"#REF!"}},{"$error":"#REF!"},{"$f":"(Data!$K25+Beregning!$E$6*Data!$L25)","v":{"$error":"#REF!"}},{"$error":"#REF!"},{"$f":"(Data!$M25+Beregning!$E$6*Data!$N25)","v":{"$error":"#REF!"}},{"$error":"#REF!"},{"$f":"(Data!$O25+Beregning!$E$6*Data!$P25)","v":{"$error":"#REF!"}},{"$error":"#REF!"}]
["225mm - 106kg  boltefritt lodd",106,null,{"$f":"SUM(Data!$C26+Beregning!$E$6*Data!$D26)","v":{"$error":"#REF!"}},{"$error":"#REF!"},{"$f":"SUM(Data!$E26+Beregning!$E$6*Data!$F26)","v":{"$error":"#REF!"}},{"$error":"#REF!"},{"$f":"(Data!$G26+Beregning!$E$6*Data!$H26)","v":{"$error":"#REF!"}},{"$error":"#REF!"},{"$f":"(Data!$I26+Beregning!$E$6*Data!$J26)","v":{"$error":"#REF!"}},{"$error":"#REF!"},{"$f":"(Data!$K26+Beregning!$E$6*Data!$L26)","v":{"$error":"#REF!"}},{"$error":"#REF!"},{"$f":"(Data!$M26+Beregning!$E$6*Data!$N26)","v":{"$error":"#REF!"}},{"$error":"#REF!"},{"$f":"(Data!$O26+Beregning!$E$6*Data!$P26)","v":{"$error":"#REF!"}},{"$error":"#REF!"}]
["250mm - 125kg  boltefritt lodd",125,null,{"$f":"SUM(Data!$C27+Beregning!$E$6*Data!$D27)","v":{"$error":"#REF!"}},{"$error":"#REF!"},{"$f":"SUM(Data!$E27+Beregning!$E$6*Data!$F27)","v":{"$error":"#REF!"}},{"$error":"#REF!"},{"$f":"(Data!$G27+Beregning!$E$6*Data!$H27)","v":{"$error":"#REF!"}},{"$error":"#REF!"},{"$f":"(Data!$I27+Beregning!$E$6*Data!$J27)","v":{"$error":"#REF!"}},{"$error":"#REF!"},{"$f":"(Data!$K27+Beregning!$E$6*Data!$L27)","v":{"$error":"#REF!"}},{"$error":"#REF!"},{"$f":"(Data!$M27+Beregning!$E$6*Data!$N27)","v":{"$error":"#REF!"}},{"$error":"#REF!"},{"$f":"(Data!$O27+Beregning!$E$6*Data!$P27)","v":{"$error":"#REF!"}},{"$error":"#REF!"}]
["280mm - 165kg  boltefritt lodd",165,null,{"$f":"SUM(Data!$C28+Beregning!$E$6*Data!$D28)","v":{"$error":"#REF!"}},{"$error":"#REF!"},{"$f":"SUM(Data!$E28+Beregning!$E$6*Data!$F28)","v":{"$error":"#REF!"}},{"$error":"#REF!"},{"$f":"(Data!$G28+Beregning!$E$6*Data!$H28)","v":{"$error":"#REF!"}},{"$error":"#REF!"},{"$f":"(Data!$I28+Beregning!$E$6*Data!$J28)","v":{"$error":"#REF!"}},{"$error":"#REF!"},{"$f":"(Data!$K28+Beregning!$E$6*Data!$L28)","v":{"$error":"#REF!"}},{"$error":"#REF!"},{"$f":"(Data!$M28+Beregning!$E$6*Data!$N28)","v":{"$error":"#REF!"}},{"$error":"#REF!"},{"$f":"(Data!$O28+Beregning!$E$6*Data!$P28)","v":{"$error":"#REF!"}},{"$error":"#REF!"}]
["315mm - 210kg  boltefritt lodd",210,null,{"$f":"SUM(Data!$C29+Beregning!$E$6*Data!$D29)","v":{"$error":"#REF!"}},{"$error":"#REF!"},{"$f":"SUM(Data!$E29+Beregning!$E$6*Data!$F29)","v":{"$error":"#REF!"}},{"$error":"#REF!"},{"$f":"(Data!$G29+Beregning!$E$6*Data!$H29)","v":{"$error":"#REF!"}},{"$error":"#REF!"},{"$f":"(Data!$I29+Beregning!$E$6*Data!$J29)","v":{"$error":"#REF!"}},{"$error":"#REF!"},{"$f":"(Data!$K29+Beregning!$E$6*Data!$L29)","v":{"$error":"#REF!"}},{"$error":"#REF!"},{"$f":"(Data!$M29+Beregning!$E$6*Data!$N29)","v":{"$error":"#REF!"}},{"$error":"#REF!"},{"$f":"(Data!$O29+Beregning!$E$6*Data!$P29)","v":{"$error":"#REF!"}},{"$error":"#REF!"}]
["355mm - 256kg  boltefritt lodd",256,null,{"$f":"SUM(Data!$C30+Beregning!$E$6*Data!$D30)","v":{"$error":"#REF!"}},{"$error":"#REF!"},{"$f":"SUM(Data!$E30+Beregning!$E$6*Data!$F30)","v":{"$error":"#REF!"}},{"$error":"#REF!"},{"$f":"(Data!$G30+Beregning!$E$6*Data!$H30)","v":{"$error":"#REF!"}},{"$error":"#REF!"},{"$f":"(Data!$I30+Beregning!$E$6*Data!$J30)","v":{"$error":"#REF!"}},{"$error":"#REF!"},{"$f":"(Data!$K30+Beregning!$E$6*Data!$L30)","v":{"$error":"#REF!"}},{"$error":"#REF!"},{"$f":"(Data!$M30+Beregning!$E$6*Data!$N30)","v":{"$error":"#REF!"}},{"$error":"#REF!"},{"$f":"(Data!$O30+Beregning!$E$6*Data!$P30)","v":{"$error":"#REF!"}},{"$error":"#REF!"}]
["400mm - 300kg  boltefritt lodd",300,null,{"$f":"SUM(Data!$C31+Beregning!$E$6*Data!$D31)","v":{"$error":"#REF!"}},{"$error":"#REF!"},{"$f":"SUM(Data!$E31+Beregning!$E$6*Data!$F31)","v":{"$error":"#REF!"}},{"$error":"#REF!"},{"$f":"(Data!$G31+Beregning!$E$6*Data!$H31)","v":{"$error":"#REF!"}},{"$error":"#REF!"},{"$f":"(Data!$I31+Beregning!$E$6*Data!$J31)","v":{"$error":"#REF!"}},{"$error":"#REF!"},{"$f":"(Data!$K31+Beregning!$E$6*Data!$L31)","v":{"$error":"#REF!"}},{"$error":"#REF!"},{"$f":"(Data!$M31+Beregning!$E$6*Data!$N31)","v":{"$error":"#REF!"}},{"$error":"#REF!"},{"$f":"(Data!$O31+Beregning!$E$6*Data!$P31)","v":{"$error":"#REF!"}},{"$error":"#REF!"}]
["450mm - 400kg  boltefritt lodd",400,null,{"$f":"SUM(Data!$C32+Beregning!$E$6*Data!$D32)","v":{"$error":"#REF!"}},{"$error":"#REF!"},{"$f":"SUM(Data!$E32+Beregning!$E$6*Data!$F32)","v":{"$error":"#REF!"}},{"$error":"#REF!"},{"$f":"(Data!$G32+Beregning!$E$6*Data!$H32)","v":{"$error":"#REF!"}},{"$error":"#REF!"},{"$f":"(Data!$I32+Beregning!$E$6*Data!$J32)","v":{"$error":"#REF!"}},{"$error":"#REF!"},{"$f":"(Data!$K32+Beregning!$E$6*Data!$L32)","v":{"$error":"#REF!"}},{"$error":"#REF!"},{"$f":"(Data!$M32+Beregning!$E$6*Data!$N32)","v":{"$error":"#REF!"}},{"$error":"#REF!"},{"$f":"(Data!$O32+Beregning!$E$6*Data!$P32)","v":{"$error":"#REF!"}},{"$error":"#REF!"}]
["500mm - 720kg  boltefritt lodd",720,null,{"$f":"SUM(Data!$C33+Beregning!$E$6*Data!$D33)","v":{"$error":"#REF!"}},{"$error":"#REF!"},{"$f":"SUM(Data!$E33+Beregning!$E$6*Data!$F33)","v":{"$error":"#REF!"}},{"$error":"#REF!"},{"$f":"(Data!$G33+Beregning!$E$6*Data!$H33)","v":{"$error":"#REF!"}},{"$error":"#REF!"},{"$f":"(Data!$I33+Beregning!$E$6*Data!$J33)","v":{"$error":"#REF!"}},{"$error":"#REF!"},{"$f":"(Data!$K33+Beregning!$E$6*Data!$L33)","v":{"$error":"#REF!"}},{"$error":"#REF!"},{"$f":"(Data!$M33+Beregning!$E$6*Data!$N33)","v":{"$error":"#REF!"}},{"$error":"#REF!"},{"$f":"(Data!$O33+Beregning!$E$6*Data!$P33)","v":{"$error":"#REF!"}},{"$error":"#REF!"}]
["560mm - 830kg  boltefritt lodd",900,null,{"$f":"SUM(Data!$C34+Beregning!$E$6*Data!$D34)","v":{"$error":"#REF!"}},{"$error":"#REF!"},{"$f":"SUM(Data!$E34+Beregning!$E$6*Data!$F34)","v":{"$error":"#REF!"}},{"$error":"#REF!"},{"$f":"(Data!$G34+Beregning!$E$6*Data!$H34)","v":{"$error":"#REF!"}},{"$error":"#REF!"},{"$f":"(Data!$I34+Beregning!$E$6*Data!$J34)","v":{"$error":"#REF!"}},{"$error":"#REF!"},{"$f":"(Data!$K34+Beregning!$E$6*Data!$L34)","v":{"$error":"#REF!"}},{"$error":"#REF!"},{"$f":"(Data!$M34+Beregning!$E$6*Data!$N34)","v":{"$error":"#REF!"}},{"$error":"#REF!"},{"$f":"(Data!$O34+Beregning!$E$6*Data!$P34)","v":{"$error":"#REF!"}},{"$error":"#REF!"}]
["600mm - 1160kg  boltefritt lodd",1160,null,{"$f":"SUM(Data!#REF!+Beregning!$E$6*Data!#REF!)","v":{"$error":"#REF!"}},{"$f":"SUM(B35/D35)","v":{"$error":"#REF!"}},{"$f":"SUM(Data!#REF!+Beregning!$E$6*Data!#REF!)","v":{"$error":"#REF!"}},{"$f":"SUM(B35/F35)","v":{"$error":"#REF!"}},{"$f":"(Data!#REF!+Beregning!$E$6*Data!#REF!)","v":{"$error":"#REF!"}},{"$f":"SUM(B35/H35)","v":{"$error":"#REF!"}},{"$f":"(Data!#REF!+Beregning!$E$6*Data!#REF!)","v":{"$error":"#REF!"}},{"$f":"SUM(B35/J35)","v":{"$error":"#REF!"}},{"$f":"(Data!#REF!+Beregning!$E$6*Data!#REF!)","v":{"$error":"#REF!"}},{"$f":"SUM(B35/L35)","v":{"$error":"#REF!"}},{"$f":"(Data!#REF!+Beregning!$E$6*Data!#REF!)","v":{"$error":"#REF!"}},{"$f":"SUM(B35/N35)","v":{"$error":"#REF!"}},{"$f":"(Data!#REF!+Beregning!$E$6*Data!#REF!)","v":{"$error":"#REF!"}},{"$error":"#REF!"}]
["630mm - 900kg  boltefritt lodd",900,null,{"$f":"SUM(Data!$C35+Beregning!$E$6*Data!$D35)","v":{"$error":"#REF!"}},{"$error":"#REF!"},{"$f":"SUM(Data!$E35+Beregning!$E$6*Data!$F35)","v":{"$error":"#REF!"}},{"$error":"#REF!"},{"$f":"(Data!$G35+Beregning!$E$6*Data!$H35)","v":{"$error":"#REF!"}},{"$error":"#REF!"},{"$f":"(Data!$I35+Beregning!$E$6*Data!$J35)","v":{"$error":"#REF!"}},{"$error":"#REF!"},{"$f":"(Data!$K35+Beregning!$E$6*Data!$L35)","v":{"$error":"#REF!"}},{"$error":"#REF!"},{"$f":"(Data!$M35+Beregning!$E$6*Data!$N35)","v":{"$error":"#REF!"}},{"$error":"#REF!"},{"$f":"(Data!$O35+Beregning!$E$6*Data!$P35)","v":{"$error":"#REF!"}},{"$error":"#REF!"}]
["710mm - 1200kg  boltefritt lodd",1200,null,{"$f":"SUM(Data!$C36+Beregning!$E$6*Data!$D36)","v":{"$error":"#REF!"}},{"$error":"#REF!"},{"$f":"SUM(Data!$E36+Beregning!$E$6*Data!$F36)","v":{"$error":"#REF!"}},{"$error":"#REF!"},{"$f":"(Data!$G36+Beregning!$E$6*Data!$H36)","v":{"$error":"#REF!"}},{"$error":"#REF!"},{"$f":"(Data!$I36+Beregning!$E$6*Data!$J36)","v":{"$error":"#REF!"}},{"$error":"#REF!"},{"$f":"(Data!$K36+Beregning!$E$6*Data!$L36)","v":{"$error":"#REF!"}},{"$error":"#REF!"},{"$f":"(Data!$M36+Beregning!$E$6*Data!$N36)","v":{"$error":"#REF!"}},{"$error":"#REF!"},{"$f":"(Data!$O36+Beregning!$E$6*Data!$P36)","v":{"$error":"#REF!"}},{"$error":"#REF!"}]
["800mm - 1460kg  boltefritt lodd",1460,null,{"$f":"SUM(Data!$C37+Beregning!$E$6*Data!$D37)","v":{"$error":"#REF!"}},{"$error":"#REF!"},{"$f":"SUM(Data!$E37+Beregning!$E$6*Data!$F37)","v":{"$error":"#REF!"}},{"$error":"#REF!"},{"$f":"(Data!$G37+Beregning!$E$6*Data!$H37)","v":{"$error":"#REF!"}},{"$error":"#REF!"},{"$f":"(Data!$I37+Beregning!$E$6*Data!$J37)","v":{"$error":"#REF!"}},{"$error":"#REF!"},{"$f":"(Data!$K37+Beregning!$E$6*Data!$L37)","v":{"$error":"#REF!"}},{"$error":"#REF!"},{"$f":"(Data!$M37+Beregning!$E$6*Data!$N37)","v":{"$error":"#REF!"}},{"$error":"#REF!"},{"$f":"(Data!$O37+Beregning!$E$6*Data!$P37)","v":{"$error":"#REF!"}},{"$error":"#REF!"}]
["900mm - 1850kg  boltefritt lodd",1850,null,{"$f":"SUM(Data!$C38+Beregning!$E$6*Data!$D38)","v":{"$error":"#REF!"}},{"$error":"#REF!"},{"$f":"SUM(Data!$E38+Beregning!$E$6*Data!$F38)","v":{"$error":"#REF!"}},{"$error":"#REF!"},{"$f":"(Data!$G38+Beregning!$E$6*Data!$H38)","v":{"$error":"#REF!"}},{"$error":"#REF!"},{"$f":"(Data!$I38+Beregning!$E$6*Data!$J38)","v":{"$error":"#REF!"}},{"$error":"#REF!"},{"$f":"(Data!$K38+Beregning!$E$6*Data!$L38)","v":{"$error":"#REF!"}},{"$error":"#REF!"},{"$f":"(Data!$M38+Beregning!$E$6*Data!$N38)","v":{"$error":"#REF!"}},{"$error":"#REF!"},{"$f":"(Data!$O38+Beregning!$E$6*Data!$P38)","v":{"$error":"#REF!"}},{"$error":"#REF!"}]
[null,null,null,null,"<-Skriv kun her",null,null,null,"SDR26",{"$f":"(VLOOKUP(Beregning!$E$8,$A$5:$O$207,4,FALSE)*Beregning!$E$10)/(VLOOKUP(Beregning!$E$8,$A$5:$O$203,2,FALSE))","v":{"$error":"#REF!"}},{"$f":"Beregning!$E$10*(VLOOKUP(Beregning!$E$8,$A$5:$O$207,4,FALSE))","v":{"$error":"#REF!"}}]
[null,null,null,null,"<-Skriv kun her",null,null,null,"SDR21",{"$f":"(VLOOKUP(Beregning!$E$8,$A$5:$O$207,6,FALSE)*Beregning!$E$10)/(VLOOKUP(Beregning!$E$8,$A$5:$O$203,2,FALSE))","v":{"$error":"#REF!"}},{"$f":"Beregning!$E$10*(VLOOKUP(Beregning!$E$8,$A$5:$O$207,6,FALSE))","v":{"$error":"#REF!"}}]
[null,null,null,null,"<-Skriv kun her",null,null,null,"SDR17",{"$f":"(VLOOKUP(Beregning!$E$8,$A$5:$O$207,8,FALSE)*Beregning!$E$10)/(VLOOKUP(Beregning!$E$8,$A$5:$O$203,2,FALSE))","v":{"$error":"#REF!"}},{"$f":"Beregning!$E$10*(VLOOKUP(Beregning!$E$8,$A$5:$O$207,8,FALSE))","v":{"$error":"#REF!"}}]
[null,null,null,null,"<-Skriv kun her",null,null,null,"SDR13,6",{"$f":"(VLOOKUP(Beregning!$E$8,$A$5:$O$207,10,FALSE)*Beregning!$E$10)/(VLOOKUP(Beregning!$E$8,$A$5:$O$203,2,FALSE))","v":{"$error":"#REF!"}},{"$f":"Beregning!$E$10*(VLOOKUP(Beregning!$E$8,$A$5:$O$207,10,FALSE))","v":{"$error":"#REF!"}}]
[null,null,null,null,null,null,null,null,"SDR11",{"$f":"(VLOOKUP(Beregning!$E$8,$A$5:$O$207,12,FALSE)*Beregning!$E$10)/(VLOOKUP(Beregning!$E$8,$A$5:$O$203,2,FALSE))","v":{"$error":"#REF!"}},{"$f":"Beregning!$E$10*(VLOOKUP(Beregning!$E$8,$A$5:$O$207,12,FALSE))","v":{"$error":"#REF!"}}]
[null,null,null,null,null,null,null,null,"SDR9",{"$f":"(VLOOKUP(Beregning!$E$8,$A$5:$O$207,14,FALSE)*Beregning!$E$10)/(VLOOKUP(Beregning!$E$8,$A$5:$O$203,2,FALSE))","v":{"$error":"#REF!"}},{"$f":"Beregning!$E$10*(VLOOKUP(Beregning!$E$8,$A$5:$O$207,14,FALSE))","v":{"$error":"#REF!"}}]
[null,null,null,null,null,null,null,null,"SDR7,4",{"$f":"(VLOOKUP(Beregning!$E$8,$A$5:$Q$207,16,FALSE)*Beregning!$E$10)/(VLOOKUP(Beregning!$E$8,$A$5:$Q$203,2,FALSE))","v":{"$error":"#REF!"}},{"$f":"Beregning!$E$10*(VLOOKUP(Beregning!$E$8,$A$5:$Q$207,16,FALSE))","v":{"$error":"#REF!"}}]
[null,null,null,"Det er ikke medregnet strøm og bølgekrefter."]
[null,null,null,"Normale luftfyllingsgrader:"]
[null,null,null,"Vannledninger og inntaksledninger: 20 - 40 % (P: 0,2 - 0,4)"]
[null,null,null,"Utslippsledninger: 30 - 50 % (P: 0,3 - 0,5)"]
[null,null,null,"Spillvann med jevn belastning, kort oppholdstid: 30 - 70 % (P: 0,3 - 0,7)"]
[null,null,null,"Spillvann med ujevn belastning, lang oppholdstid: Må vurderes i hvert enkelt tilfelle"]
["Ved luftfylling/belastningsgrad over 90 % bør man utføre mer nøyaktige beregninger."]
[]
[null,null,null,"Tabellen er laget ut i fra Pipelife sin tabell på PE rør, og tatt i fra \"Rørhåndboka\" som "]
[null,null,null,"finnes her: http://www.initio.no/filer/pipelife/Dokumenter/5_1.pdf"]
["Østraadt Rør Gruppen står ikke ansvarlig for dimensjoneringer av sjøledninger."]

{"sheet":"Data","index":3,"n_rows":38,"n_cols":16,"rows_kept":38,"cut":false,"hidden":false,"merged":[[0,14,0,15],[0,2,0,3],[0,4,0,5],[0,6,0,7],[0,8,0,9],[0,10,0,11],[0,12,0,13]]}
["SDR",null,26,null,21,null,17,null,13.6,null,11,null,9,null,7.4]
[]
["Størrelse","vekt i kg"," "," "," "," "," "," "," "," "," "," "," "," "]
[]
[32,4,null,null,null,null,{"$f":"INDEX(INDIRECT(Lister!$Q$4),MATCH($A5,INDIRECT(Lister!$Q$4&\"!$A:$A\"),0),MATCH(G$1,INDIRECT(Lister!$Q$4&\"!$2:$2\"),0))","v":{"$error":"#REF!"}},{"$f":"INDEX(INDIRECT(Lister!$Q$4),MATCH($A5,INDIRECT(Lister!$Q$4&\"!$A:$A\"),0),MATCH(G$1&\"l\",INDIRECT(Lister!$Q$4&\"!$2:$2\"),0))","v":{"$error":"#REF!"}},{"$f":"INDEX(INDIRECT(Lister!$Q$4),MATCH($A5,INDIRECT(Lister!$Q$4&\"!$A:$A\"),0),MATCH(I$1,INDIRECT(Lister!$Q$4&\"!$2:$2\"),0))","v":{"$error":"#REF!"}},{"$f":"INDEX(INDIRECT(Lister!$Q$4),MATCH($A5,INDIRECT(Lister!$Q$4&\"!$A:$A\"),0),MATCH(I$1&\"l\",INDIRECT(Lister!$Q$4&\"!$2:$2\"),0))","v":{"$error":"#REF!"}},{"$f":"INDEX(INDIRECT(Lister!$Q$4),MATCH($A5,INDIRECT(Lister!$Q$4&\"!$A:$A\"),0),MATCH(K$1,INDIRECT(Lister!$Q$4&\"!$2:$2\"),0))","v":{"$error":"#REF!"}},{"$f":"INDEX(INDIRECT(Lister!$Q$4),MATCH($A5,INDIRECT(Lister!$Q$4&\"!$A:$A\"),0),MATCH(K$1&\"l\",INDIRECT(Lister!$Q$4&\"!$2:$2\"),0))","v":{"$error":"#REF!"}},{"$f":"INDEX(INDIRECT(Lister!$Q$4),MATCH($A5,INDIRECT(Lister!$Q$4&\"!$A:$A\"),0),MATCH(M$1,INDIRECT(Lister!$Q$4&\"!$2:$2\"),0))","v":{"$error":"#REF!"}},{"$f":"INDEX(INDIRECT(Lister!$Q$4),MATCH($A5,INDIRECT(Lister!$Q$4&\"!$A:$A\"),0),MATCH(M$1&\"l\",INDIRECT(Lister!$Q$4&\"!$2:$2\"),0))","v":{"$error":"#REF!"}},{"$f":"INDEX(INDIRECT(Lister!$Q$4),MATCH($A5,INDIRECT(Lister!$Q$4&\"!$A:$A\"),0),MATCH(O$1,INDIRECT(Lister!$Q$4&\"!$2:$2\"),0))","v":{"$error":"#REF!"}},{"$f":"INDEX(INDIRECT(Lister!$Q$4),MATCH($A5,INDIRECT(Lister!$Q$4&\"!$A:$A\"),0),MATCH(O$1&\"l\",INDIRECT(Lister!$Q$4&\"!$2:$2\"),0))","v":{"$error":"#REF!"}}]
[40,4,null,null,{"$f":"INDEX(INDIRECT(Lister!$Q$4),MATCH($A6,INDIRECT(Lister!$Q$4&\"!$A:$A\"),0),MATCH(E$1,INDIRECT(Lister!$Q$4&\"!$2:$2\"),0))","v":{"$error":"#REF!"}},{"$f":"INDEX(INDIRECT(Lister!$Q$4),MATCH($A6,INDIRECT(Lister!$Q$4&\"!$A:$A\"),0),MATCH(E$1&\"l\",INDIRECT(Lister!$Q$4&\"!$2:$2\"),0))","v":{"$error":"#REF!"}},{"$f":"INDEX(INDIRECT(Lister!$Q$4),MATCH($A6,INDIRECT(Lister!$Q$4&\"!$A:$A\"),0),MATCH(G$1,INDIRECT(Lister!$Q$4&\"!$2:$2\"),0))","v":{"$error":"#REF!"}},{"$f":"INDEX(INDIRECT(Lister!$Q$4),MATCH($A6,INDIRECT(Lister!$Q$4&\"!$A:$A\"),0),MATCH(G$1&\"l\",INDIRECT(Lister!$Q$4&\"!$2:$2\"),0))","v":{"$error":"#REF!"}},{"$f":"INDEX(INDIRECT(Lister!$Q$4),MATCH($A6,INDIRECT(Lister!$Q$4&\"!$A:$A\"),0),MATCH(I$1,INDIRECT(Lister!$Q$4&\"!$2:$2\"),0))","v":{"$error":"#REF!"}},{"$f":"INDEX(INDIRECT(Lister!$Q$4),MATCH($A6,INDIRECT(Lister!$Q$4&\"!$A:$A\"),0),MATCH(I$1&\"l\",INDIRECT(Lister!$Q$4&\"!$2:$2\"),0))","v":{"$error":"#REF!"}},{"$f":"INDEX(INDIRECT(Lister!$Q$4),MATCH($A6,INDIRECT(Lister!$Q$4&\"!$A:$A\"),0),MATCH(K$1,INDIRECT(Lister!$Q$4&\"!$2:$2\"),0))","v":{"$error":"#REF!"}},{"$f":"INDEX(INDIRECT(Lister!$Q$4),MATCH($A6,INDIRECT(Lister!$Q$4&\"!$A:$A\"),0),MATCH(K$1&\"l\",INDIRECT(Lister!$Q$4&\"!$2:$2\"),0))","v":{"$error":"#REF!"}},{"$f":"INDEX(INDIRECT(Lister!$Q$4),MATCH($A6,INDIRECT(Lister!$Q$4&\"!$A:$A\"),0),MATCH(M$1,INDIRECT(Lister!$Q$4&\"!$2:$2\"),0))","v":{"$error":"#REF!"}},{"$f":"INDEX(INDIRECT(Lister!$Q$4),MATCH($A6,INDIRECT(Lister!$Q$4&\"!$A:$A\"),0),MATCH(M$1&\"l\",INDIRECT(Lister!$Q$4&\"!$2:$2\"),0))","v":{"$error":"#REF!"}},{"$f":"INDEX(INDIRECT(Lister!$Q$4),MATCH($A6,INDIRECT(Lister!$Q$4&\"!$A:$A\"),0),MATCH(O$1,INDIRECT(Lister!$Q$4&\"!$2:$2\"),0))","v":{"$error":"#REF!"}},{"$f":"INDEX(INDIRECT(Lister!$Q$4),MATCH($A6,INDIRECT(Lister!$Q$4&\"!$A:$A\"),0),MATCH(O$1&\"l\",INDIRECT(Lister!$Q$4&\"!$2:$2\"),0))","v":{"$error":"#REF!"}}]
[40,6,null,null,{"$f":"INDEX(INDIRECT(Lister!$Q$4),MATCH($A7,INDIRECT(Lister!$Q$4&\"!$A:$A\"),0),MATCH(E$1,INDIRECT(Lister!$Q$4&\"!$2:$2\"),0))","v":{"$error":"#REF!"}},{"$f":"INDEX(INDIRECT(Lister!$Q$4),MATCH($A7,INDIRECT(Lister!$Q$4&\"!$A:$A\"),0),MATCH(E$1&\"l\",INDIRECT(Lister!$Q$4&\"!$2:$2\"),0))","v":{"$error":"#REF!"}},{"$f":"INDEX(INDIRECT(Lister!$Q$4),MATCH($A7,INDIRECT(Lister!$Q$4&\"!$A:$A\"),0),MATCH(G$1,INDIRECT(Lister!$Q$4&\"!$2:$2\"),0))","v":{"$error":"#REF!"}},{"$f":"INDEX(INDIRECT(Lister!$Q$4),MATCH($A7,INDIRECT(Lister!$Q$4&\"!$A:$A\"),0),MATCH(G$1&\"l\",INDIRECT(Lister!$Q$4&\"!$2:$2\"),0))","v":{"$error":"#REF!"}},{"$f":"INDEX(INDIRECT(Lister!$Q$4),MATCH($A7,INDIRECT(Lister!$Q$4&\"!$A:$A\"),0),MATCH(I$1,INDIRECT(Lister!$Q$4&\"!$2:$2\"),0))","v":{"$error":"#REF!"}},{"$f":"INDEX(INDIRECT(Lister!$Q$4),MATCH($A7,INDIRECT(Lister!$Q$4&\"!$A:$A\"),0),MATCH(I$1&\"l\",INDIRECT(Lister!$Q$4&\"!$2:$2\"),0))","v":{"$error":"#REF!"}},{"$f":"INDEX(INDIRECT(Lister!$Q$4),MATCH($A7,INDIRECT(Lister!$Q$4&\"!$A:$A\"),0),MATCH(K$1,INDIRECT(Lister!$Q$4&\"!$2:$2\"),0))","v":{"$error":"#REF!"}},{"$f":"INDEX(INDIRECT(Lister!$Q$4),MATCH($A7,INDIRECT(Lister!$Q$4&\"!$A:$A\"),0),MATCH(K$1&\"l\",INDIRECT(Lister!$Q$4&\"!$2:$2\"),0))","v":{"$error":"#REF!"}},{"$f":"INDEX(INDIRECT(Lister!$Q$4),MATCH($A7,INDIRECT(Lister!$Q$4&\"!$A:$A\"),0),MATCH(M$1,INDIRECT(Lister!$Q$4&\"!$2:$2\"),0))","v":{"$error":"#REF!"}},{"$f":"INDEX(INDIRECT(Lister!$Q$4),MATCH($A7,INDIRECT(Lister!$Q$4&\"!$A:$A\"),0),MATCH(M$1&\"l\",INDIRECT(Lister!$Q$4&\"!$2:$2\"),0))","v":{"$error":"#REF!"}},{"$f":"INDEX(INDIRECT(Lister!$Q$4),MATCH($A7,INDIRECT(Lister!$Q$4&\"!$A:$A\"),0),MATCH(O$1,INDIRECT(Lister!$Q$4&\"!$2:$2\"),0))","v":{"$error":"#REF!"}},{"$f":"INDEX(INDIRECT(Lister!$Q$4),MATCH($A7,INDIRECT(Lister!$Q$4&\"!$A:$A\"),0),MATCH(O$1&\"l\",INDIRECT(Lister!$Q$4&\"!$2:$2\"),0))","v":{"$error":"#REF!"}}]
[40,8.5,null,null,{"$f":"INDEX(INDIRECT(Lister!$Q$4),MATCH($A8,INDIRECT(Lister!$Q$4&\"!$A:$A\"),0),MATCH(E$1,INDIRECT(Lister!$Q$4&\"!$2:$2\"),0))","v":{"$error":"#REF!"}},{"$f":"INDEX(INDIRECT(Lister!$Q$4),MATCH($A8,INDIRECT(Lister!$Q$4&\"!$A:$A\"),0),MATCH(E$1&\"l\",INDIRECT(Lister!$Q$4&\"!$2:$2\"),0))","v":{"$error":"#REF!"}},{"$f":"INDEX(INDIRECT(Lister!$Q$4),MATCH($A8,INDIRECT(Lister!$Q$4&\"!$A:$A\"),0),MATCH(G$1,INDIRECT(Lister!$Q$4&\"!$2:$2\"),0))","v":{"$error":"#REF!"}},{"$f":"INDEX(INDIRECT(Lister!$Q$4),MATCH($A8,INDIRECT(Lister!$Q$4&\"!$A:$A\"),0),MATCH(G$1&\"l\",INDIRECT(Lister!$Q$4&\"!$2:$2\"),0))","v":{"$error":"#REF!"}},{"$f":"INDEX(INDIRECT(Lister!$Q$4),MATCH($A8,INDIRECT(Lister!$Q$4&\"!$A:$A\"),0),MATCH(I$1,INDIRECT(Lister!$Q$4&\"!$2:$2\"),0))","v":{"$error":"#REF!"}},{"$f":"INDEX(INDIRECT(Lister!$Q$4),MATCH($A8,INDIRECT(Lister!$Q$4&\"!$A:$A\"),0),MATCH(I$1&\"l\",INDIRECT(Lister!$Q$4&\"!$2:$2\"),0))","v":{"$error":"#REF!"}},{"$f":"INDEX(INDIRECT(Lister!$Q$4),MATCH($A8,INDIRECT(Lister!$Q$4&\"!$A:$A\"),0),MATCH(K$1,INDIRECT(Lister!$Q$4&\"!$2:$2\"),0))","v":{"$error":"#REF!"}},{"$f":"INDEX(INDIRECT(Lister!$Q$4),MATCH($A8,INDIRECT(Lister!$Q$4&\"!$A:$A\"),0),MATCH(K$1&\"l\",INDIRECT(Lister!$Q$4&\"!$2:$2\"),0))","v":{"$error":"#REF!"}},{"$f":"INDEX(INDIRECT(Lister!$Q$4),MATCH($A8,INDIRECT(Lister!$Q$4&\"!$A:$A\"),0),MATCH(M$1,INDIRECT(Lister!$Q$4&\"!$2:$2\"),0))","v":{"$error":"#REF!"}},{"$f":"INDEX(INDIRECT(Lister!$Q$4),MATCH($A8,INDIRECT(Lister!$Q$4&\"!$A:$A\"),0),MATCH(M$1&\"l\",INDIRECT(Lister!$Q$4&\"!$2:$2\"),0))","v":{"$error":"#REF!"}},{"$f":"INDEX(INDIRECT(Lister!$Q$4),MATCH($A8,INDIRECT(Lister!$Q$4&\"!$A:$A\"),0),MATCH(O$1,INDIRECT(Lister!$Q$4&\"!$2:$2\"),0))","v":{"$error":"#REF!"}},{"$f":"INDEX(INDIRECT(Lister!$Q$4),MATCH($A8,INDIRECT(Lister!$Q$4&\"!$A:$A\"),0),MATCH(O$1&\"l\",INDIRECT(Lister!$Q$4&\"!$2:$2\"),0))","v":{"$error":"#REF!"}}]
[50,4,{"$f":"INDEX(INDIRECT(Lister!$Q$4),MATCH($A9,INDIRECT(Lister!$Q$4&\"!$A:$A\"),0),MATCH(C$1,INDIRECT(Lister!$Q$4&\"!$2:$2\"),0))","v":{"$error":"#REF!"}},{"$f":"INDEX(INDIRECT(Lister!$Q$4),MATCH($A9,INDIRECT(Lister!$Q$4&\"!$A:$A\"),0),MATCH(C$1&\"l\",INDIRECT(Lister!$Q$4&\"!$2:$2\"),0))","v":{"$error":"#REF!"}},{"$f":"INDEX(INDIRECT(Lister!$Q$4),MATCH($A9,INDIRECT(Lister!$Q$4&\"!$A:$A\"),0),MATCH(E$1,INDIRECT(Lister!$Q$4&\"!$2:$2\"),0))","v":{"$error":"#REF!"}},{"$f":"INDEX(INDIRECT(Lister!$Q$4),MATCH($A9,INDIRECT(Lister!$Q$4&\"!$A:$A\"),0),MATCH(E$1&\"l\",INDIRECT(Lister!$Q$4&\"!$2:$2\"),0))","v":{"$error":"#REF!"}},{"$f":"INDEX(INDIRECT(Lister!$Q$4),MATCH($A9,INDIRECT(Lister!$Q$4&\"!$A:$A\"),0),MATCH(G$1,INDIRECT(Lister!$Q$4&\"!$2:$2\"),0))","v":{"$error":"#REF!"}},{"$f":"INDEX(INDIRECT(Lister!$Q$4),MATCH($A9,INDIRECT(Lister!$Q$4&\"!$A:$A\"),0),MATCH(G$1&\"l\",INDIRECT(Lister!$Q$4&\"!$2:$2\"),0))","v":{"$error":"#REF!"}},{"$f":"INDEX(INDIRECT(Lister!$Q$4),MATCH($A9,INDIRECT(Lister!$Q$4&\"!$A:$A\"),0),MATCH(I$1,INDIRECT(Lister!$Q$4&\"!$2:$2\"),0))","v":{"$error":"#REF!"}},{"$f":"INDEX(INDIRECT(Lister!$Q$4),MATCH($A9,INDIRECT(Lister!$Q$4&\"!$A:$A\"),0),MATCH(I$1&\"l\",INDIRECT(Lister!$Q$4&\"!$2:$2\"),0))","v":{"$error":"#REF!"}},{"$f":"INDEX(INDIRECT(Lister!$Q$4),MATCH($A9,INDIRECT(Lister!$Q$4&\"!$A:$A\"),0),MATCH(K$1,INDIRECT(Lister!$Q$4&\"!$2:$2\"),0))","v":{"$error":"#REF!"}},{"$f":"INDEX(INDIRECT(Lister!$Q$4),MATCH($A9,INDIRECT(Lister!$Q$4&\"!$A:$A\"),0),MATCH(K$1&\"l\",INDIRECT(Lister!$Q$4&\"!$2:$2\"),0))","v":{"$error":"#REF!"}},{"$f":"INDEX(INDIRECT(Lister!$Q$4),MATCH($A9,INDIRECT(Lister!$Q$4&\"!$A:$A\"),0),MATCH(M$1,INDIRECT(Lister!$Q$4&\"!$2:$2\"),0))","v":{"$error":"#REF!"}},{"$f":"INDEX(INDIRECT(Lister!$Q$4),MATCH($A9,INDIRECT(Lister!$Q$4&\"!$A:$A\"),0),MATCH(M$1&\"l\",INDIRECT(Lister!$Q$4&\"!$2:$2\"),0))","v":{"$error":"#REF!"}},{"$f":"INDEX(INDIRECT(Lister!$Q$4),MATCH($A9,INDIRECT(Lister!$Q$4&\"!$A:$A\"),0),MATCH(O$1,INDIRECT(Lister!$Q$4&\"!$2:$2\"),0))","v":{"$error":"#REF!"}},{"$f":"INDEX(INDIRECT(Lister!$Q$4),MATCH($A9,INDIRECT(Lister!$Q$4&\"!$A:$A\"),0),MATCH(O$1&\"l\",INDIRECT(Lister!$Q$4&\"!$2:$2\"),0))","v":{"$error":"#REF!"}}]
[50,6,{"$f":"INDEX(INDIRECT(Lister!$Q$4),MATCH($A10,INDIRECT(Lister!$Q$4&\"!$A:$A\"),0),MATCH(C$1,INDIRECT(Lister!$Q$4&\"!$2:$2\"),0))","v":{"$error":"#REF!"}},{"$f":"INDEX(INDIRECT(Lister!$Q$4),MATCH($A10,INDIRECT(Lister!$Q$4&\"!$A:$A\"),0),MATCH(C$1&\"l\",INDIRECT(Lister!$Q$4&\"!$2:$2\"),0))","v":{"$error":"#REF!"}},{"$f":"INDEX(INDIRECT(Lister!$Q$4),MATCH($A10,INDIRECT(Lister!$Q$4&\"!$A:$A\"),0),MATCH(E$1,INDIRECT(Lister!$Q$4&\"!$2:$2\"),0))","v":{"$error":"#REF!"}},{"$f":"INDEX(INDIRECT(Lister!$Q$4),MATCH($A10,INDIRECT(Lister!$Q$4&\"!$A:$A\"),0),MATCH(E$1&\"l\",INDIRECT(Lister!$Q$4&\"!$2:$2\"),0))","v":{"$error":"#REF!"}},{"$f":"INDEX(INDIRECT(Lister!$Q$4),MATCH($A10,INDIRECT(Lister!$Q$4&\"!$A:$A\"),0),MATCH(G$1,INDIRECT(Lister!$Q$4&\"!$2:$2\"),0))","v":{"$error":"#REF!"}},{"$f":"INDEX(INDIRECT(Lister!$Q$4),MATCH($A10,INDIRECT(Lister!$Q$4&\"!$A:$A\"),0),MATCH(G$1&\"l\",INDIRECT(Lister!$Q$4&\"!$2:$2\"),0))","v":{"$error":"#REF!"}},{"$f":"INDEX(INDIRECT(Lister!$Q$4),MATCH($A10,INDIRECT(Lister!$Q$4&\"!$A:$A\"),0),MATCH(I$1,INDIRECT(Lister!$Q$4&\"!$2:$2\"),0))","v":{"$error":"#REF!"}},{"$f":"INDEX(INDIRECT(Lister!$Q$4),MATCH($A10,INDIRECT(Lister!$Q$4&\"!$A:$A\"),0),MATCH(I$1&\"l\",INDIRECT(Lister!$Q$4&\"!$2:$2\"),0))","v":{"$error":"#REF!"}},{"$f":"INDEX(INDIRECT(Lister!$Q$4),MATCH($A10,INDIRECT(Lister!$Q$4&\"!$A:$A\"),0),MATCH(K$1,INDIRECT(Lister!$Q$4&\"!$2:$2\"),0))","v":{"$error":"#REF!"}},{"$f":"INDEX(INDIRECT(Lister!$Q$4),MATCH($A10,INDIRECT(Lister!$Q$4&\"!$A:$A\"),0),MATCH(K$1&\"l\",INDIRECT(Lister!$Q$4&\"!$2:$2\"),0))","v":{"$error":"#REF!"}},{"$f":"INDEX(INDIRECT(Lister!$Q$4),MATCH($A10,INDIRECT(Lister!$Q$4&\"!$A:$A\"),0),MATCH(M$1,INDIRECT(Lister!$Q$4&\"!$2:$2\"),0))","v":{"$error":"#REF!"}},{"$f":"INDEX(INDIRECT(Lister!$Q$4),MATCH($A10,INDIRECT(Lister!$Q$4&\"!$A:$A\"),0),MATCH(M$1&\"l\",INDIRECT(Lister!$Q$4&\"!$2:$2\"),0))","v":{"$error":"#REF!"}},{"$f":"INDEX(INDIRECT(Lister!$Q$4),MATCH($A10,INDIRECT(Lister!$Q$4&\"!$A:$A\"),0),MATCH(O$1,INDIRECT(Lister!$Q$4&\"!$2:$2\"),0))","v":{"$error":"#REF!"}},{"$f":"INDEX(INDIRECT(Lister!$Q$4),MATCH($A10,INDIRECT(Lister!$Q$4&\"!$A:$A\"),0),MATCH(O$1&\"l\",INDIRECT(Lister!$Q$4&\"!$2:$2\"),0))","v":{"$error":"#REF!"}}]
[50,8.5,{"$f":"INDEX(INDIRECT(Lister!$Q$4),MATCH($A11,INDIRECT(Lister!$Q$4&\"!$A:$A\"),0),MATCH(C$1,INDIRECT(Lister!$Q$4&\"!$2:$2\"),0))","v":{"$error":"#REF!"}},{"$f":"INDEX(INDIRECT(Lister!$Q$4),MATCH($A11,INDIRECT(Lister!$Q$4&\"!$A:$A\"),0),MATCH(C$1&\"l\",INDIRECT(Lister!$Q$4&\"!$2:$2\"),0))","v":{"$error":"#REF!"}},{"$f":"INDEX(INDIRECT(Lister!$Q$4),MATCH($A11,INDIRECT(Lister!$Q$4&\"!$A:$A\"),0),MATCH(E$1,INDIRECT(Lister!$Q$4&\"!$2:$2\"),0))","v":{"$error":"#REF!"}},{"$f":"INDEX(INDIRECT(Lister!$Q$4),MATCH($A11,INDIRECT(Lister!$Q$4&\"!$A:$A\"),0),MATCH(E$1&\"l\",INDIRECT(Lister!$Q$4&\"!$2:$2\"),0))","v":{"$error":"#REF!"}},{"$f":"INDEX(INDIRECT(Lister!$Q$4),MATCH($A11,INDIRECT(Lister!$Q$4&\"!$A:$A\"),0),MATCH(G$1,INDIRECT(Lister!$Q$4&\"!$2:$2\"),0))","v":{"$error":"#REF!"}},{"$f":"INDEX(INDIRECT(Lister!$Q$4),MATCH($A11,INDIRECT(Lister!$Q$4&\"!$A:$A\"),0),MATCH(G$1&\"l\",INDIRECT(Lister!$Q$4&\"!$2:$2\"),0))","v":{"$error":"#REF!"}},{"$f":"INDEX(INDIRECT(Lister!$Q$4),MATCH($A11,INDIRECT(Lister!$Q$4&\"!$A:$A\"),0),MATCH(I$1,INDIRECT(Lister!$Q$4&\"!$2:$2\"),0))","v":{"$error":"#REF!"}},{"$f":"INDEX(INDIRECT(Lister!$Q$4),MATCH($A11,INDIRECT(Lister!$Q$4&\"!$A:$A\"),0),MATCH(I$1&\"l\",INDIRECT(Lister!$Q$4&\"!$2:$2\"),0))","v":{"$error":"#REF!"}},{"$f":"INDEX(INDIRECT(Lister!$Q$4),MATCH($A11,INDIRECT(Lister!$Q$4&\"!$A:$A\"),0),MATCH(K$1,INDIRECT(Lister!$Q$4&\"!$2:$2\"),0))","v":{"$error":"#REF!"}},{"$f":"INDEX(INDIRECT(Lister!$Q$4),MATCH($A11,INDIRECT(Lister!$Q$4&\"!$A:$A\"),0),MATCH(K$1&\"l\",INDIRECT(Lister!$Q$4&\"!$2:$2\"),0))","v":{"$error":"#REF!"}},{"$f":"INDEX(INDIRECT(Lister!$Q$4),MATCH($A11,INDIRECT(Lister!$Q$4&\"!$A:$A\"),0),MATCH(M$1,INDIRECT(Lister!$Q$4&\"!$2:$2\"),0))","v":{"$error":"#REF!"}},{"$f":"INDEX(INDIRECT(Lister!$Q$4),MATCH($A11,INDIRECT(Lister!$Q$4&\"!$A:$A\"),0),MATCH(M$1&\"l\",INDIRECT(Lister!$Q$4&\"!$2:$2\"),0))","v":{"$error":"#REF!"}},{"$f":"INDEX(INDIRECT(Lister!$Q$4),MATCH($A11,INDIRECT(Lister!$Q$4&\"!$A:$A\"),0),MATCH(O$1,INDIRECT(Lister!$Q$4&\"!$2:$2\"),0))","v":{"$error":"#REF!"}},{"$f":"INDEX(INDIRECT(Lister!$Q$4),MATCH($A11,INDIRECT(Lister!$Q$4&\"!$A:$A\"),0),MATCH(O$1&\"l\",INDIRECT(Lister!$Q$4&\"!$2:$2\"),0))","v":{"$error":"#REF!"}}]
[63,4,{"$f":"INDEX(INDIRECT(Lister!$Q$4),MATCH($A12,INDIRECT(Lister!$Q$4&\"!$A:$A\"),0),MATCH(C$1,INDIRECT(Lister!$Q$4&\"!$2:$2\"),0))","v":{"$error":"#REF!"}},{"$f":"INDEX(INDIRECT(Lister!$Q$4),MATCH($A12,INDIRECT(Lister!$Q$4&\"!$A:$A\"),0),MATCH(C$1&\"l\",INDIRECT(Lister!$Q$4&\"!$2:$2\"),0))","v":{"$error":"#REF!"}},{"$f":"INDEX(INDIRECT(Lister!$Q$4),MATCH($A12,INDIRECT(Lister!$Q$4&\"!$A:$A\"),0),MATCH(E$1,INDIRECT(Lister!$Q$4&\"!$2:$2\"),0))","v":{"$error":"#REF!"}},{"$f":"INDEX(INDIRECT(Lister!$Q$4),MATCH($A12,INDIRECT(Lister!$Q$4&\"!$A:$A\"),0),MATCH(E$1&\"l\",INDIRECT(Lister!$Q$4&\"!$2:$2\"),0))","v":{"$error":"#REF!"}},{"$f":"INDEX(INDIRECT(Lister!$Q$4),MATCH($A12,INDIRECT(Lister!$Q$4&\"!$A:$A\"),0),MATCH(G$1,INDIRECT(Lister!$Q$4&\"!$2:$2\"),0))","v":{"$error":"#REF!"}},{"$f":"INDEX(INDIRECT(Lister!$Q$4),MATCH($A12,INDIRECT(Lister!$Q$4&\"!$A:$A\"),0),MATCH(G$1&\"l\",INDIRECT(Lister!$Q$4&\"!$2:$2\"),0))","v":{"$error":"#REF!"}},{"$f":"INDEX(INDIRECT(Lister!$Q$4),MATCH($A12,INDIRECT(Lister!$Q$4&\"!$A:$A\"),0),MATCH(I$1,INDIRECT(Lister!$Q$4&\"!$2:$2\"),0))","v":{"$error":"#REF!"}},{"$f":"INDEX(INDIRECT(Lister!$Q$4),MATCH($A12,INDIRECT(Lister!$Q$4&\"!$A:$A\"),0),MATCH(I$1&\"l\",INDIRECT(Lister!$Q$4&\"!$2:$2\"),0))","v":{"$error":"#REF!"}},{"$f":"INDEX(INDIRECT(Lister!$Q$4),MATCH($A12,INDIRECT(Lister!$Q$4&\"!$A:$A\"),0),MATCH(K$1,INDIRECT(Lister!$Q$4&\"!$2:$2\"),0))","v":{"$error":"#REF!"}},{"$f":"INDEX(INDIRECT(Lister!$Q$4),MATCH($A12,INDIRECT(Lister!$Q$4&\"!$A:$A\"),0),MATCH(K$1&\"l\",INDIRECT(Lister!$Q$4&\"!$2:$2\"),0))","v":{"$error":"#REF!"}},{"$f":"INDEX(INDIRECT(Lister!$Q$4),MATCH($A12,INDIRECT(Lister!$Q$4&\"!$A:$A\"),0),MATCH(M$1,INDIRECT(Lister!$Q$4&\"!$2:$2\"),0))","v":{"$error":"#REF!"}},{"$f":"INDEX(INDIRECT(Lister!$Q$4),MATCH($A12,INDIRECT(Lister!$Q$4&\"!$A:$A\"),0),MATCH(M$1&\"l\",INDIRECT(Lister!$Q$4&\"!$2:$2\"),0))","v":{"$error":"#REF!"}},{"$f":"INDEX(INDIRECT(Lister!$Q$4),MATCH($A12,INDIRECT(Lister!$Q$4&\"!$A:$A\"),0),MATCH(O$1,INDIRECT(Lister!$Q$4&\"!$2:$2\"),0))","v":{"$error":"#REF!"}},{"$f":"INDEX(INDIRECT(Lister!$Q$4),MATCH($A12,INDIRECT(Lister!$Q$4&\"!$A:$A\"),0),MATCH(O$1&\"l\",INDIRECT(Lister!$Q$4&\"!$2:$2\"),0))","v":{"$error":"#REF!"}}]
[63,6,{"$f":"INDEX(INDIRECT(Lister!$Q$4),MATCH($A13,INDIRECT(Lister!$Q$4&\"!$A:$A\"),0),MATCH(C$1,INDIRECT(Lister!$Q$4&\"!$2:$2\"),0))","v":{"$error":"#REF!"}},{"$f":"INDEX(INDIRECT(Lister!$Q$4),MATCH($A13,INDIRECT(Lister!$Q$4&\"!$A:$A\"),0),MATCH(C$1&\"l\",INDIRECT(Lister!$Q$4&\"!$2:$2\"),0))","v":{"$error":"#REF!"}},{"$f":"INDEX(INDIRECT(Lister!$Q$4),MATCH($A13,INDIRECT(Lister!$Q$4&\"!$A:$A\"),0),MATCH(E$1,INDIRECT(Lister!$Q$4&\"!$2:$2\"),0))","v":{"$error":"#REF!"}},{"$f":"INDEX(INDIRECT(Lister!$Q$4),MATCH($A13,INDIRECT(Lister!$Q$4&\"!$A:$A\"),0),MATCH(E$1&\"l\",INDIRECT(Lister!$Q$4&\"!$2:$2\"),0))","v":{"$error":"#REF!"}},{"$f":"INDEX(INDIRECT(Lister!$Q$4),MATCH($A13,INDIRECT(Lister!$Q$4&\"!$A:$A\"),0),MATCH(G$1,INDIRECT(Lister!$Q$4&\"!$2:$2\"),0))","v":{"$error":"#REF!"}},{"$f":"INDEX(INDIRECT(Lister!$Q$4),MATCH($A13,INDIRECT(Lister!$Q$4&\"!$A:$A\"),0),MATCH(G$1&\"l\",INDIRECT(Lister!$Q$4&\"!$2:$2\"),0))","v":{"$error":"#REF!"}},{"$f":"INDEX(INDIRECT(Lister!$Q$4),MATCH($A13,INDIRECT(Lister!$Q$4&\"!$A:$A\"),0),MATCH(I$1,INDIRECT(Lister!$Q$4&\"!$2:$2\"),0))","v":{"$error":"#REF!"}},{"$f":"INDEX(INDIRECT(Lister!$Q$4),MATCH($A13,INDIRECT(Lister!$Q$4&\"!$A:$A\"),0),MATCH(I$1&\"l\",INDIRECT(Lister!$Q$4&\"!$2:$2\"),0))","v":{"$error":"#REF!"}},{"$f":"INDEX(INDIRECT(Lister!$Q$4),MATCH($A13,INDIRECT(Lister!$Q$4&\"!$A:$A\"),0),MATCH(K$1,INDIRECT(Lister!$Q$4&\"!$2:$2\"),0))","v":{"$error":"#REF!"}},{"$f":"INDEX(INDIRECT(Lister!$Q$4),MATCH($A13,INDIRECT(Lister!$Q$4&\"!$A:$A\"),0),MATCH(K$1&\"l\",INDIRECT(Lister!$Q$4&\"!$2:$2\"),0))","v":{"$error":"#REF!"}},{"$f":"INDEX(INDIRECT(Lister!$Q$4),MATCH($A13,INDIRECT(Lister!$Q$4&\"!$A:$A\"),0),MATCH(M$1,INDIRECT(Lister!$Q$4&\"!$2:$2\"),0))","v":{"$error":"#REF!"}},{"$f":"INDEX(INDIRECT(Lister!$Q$4),MATCH($A13,INDIRECT(Lister!$Q$4&\"!$A:$A\"),0),MATCH(M$1&\"l\",INDIRECT(Lister!$Q$4&\"!$2:$2\"),0))","v":{"$error":"#REF!"}},{"$f":"INDEX(INDIRECT(Lister!$Q$4),MATCH($A13,INDIRECT(Lister!$Q$4&\"!$A:$A\"),0),MATCH(O$1,INDIRECT(Lister!$Q$4&\"!$2:$2\"),0))","v":{"$error":"#REF!"}},{"$f":"INDEX(INDIRECT(Lister!$Q$4),MATCH($A13,INDIRECT(Lister!$Q$4&\"!$A:$A\"),0),MATCH(O$1&\"l\",INDIRECT(Lister!$Q$4&\"!$2:$2\"),0))","v":{"$error":"#REF!"}}]
[63,8.5,{"$f":"INDEX(INDIRECT(Lister!$Q$4),MATCH($A14,INDIRECT(Lister!$Q$4&\"!$A:$A\"),0),MATCH(C$1,INDIRECT(Lister!$Q$4&\"!$2:$2\"),0))","v":{"$error":"#REF!"}},{"$f":"INDEX(INDIRECT(Lister!$Q$4),MATCH($A14,INDIRECT(Lister!$Q$4&\"!$A:$A\"),0),MATCH(C$1&\"l\",INDIRECT(Lister!$Q$4&\"!$2:$2\"),0))","v":{"$error":"#REF!"}},{"$f":"INDEX(INDIRECT(Lister!$Q$4),MATCH($A14,INDIRECT(Lister!$Q$4&\"!$A:$A\"),0),MATCH(E$1,INDIRECT(Lister!$Q$4&\"!$2:$2\"),0))","v":{"$error":"#REF!"}},{"$f":"INDEX(INDIRECT(Lister!$Q$4),MATCH($A14,INDIRECT(Lister!$Q$4&\"!$A:$A\"),0),MATCH(E$1&\"l\",INDIRECT(Lister!$Q$4&\"!$2:$2\"),0))","v":{"$error":"#REF!"}},{"$f":"INDEX(INDIRECT(Lister!$Q$4),MATCH($A14,INDIRECT(Lister!$Q$4&\"!$A:$A\"),0),MATCH(G$1,INDIRECT(Lister!$Q$4&\"!$2:$2\"),0))","v":{"$error":"#REF!"}},{"$f":"INDEX(INDIRECT(Lister!$Q$4),MATCH($A14,INDIRECT(Lister!$Q$4&\"!$A:$A\"),0),MATCH(G$1&\"l\",INDIRECT(Lister!$Q$4&\"!$2:$2\"),0))","v":{"$error":"#REF!"}},{"$f":"INDEX(INDIRECT(Lister!$Q$4),MATCH($A14,INDIRECT(Lister!$Q$4&\"!$A:$A\"),0),MATCH(I$1,INDIRECT(Lister!$Q$4&\"!$2:$2\"),0))","v":{"$error":"#REF!"}},{"$f":"INDEX(INDIRECT(Lister!$Q$4),MATCH($A14,INDIRECT(Lister!$Q$4&\"!$A:$A\"),0),MATCH(I$1&\"l\",INDIRECT(Lister!$Q$4&\"!$2:$2\"),0))","v":{"$error":"#REF!"}},{"$f":"INDEX(INDIRECT(Lister!$Q$4),MATCH($A14,INDIRECT(Lister!$Q$4&\"!$A:$A\"),0),MATCH(K$1,INDIRECT(Lister!$Q$4&\"!$2:$2\"),0))","v":{"$error":"#REF!"}},{"$f":"INDEX(INDIRECT(Lister!$Q$4),MATCH($A14,INDIRECT(Lister!$Q$4&\"!$A:$A\"),0),MATCH(K$1&\"l\",INDIRECT(Lister!$Q$4&\"!$2:$2\"),0))","v":{"$error":"#REF!"}},{"$f":"INDEX(INDIRECT(Lister!$Q$4),MATCH($A14,INDIRECT(Lister!$Q$4&\"!$A:$A\"),0),MATCH(M$1,INDIRECT(Lister!$Q$4&\"!$2:$2\"),0))","v":{"$error":"#REF!"}},{"$f":"INDEX(INDIRECT(Lister!$Q$4),MATCH($A14,INDIRECT(Lister!$Q$4&\"!$A:$A\"),0),MATCH(M$1&\"l\",INDIRECT(Lister!$Q$4&\"!$2:$2\"),0))","v":{"$error":"#REF!"}},{"$f":"INDEX(INDIRECT(Lister!$Q$4),MATCH($A14,INDIRECT(Lister!$Q$4&\"!$A:$A\"),0),MATCH(O$1,INDIRECT(Lister!$Q$4&\"!$2:$2\"),0))","v":{"$error":"#REF!"}},{"$f":"INDEX(INDIRECT(Lister!$Q$4),MATCH($A14,INDIRECT(Lister!$Q$4&\"!$A:$A\"),0),MATCH(O$1&\"l\",INDIRECT(Lister!$Q$4&\"!$2:$2\"),0))","v":{"$error":"#REF!"}}]
[75,6,{"$f":"INDEX(INDIRECT(Lister!$Q$4),MATCH($A15,INDIRECT(Lister!$Q$4&\"!$A:$A\"),0),MATCH(C$1,INDIRECT(Lister!$Q$4&\"!$2:$2\"),0))","v":{"$error":"#REF!"}},{"$f":"INDEX(INDIRECT(Lister!$Q$4),MATCH($A15,INDIRECT(Lister!$Q$4&\"!$A:$A\"),0),MATCH(C$1&\"l\",INDIRECT(Lister!$Q$4&\"!$2:$2\"),0))","v":{"$error":"#REF!"}},{"$f":"INDEX(INDIRECT(Lister!$Q$4),MATCH($A15,INDIRECT(Lister!$Q$4&\"!$A:$A\"),0),MATCH(E$1,INDIRECT(Lister!$Q$4&\"!$2:$2\"),0))","v":{"$error":"#REF!"}},{"$f":"INDEX(INDIRECT(Lister!$Q$4),MATCH($A15,INDIRECT(Lister!$Q$4&\"!$A:$A\"),0),MATCH(E$1&\"l\",INDIRECT(Lister!$Q$4&\"!$2:$2\"),0))","v":{"$error":"#REF!"}},{"$f":"INDEX(INDIRECT(Lister!$Q$4),MATCH($A15,INDIRECT(Lister!$Q$4&\"!$A:$A\"),0),MATCH(G$1,INDIRECT(Lister!$Q$4&\"!$2:$2\"),0))","v":{"$error":"#REF!"}},{"$f":"INDEX(INDIRECT(Lister!$Q$4),MATCH($A15,INDIRECT(Lister!$Q$4&\"!$A:$A\"),0),MATCH(G$1&\"l\",INDIRECT(Lister!$Q$4&\"!$2:$2\"),0))","v":{"$error":"#REF!"}},{"$f":"INDEX(INDIRECT(Lister!$Q$4),MATCH($A15,INDIRECT(Lister!$Q$4&\"!$A:$A\"),0),MATCH(I$1,INDIRECT(Lister!$Q$4&\"!$2:$2\"),0))","v":{"$error":"#REF!"}},{"$f":"INDEX(INDIRECT(Lister!$Q$4),MATCH($A15,INDIRECT(Lister!$Q$4&\"!$A:$A\"),0),MATCH(I$1&\"l\",INDIRECT(Lister!$Q$4&\"!$2:$2\"),0))","v":{"$error":"#REF!"}},{"$f":"INDEX(INDIRECT(Lister!$Q$4),MATCH($A15,INDIRECT(Lister!$Q$4&\"!$A:$A\"),0),MATCH(K$1,INDIRECT(Lister!$Q$4&\"!$2:$2\"),0))","v":{"$error":"#REF!"}},{"$f":"INDEX(INDIRECT(Lister!$Q$4),MATCH($A15,INDIRECT(Lister!$Q$4&\"!$A:$A\"),0),MATCH(K$1&\"l\",INDIRECT(Lister!$Q$4&\"!$2:$2\"),0))","v":{"$error":"#REF!"}},{"$f":"INDEX(INDIRECT(Lister!$Q$4),MATCH($A15,INDIRECT(Lister!$Q$4&\"!$A:$A\"),0),MATCH(M$1,INDIRECT(Lister!$Q$4&\"!$2:$2\"),0))","v":{"$error":"#REF!"}},{"$f":"INDEX(INDIRECT(Lister!$Q$4),MATCH($A15,INDIRECT(Lister!$Q$4&\"!$A:$A\"),0),MATCH(M$1&\"l\",INDIRECT(Lister!$Q$4&\"!$2:$2\"),0))","v":{"$error":"#REF!"}},{"$f":"INDEX(INDIRECT(Lister!$Q$4),MATCH($A15,INDIRECT(Lister!$Q$4&\"!$A:$A\"),0),MATCH(O$1,INDIRECT(Lister!$Q$4&\"!$2:$2\"),0))","v":{"$error":"#REF!"}},{"$f":"INDEX(INDIRECT(Lister!$Q$4),MATCH($A15,INDIRECT(Lister!$Q$4&\"!$A:$A\"),0),MATCH(O$1&\"l\",INDIRECT(Lister!$Q$4&\"!$2:$2\"),0))","v":{"$error":"#REF!"}}]
[75,8.5,{"$f":"INDEX(INDIRECT(Lister!$Q$4),MATCH($A16,INDIRECT(Lister!$Q$4&\"!$A:$A\"),0),MATCH(C$1,INDIRECT(Lister!$Q$4&\"!$2:$2\"),0))","v":{"$error":"#REF!"}},{"$f":"INDEX(INDIRECT(Lister!$Q$4),MATCH($A16,INDIRECT(Lister!$Q$4&\"!$A:$A\"),0),MATCH(C$1&\"l\",INDIRECT(Lister!$Q$4&\"!$2:$2\"),0))","v":{"$error":"#REF!"}},{"$f":"INDEX(INDIRECT(Lister!$Q$4),MATCH($A16,INDIRECT(Lister!$Q$4&\"!$A:$A\"),0),MATCH(E$1,INDIRECT(Lister!$Q$4&\"!$2:$2\"),0))","v":{"$error":"#REF!"}},{"$f":"INDEX(INDIRECT(Lister!$Q$4),MATCH($A16,INDIRECT(Lister!$Q$4&\"!$A:$A\"),0),MATCH(E$1&\"l\",INDIRECT(Lister!$Q$4&\"!$2:$2\"),0))","v":{"$error":"#REF!"}},{"$f":"INDEX(INDIRECT(Lister!$Q$4),MATCH($A16,INDIRECT(Lister!$Q$4&\"!$A:$A\"),0),MATCH(G$1,INDIRECT(Lister!$Q$4&\"!$2:$2\"),0))","v":{"$error":"#REF!"}},{"$f":"INDEX(INDIRECT(Lister!$Q$4),MATCH($A16,INDIRECT(Lister!$Q$4&\"!$A:$A\"),0),MATCH(G$1&\"l\",INDIRECT(Lister!$Q$4&\"!$2:$2\"),0))","v":{"$error":"#REF!"}},{"$f":"INDEX(INDIRECT(Lister!$Q$4),MATCH($A16,INDIRECT(Lister!$Q$4&\"!$A:$A\"),0),MATCH(I$1,INDIRECT(Lister!$Q$4&\"!$2:$2\"),0))","v":{"$error":"#REF!"}},{"$f":"INDEX(INDIRECT(Lister!$Q$4),MATCH($A16,INDIRECT(Lister!$Q$4&\"!$A:$A\"),0),MATCH(I$1&\"l\",INDIRECT(Lister!$Q$4&\"!$2:$2\"),0))","v":{"$error":"#REF!"}},{"$f":"INDEX(INDIRECT(Lister!$Q$4),MATCH($A16,INDIRECT(Lister!$Q$4&\"!$A:$A\"),0),MATCH(K$1,INDIRECT(Lister!$Q$4&\"!$2:$2\"),0))","v":{"$error":"#REF!"}},{"$f":"INDEX(INDIRECT(Lister!$Q$4),MATCH($A16,INDIRECT(Lister!$Q$4&\"!$A:$A\"),0),MATCH(K$1&\"l\",INDIRECT(Lister!$Q$4&\"!$2:$2\"),0))","v":{"$error":"#REF!"}},{"$f":"INDEX(INDIRECT(Lister!$Q$4),MATCH($A16,INDIRECT(Lister!$Q$4&\"!$A:$A\"),0),MATCH(M$1,INDIRECT(Lister!$Q$4&\"!$2:$2\"),0))","v":{"$error":"#REF!"}},{"$f":"INDEX(INDIRECT(Lister!$Q$4),MATCH($A16,INDIRECT(Lister!$Q$4&\"!$A:$A\"),0),MATCH(M$1&\"l\",INDIRECT(Lister!$Q$4&\"!$2:$2\"),0))","v":{"$error":"#REF!"}},{"$f":"INDEX(INDIRECT(Lister!$Q$4),MATCH($A16,INDIRECT(Lister!$Q$4&\"!$A:$A\"),0),MATCH(O$1,INDIRECT(Lister!$Q$4&\"!$2:$2\"),0))","v":{"$error":"#REF!"}},{"$f":"INDEX(INDIRECT(Lister!$Q$4),MATCH($A16,INDIRECT(Lister!$Q$4&\"!$A:$A\"),0),MATCH(O$1&\"l\",INDIRECT(Lister!$Q$4&\"!$2:$2\"),0))","v":{"$error":"#REF!"}}]
[75,17.7,{"$f":"INDEX(INDIRECT(Lister!$Q$4),MATCH($A17,INDIRECT(Lister!$Q$4&\"!$A:$A\"),0),MATCH(C$1,INDIRECT(Lister!$Q$4&\"!$2:$2\"),0))","v":{"$error":"#REF!"}},{"$f":"INDEX(INDIRECT(Lister!$Q$4),MATCH($A17,INDIRECT(Lister!$Q$4&\"!$A:$A\"),0),MATCH(C$1&\"l\",INDIRECT(Lister!$Q$4&\"!$2:$2\"),0))","v":{"$error":"#REF!"}},{"$f":"INDEX(INDIRECT(Lister!$Q$4),MATCH($A17,INDIRECT(Lister!$Q$4&\"!$A:$A\"),0),MATCH(E$1,INDIRECT(Lister!$Q$4&\"!$2:$2\"),0))","v":{"$error":"#REF!"}},{"$f":"INDEX(INDIRECT(Lister!$Q$4),MATCH($A17,INDIRECT(Lister!$Q$4&\"!$A:$A\"),0),MATCH(E$1&\"l\",INDIRECT(Lister!$Q$4&\"!$2:$2\"),0))","v":{"$error":"#REF!"}},{"$f":"INDEX(INDIRECT(Lister!$Q$4),MATCH($A17,INDIRECT(Lister!$Q$4&\"!$A:$A\"),0),MATCH(G$1,INDIRECT(Lister!$Q$4&\"!$2:$2\"),0))","v":{"$error":"#REF!"}},{"$f":"INDEX(INDIRECT(Lister!$Q$4),MATCH($A17,INDIRECT(Lister!$Q$4&\"!$A:$A\"),0),MATCH(G$1&\"l\",INDIRECT(Lister!$Q$4&\"!$2:$2\"),0))","v":{"$error":"#REF!"}},{"$f":"INDEX(INDIRECT(Lister!$Q$4),MATCH($A17,INDIRECT(Lister!$Q$4&\"!$A:$A\"),0),MATCH(I$1,INDIRECT(Lister!$Q$4&\"!$2:$2\"),0))","v":{"$error":"#REF!"}},{"$f":"INDEX(INDIRECT(Lister!$Q$4),MATCH($A17,INDIRECT(Lister!$Q$4&\"!$A:$A\"),0),MATCH(I$1&\"l\",INDIRECT(Lister!$Q$4&\"!$2:$2\"),0))","v":{"$error":"#REF!"}},{"$f":"INDEX(INDIRECT(Lister!$Q$4),MATCH($A17,INDIRECT(Lister!$Q$4&\"!$A:$A\"),0),MATCH(K$1,INDIRECT(Lister!$Q$4&\"!$2:$2\"),0))","v":{"$error":"#REF!"}},{"$f":"INDEX(INDIRECT(Lister!$Q$4),MATCH($A17,INDIRECT(Lister!$Q$4&\"!$A:$A\"),0),MATCH(K$1&\"l\",INDIRECT(Lister!$Q$4&\"!$2:$2\"),0))","v":{"$error":"#REF!"}},{"$f":"INDEX(INDIRECT(Lister!$Q$4),MATCH($A17,INDIRECT(Lister!$Q$4&\"!$A:$A\"),0),MATCH(M$1,INDIRECT(Lister!$Q$4&\"!$2:$2\"),0))","v":{"$error":"#REF!"}},{"$f":"INDEX(INDIRECT(Lister!$Q$4),MATCH($A17,INDIRECT(Lister!$Q$4&\"!$A:$A\"),0),MATCH(M$1&\"l\",INDIRECT(Lister!$Q$4&\"!$2:$2\"),0))","v":{"$error":"#REF!"}},{"$f":"INDEX(INDIRECT(Lister!$Q$4),MATCH($A17,INDIRECT(Lister!$Q$4&\"!$A:$A\"),0),MATCH(O$1,INDIRECT(Lister!$Q$4&\"!$2:$2\"),0))","v":{"$error":"#REF!"}},{"$f":"INDEX(INDIRECT(Lister!$Q$4),MATCH($A17,INDIRECT(Lister!$Q$4&\"!$A:$A\"),0),MATCH(O$1&\"l\",INDIRECT(Lister!$Q$4&\"!$2:$2\"),0))","v":{"$error":"#REF!"}}]
[90,16.8,{"$f":"INDEX(INDIRECT(Lister!$Q$4),MATCH($A18,INDIRECT(Lister!$Q$4&\"!$A:$A\"),0),MATCH(C$1,INDIRECT(Lister!$Q$4&\"!$2:$2\"),0))","v":{"$error":"#REF!"}},{"$f":"INDEX(INDIRECT(Lister!$Q$4),MATCH($A18,INDIRECT(Lister!$Q$4&\"!$A:$A\"),0),MATCH(C$1&\"l\",INDIRECT(Lister!$Q$4&\"!$2:$2\"),0))","v":{"$error":"#REF!"}},{"$f":"INDEX(INDIRECT(Lister!$Q$4),MATCH($A18,INDIRECT(Lister!$Q$4&\"!$A:$A\"),0),MATCH(E$1,INDIRECT(Lister!$Q$4&\"!$2:$2\"),0))","v":{"$error":"#REF!"}},{"$f":"INDEX(INDIRECT(Lister!$Q$4),MATCH($A18,INDIRECT(Lister!$Q$4&\"!$A:$A\"),0),MATCH(E$1&\"l\",INDIRECT(Lister!$Q$4&\"!$2:$2\"),0))","v":{"$error":"#REF!"}},{"$f":"INDEX(INDIRECT(Lister!$Q$4),MATCH($A18,INDIRECT(Lister!$Q$4&\"!$A:$A\"),0),MATCH(G$1,INDIRECT(Lister!$Q$4&\"!$2:$2\"),0))","v":{"$error":"#REF!"}},{"$f":"INDEX(INDIRECT(Lister!$Q$4),MATCH($A18,INDIRECT(Lister!$Q$4&\"!$A:$A\"),0),MATCH(G$1&\"l\",INDIRECT(Lister!$Q$4&\"!$2:$2\"),0))","v":{"$error":"#REF!"}},{"$f":"INDEX(INDIRECT(Lister!$Q$4),MATCH($A18,INDIRECT(Lister!$Q$4&\"!$A:$A\"),0),MATCH(I$1,INDIRECT(Lister!$Q$4&\"!$2:$2\"),0))","v":{"$error":"#REF!"}},{"$f":"INDEX(INDIRECT(Lister!$Q$4),MATCH($A18,INDIRECT(Lister!$Q$4&\"!$A:$A\"),0),MATCH(I$1&\"l\",INDIRECT(Lister!$Q$4&\"!$2:$2\"),0))","v":{"$error":"#REF!"}},{"$f":"INDEX(INDIRECT(Lister!$Q$4),MATCH($A18,INDIRECT(Lister!$Q$4&\"!$A:$A\"),0),MATCH(K$1,INDIRECT(Lister!$Q$4&\"!$2:$2\"),0))","v":{"$error":"#REF!"}},{"$f":"INDEX(INDIRECT(Lister!$Q$4),MATCH($A18,INDIRECT(Lister!$Q$4&\"!$A:$A\"),0),MATCH(K$1&\"l\",INDIRECT(Lister!$Q$4&\"!$2:$2\"),0))","v":{"$error":"#REF!"}},{"$f":"INDEX(INDIRECT(Lister!$Q$4),MATCH($A18,INDIRECT(Lister!$Q$4&\"!$A:$A\"),0),MATCH(M$1,INDIRECT(Lister!$Q$4&\"!$2:$2\"),0))","v":{"$error":"#REF!"}},{"$f":"INDEX(INDIRECT(Lister!$Q$4),MATCH($A18,INDIRECT(Lister!$Q$4&\"!$A:$A\"),0),MATCH(M$1&\"l\",INDIRECT(Lister!$Q$4&\"!$2:$2\"),0))","v":{"$error":"#REF!"}},{"$f":"INDEX(INDIRECT(Lister!$Q$4),MATCH($A18,INDIRECT(Lister!$Q$4&\"!$A:$A\"),0),MATCH(O$1,INDIRECT(Lister!$Q$4&\"!$2:$2\"),0))","v":{"$error":"#REF!"}},{"$f":"INDEX(INDIRECT(Lister!$Q$4),MATCH($A18,INDIRECT(Lister!$Q$4&\"!$A:$A\"),0),MATCH(O$1&\"l\",INDIRECT(Lister!$Q$4&\"!$2:$2\"),0))","v":{"$error":"#REF!"}}]
[110,16.3,{"$f":"INDEX(INDIRECT(Lister!$Q$4),MATCH($A19,INDIRECT(Lister!$Q$4&\"!$A:$A\"),0),MATCH(C$1,INDIRECT(Lister!$Q$4&\"!$2:$2\"),0))","v":{"$error":"#REF!"}},{"$f":"INDEX(INDIRECT(Lister!$Q$4),MATCH($A19,INDIRECT(Lister!$Q$4&\"!$A:$A\"),0),MATCH(C$1&\"l\",INDIRECT(Lister!$Q$4&\"!$2:$2\"),0))","v":{"$error":"#REF!"}},{"$f":"INDEX(INDIRECT(Lister!$Q$4),MATCH($A19,INDIRECT(Lister!$Q$4&\"!$A:$A\"),0),MATCH(E$1,INDIRECT(Lister!$Q$4&\"!$2:$2\"),0))","v":{"$error":"#REF!"}},{"$f":"INDEX(INDIRECT(Lister!$Q$4),MATCH($A19,INDIRECT(Lister!$Q$4&\"!$A:$A\"),0),MATCH(E$1&\"l\",INDIRECT(Lister!$Q$4&\"!$2:$2\"),0))","v":{"$error":"#REF!"}},{"$f":"INDEX(INDIRECT(Lister!$Q$4),MATCH($A19,INDIRECT(Lister!$Q$4&\"!$A:$A\"),0),MATCH(G$1,INDIRECT(Lister!$Q$4&\"!$2:$2\"),0))","v":{"$error":"#REF!"}},{"$f":"INDEX(INDIRECT(Lister!$Q$4),MATCH($A19,INDIRECT(Lister!$Q$4&\"!$A:$A\"),0),MATCH(G$1&\"l\",INDIRECT(Lister!$Q$4&\"!$2:$2\"),0))","v":{"$error":"#REF!"}},{"$f":"INDEX(INDIRECT(Lister!$Q$4),MATCH($A19,INDIRECT(Lister!$Q$4&\"!$A:$A\"),0),MATCH(I$1,INDIRECT(Lister!$Q$4&\"!$2:$2\"),0))","v":{"$error":"#REF!"}},{"$f":"INDEX(INDIRECT(Lister!$Q$4),MATCH($A19,INDIRECT(Lister!$Q$4&\"!$A:$A\"),0),MATCH(I$1&\"l\",INDIRECT(Lister!$Q$4&\"!$2:$2\"),0))","v":{"$error":"#REF!"}},{"$f":"INDEX(INDIRECT(Lister!$Q$4),MATCH($A19,INDIRECT(Lister!$Q$4&\"!$A:$A\"),0),MATCH(K$1,INDIRECT(Lister!$Q$4&\"!$2:$2\"),0))","v":{"$error":"#REF!"}},{"$f":"INDEX(INDIRECT(Lister!$Q$4),MATCH($A19,INDIRECT(Lister!$Q$4&\"!$A:$A\"),0),MATCH(K$1&\"l\",INDIRECT(Lister!$Q$4&\"!$2:$2\"),0))","v":{"$error":"#REF!"}},{"$f":"INDEX(INDIRECT(Lister!$Q$4),MATCH($A19,INDIRECT(Lister!$Q$4&\"!$A:$A\"),0),MATCH(M$1,INDIRECT(Lister!$Q$4&\"!$2:$2\"),0))","v":{"$error":"#REF!"}},{"$f":"INDEX(INDIRECT(Lister!$Q$4),MATCH($A19,INDIRECT(Lister!$Q$4&\"!$A:$A\"),0),MATCH(M$1&\"l\",INDIRECT(Lister!$Q$4&\"!$2:$2\"),0))","v":{"$error":"#REF!"}},{"$f":"INDEX(INDIRECT(Lister!$Q$4),MATCH($A19,INDIRECT(Lister!$Q$4&\"!$A:$A\"),0),MATCH(O$1,INDIRECT(Lister!$Q$4&\"!$2:$2\"),0))","v":{"$error":"#REF!"}},{"$f":"INDEX(INDIRECT(Lister!$Q$4),MATCH($A19,INDIRECT(Lister!$Q$4&\"!$A:$A\"),0),MATCH(O$1&\"l\",INDIRECT(Lister!$Q$4&\"!$2:$2\"),0))","v":{"$error":"#REF!"}}]
[125,30,{"$f":"INDEX(INDIRECT(Lister!$Q$4),MATCH($A20,INDIRECT(Lister!$Q$4&\"!$A:$A\"),0),MATCH(C$1,INDIRECT(Lister!$Q$4&\"!$2:$2\"),0))","v":{"$error":"#REF!"}},{"$f":"INDEX(INDIRECT(Lister!$Q$4),MATCH($A20,INDIRECT(Lister!$Q$4&\"!$A:$A\"),0),MATCH(C$1&\"l\",INDIRECT(Lister!$Q$4&\"!$2:$2\"),0))","v":{"$error":"#REF!"}},{"$f":"INDEX(INDIRECT(Lister!$Q$4),MATCH($A20,INDIRECT(Lister!$Q$4&\"!$A:$A\"),0),MATCH(E$1,INDIRECT(Lister!$Q$4&\"!$2:$2\"),0))","v":{"$error":"#REF!"}},{"$f":"INDEX(INDIRECT(Lister!$Q$4),MATCH($A20,INDIRECT(Lister!$Q$4&\"!$A:$A\"),0),MATCH(E$1&\"l\",INDIRECT(Lister!$Q$4&\"!$2:$2\"),0))","v":{"$error":"#REF!"}},{"$f":"INDEX(INDIRECT(Lister!$Q$4),MATCH($A20,INDIRECT(Lister!$Q$4&\"!$A:$A\"),0),MATCH(G$1,INDIRECT(Lister!$Q$4&\"!$2:$2\"),0))","v":{"$error":"#REF!"}},{"$f":"INDEX(INDIRECT(Lister!$Q$4),MATCH($A20,INDIRECT(Lister!$Q$4&\"!$A:$A\"),0),MATCH(G$1&\"l\",INDIRECT(Lister!$Q$4&\"!$2:$2\"),0))","v":{"$error":"#REF!"}},{"$f":"INDEX(INDIRECT(Lister!$Q$4),MATCH($A20,INDIRECT(Lister!$Q$4&\"!$A:$A\"),0),MATCH(I$1,INDIRECT(Lister!$Q$4&\"!$2:$2\"),0))","v":{"$error":"#REF!"}},{"$f":"INDEX(INDIRECT(Lister!$Q$4),MATCH($A20,INDIRECT(Lister!$Q$4&\"!$A:$A\"),0),MATCH(I$1&\"l\",INDIRECT(Lister!$Q$4&\"!$2:$2\"),0))","v":{"$error":"#REF!"}},{"$f":"INDEX(INDIRECT(Lister!$Q$4),MATCH($A20,INDIRECT(Lister!$Q$4&\"!$A:$A\"),0),MATCH(K$1,INDIRECT(Lister!$Q$4&\"!$2:$2\"),0))","v":{"$error":"#REF!"}},{"$f":"INDEX(INDIRECT(Lister!$Q$4),MATCH($A20,INDIRECT(Lister!$Q$4&\"!$A:$A\"),0),MATCH(K$1&\"l\",INDIRECT(Lister!$Q$4&\"!$2:$2\"),0))","v":{"$error":"#REF!"}},{"$f":"INDEX(INDIRECT(Lister!$Q$4),MATCH($A20,INDIRECT(Lister!$Q$4&\"!$A:$A\"),0),MATCH(M$1,INDIRECT(Lister!$Q$4&\"!$2:$2\"),0))","v":{"$error":"#REF!"}},{"$f":"INDEX(INDIRECT(Lister!$Q$4),MATCH($A20,INDIRECT(Lister!$Q$4&\"!$A:$A\"),0),MATCH(M$1&\"l\",INDIRECT(Lister!$Q$4&\"!$2:$2\"),0))","v":{"$error":"#REF!"}},{"$f":"INDEX(INDIRECT(Lister!$Q$4),MATCH($A20,INDIRECT(Lister!$Q$4&\"!$A:$A\"),0),MATCH(O$1,INDIRECT(Lister!$Q$4&\"!$2:$2\"),0))","v":{"$error":"#REF!"}},{"$f":"INDEX(INDIRECT(Lister!$Q$4),MATCH($A20,INDIRECT(Lister!$Q$4&\"!$A:$A\"),0),MATCH(O$1&\"l\",INDIRECT(Lister!$Q$4&\"!$2:$2\"),0))","v":{"$error":"#REF!"}}]
[140,40,{"$f":"INDEX(INDIRECT(Lister!$Q$4),MATCH($A21,INDIRECT(Lister!$Q$4&\"!$A:$A\"),0),MATCH(C$1,INDIRECT(Lister!$Q$4&\"!$2:$2\"),0))","v":{"$error":"#REF!"}},{"$f":"INDEX(INDIRECT(Lister!$Q$4),MATCH($A21,INDIRECT(Lister!$Q$4&\"!$A:$A\"),0),MATCH(C$1&\"l\",INDIRECT(Lister!$Q$4&\"!$2:$2\"),0))","v":{"$error":"#REF!"}},{"$f":"INDEX(INDIRECT(Lister!$Q$4),MATCH($A21,INDIRECT(Lister!$Q$4&\"!$A:$A\"),0),MATCH(E$1,INDIRECT(Lister!$Q$4&\"!$2:$2\"),0))","v":{"$error":"#REF!"}},{"$f":"INDEX(INDIRECT(Lister!$Q$4),MATCH($A21,INDIRECT(Lister!$Q$4&\"!$A:$A\"),0),MATCH(E$1&\"l\",INDIRECT(Lister!$Q$4&\"!$2:$2\"),0))","v":{"$error":"#REF!"}},{"$f":"INDEX(INDIRECT(Lister!$Q$4),MATCH($A21,INDIRECT(Lister!$Q$4&\"!$A:$A\"),0),MATCH(G$1,INDIRECT(Lister!$Q$4&\"!$2:$2\"),0))","v":{"$error":"#REF!"}},{"$f":"INDEX(INDIRECT(Lister!$Q$4),MATCH($A21,INDIRECT(Lister!$Q$4&\"!$A:$A\"),0),MATCH(G$1&\"l\",INDIRECT(Lister!$Q$4&\"!$2:$2\"),0))","v":{"$error":"#REF!"}},{"$f":"INDEX(INDIRECT(Lister!$Q$4),MATCH($A21,INDIRECT(Lister!$Q$4&\"!$A:$A\"),0),MATCH(I$1,INDIRECT(Lister!$Q$4&\"!$2:$2\"),0))","v":{"$error":"#REF!"}},{"$f":"INDEX(INDIRECT(Lister!$Q$4),MATCH($A21,INDIRECT(Lister!$Q$4&\"!$A:$A\"),0),MATCH(I$1&\"l\",INDIRECT(Lister!$Q$4&\"!$2:$2\"),0))","v":{"$error":"#REF!"}},{"$f":"INDEX(INDIRECT(Lister!$Q$4),MATCH($A21,INDIRECT(Lister!$Q$4&\"!$A:$A\"),0),MATCH(K$1,INDIRECT(Lister!$Q$4&\"!$2:$2\"),0))","v":{"$error":"#REF!"}},{"$f":"INDEX(INDIRECT(Lister!$Q$4),MATCH($A21,INDIRECT(Lister!$Q$4&\"!$A:$A\"),0),MATCH(K$1&\"l\",INDIRECT(Lister!$Q$4&\"!$2:$2\"),0))","v":{"$error":"#REF!"}},{"$f":"INDEX(INDIRECT(Lister!$Q$4),MATCH($A21,INDIRECT(Lister!$Q$4&\"!$A:$A\"),0),MATCH(M$1,INDIRECT(Lister!$Q$4&\"!$2:$2\"),0))","v":{"$error":"#REF!"}},{"$f":"INDEX(INDIRECT(Lister!$Q$4),MATCH($A21,INDIRECT(Lister!$Q$4&\"!$A:$A\"),0),MATCH(M$1&\"l\",INDIRECT(Lister!$Q$4&\"!$2:$2\"),0))","v":{"$error":"#REF!"}},{"$f":"INDEX(INDIRECT(Lister!$Q$4),MATCH($A21,INDIRECT(Lister!$Q$4&\"!$A:$A\"),0),MATCH(O$1,INDIRECT(Lister!$Q$4&\"!$2:$2\"),0))","v":{"$error":"#REF!"}},{"$f":"INDEX(INDIRECT(Lister!$Q$4),MATCH($A21,INDIRECT(Lister!$Q$4&\"!$A:$A\"),0),MATCH(O$1&\"l\",INDIRECT(Lister!$Q$4&\"!$2:$2\"),0))","v":{"$error":"#REF!"}}]
[160,55,{"$f":"INDEX(INDIRECT(Lister!$Q$4),MATCH($A22,INDIRECT(Lister!$Q$4&\"!$A:$A\"),0),MATCH(C$1,INDIRECT(Lister!$Q$4&\"!$2:$2\"),0))","v":{"$error":"#REF!"}},{"$f":"INDEX(INDIRECT(Lister!$Q$4),MATCH($A22,INDIRECT(Lister!$Q$4&\"!$A:$A\"),0),MATCH(C$1&\"l\",INDIRECT(Lister!$Q$4&\"!$2:$2\"),0))","v":{"$error":"#REF!"}},{"$f":"INDEX(INDIRECT(Lister!$Q$4),MATCH($A22,INDIRECT(Lister!$Q$4&\"!$A:$A\"),0),MATCH(E$1,INDIRECT(Lister!$Q$4&\"!$2:$2\"),0))","v":{"$error":"#REF!"}},{"$f":"INDEX(INDIRECT(Lister!$Q$4),MATCH($A22,INDIRECT(Lister!$Q$4&\"!$A:$A\"),0),MATCH(E$1&\"l\",INDIRECT(Lister!$Q$4&\"!$2:$2\"),0))","v":{"$error":"#REF!"}},{"$f":"INDEX(INDIRECT(Lister!$Q$4),MATCH($A22,INDIRECT(Lister!$Q$4&\"!$A:$A\"),0),MATCH(G$1,INDIRECT(Lister!$Q$4&\"!$2:$2\"),0))","v":{"$error":"#REF!"}},{"$f":"INDEX(INDIRECT(Lister!$Q$4),MATCH($A22,INDIRECT(Lister!$Q$4&\"!$A:$A\"),0),MATCH(G$1&\"l\",INDIRECT(Lister!$Q$4&\"!$2:$2\"),0))","v":{"$error":"#REF!"}},{"$f":"INDEX(INDIRECT(Lister!$Q$4),MATCH($A22,INDIRECT(Lister!$Q$4&\"!$A:$A\"),0),MATCH(I$1,INDIRECT(Lister!$Q$4&\"!$2:$2\"),0))","v":{"$error":"#REF!"}},{"$f":"INDEX(INDIRECT(Lister!$Q$4),MATCH($A22,INDIRECT(Lister!$Q$4&\"!$A:$A\"),0),MATCH(I$1&\"l\",INDIRECT(Lister!$Q$4&\"!$2:$2\"),0))","v":{"$error":"#REF!"}},{"$f":"INDEX(INDIRECT(Lister!$Q$4),MATCH($A22,INDIRECT(Lister!$Q$4&\"!$A:$A\"),0),MATCH(K$1,INDIRECT(Lister!$Q$4&\"!$2:$2\"),0))","v":{"$error":"#REF!"}},{"$f":"INDEX(INDIRECT(Lister!$Q$4),MATCH($A22,INDIRECT(Lister!$Q$4&\"!$A:$A\"),0),MATCH(K$1&\"l\",INDIRECT(Lister!$Q$4&\"!$2:$2\"),0))","v":{"$error":"#REF!"}},{"$f":"INDEX(INDIRECT(Lister!$Q$4),MATCH($A22,INDIRECT(Lister!$Q$4&\"!$A:$A\"),0),MATCH(M$1,INDIRECT(Lister!$Q$4&\"!$2:$2\"),0))","v":{"$error":"#REF!"}},{"$f":"INDEX(INDIRECT(Lister!$Q$4),MATCH($A22,INDIRECT(Lister!$Q$4&\"!$A:$A\"),0),MATCH(M$1&\"l\",INDIRECT(Lister!$Q$4&\"!$2:$2\"),0))","v":{"$error":"#REF!"}},{"$f":"INDEX(INDIRECT(Lister!$Q$4),MATCH($A22,INDIRECT(Lister!$Q$4&\"!$A:$A\"),0),MATCH(O$1,INDIRECT(Lister!$Q$4&\"!$2:$2\"),0))","v":{"$error":"#REF!"}},{"$f":"INDEX(INDIRECT(Lister!$Q$4),MATCH($A22,INDIRECT(Lister!$Q$4&\"!$A:$A\"),0),MATCH(O$1&\"l\",INDIRECT(Lister!$Q$4&\"!$2:$2\"),0))","v":{"$error":"#REF!"}}]
[160,70,{"$f":"INDEX(INDIRECT(Lister!$Q$4),MATCH($A23,INDIRECT(Lister!$Q$4&\"!$A:$A\"),0),MATCH(C$1,INDIRECT(Lister!$Q$4&\"!$2:$2\"),0))","v":{"$error":"#REF!"}},{"$f":"INDEX(INDIRECT(Lister!$Q$4),MATCH($A23,INDIRECT(Lister!$Q$4&\"!$A:$A\"),0),MATCH(C$1&\"l\",INDIRECT(Lister!$Q$4&\"!$2:$2\"),0))","v":{"$error":"#REF!"}},{"$f":"INDEX(INDIRECT(Lister!$Q$4),MATCH($A23,INDIRECT(Lister!$Q$4&\"!$A:$A\"),0),MATCH(E$1,INDIRECT(Lister!$Q$4&\"!$2:$2\"),0))","v":{"$error":"#REF!"}},{"$f":"INDEX(INDIRECT(Lister!$Q$4),MATCH($A23,INDIRECT(Lister!$Q$4&\"!$A:$A\"),0),MATCH(E$1&\"l\",INDIRECT(Lister!$Q$4&\"!$2:$2\"),0))","v":{"$error":"#REF!"}},{"$f":"INDEX(INDIRECT(Lister!$Q$4),MATCH($A23,INDIRECT(Lister!$Q$4&\"!$A:$A\"),0),MATCH(G$1,INDIRECT(Lister!$Q$4&\"!$2:$2\"),0))","v":{"$error":"#REF!"}},{"$f":"INDEX(INDIRECT(Lister!$Q$4),MATCH($A23,INDIRECT(Lister!$Q$4&\"!$A:$A\"),0),MATCH(G$1&\"l\",INDIRECT(Lister!$Q$4&\"!$2:$2\"),0))","v":{"$error":"#REF!"}},{"$f":"INDEX(INDIRECT(Lister!$Q$4),MATCH($A23,INDIRECT(Lister!$Q$4&\"!$A:$A\"),0),MATCH(I$1,INDIRECT(Lister!$Q$4&\"!$2:$2\"),0))","v":{"$error":"#REF!"}},{"$f":"INDEX(INDIRECT(Lister!$Q$4),MATCH($A23,INDIRECT(Lister!$Q$4&\"!$A:$A\"),0),MATCH(I$1&\"l\",INDIRECT(Lister!$Q$4&\"!$2:$2\"),0))","v":{"$error":"#REF!"}},{"$f":"INDEX(INDIRECT(Lister!$Q$4),MATCH($A23,INDIRECT(Lister!$Q$4&\"!$A:$A\"),0),MATCH(K$1,INDIRECT(Lister!$Q$4&\"!$2:$2\"),0))","v":{"$error":"#REF!"}},{"$f":"INDEX(INDIRECT(Lister!$Q$4),MATCH($A23,INDIRECT(Lister!$Q$4&\"!$A:$A\"),0),MATCH(K$1&\"l\",INDIRECT(Lister!$Q$4&\"!$2:$2\"),0))","v":{"$error":"#REF!"}},{"$f":"INDEX(INDIRECT(Lister!$Q$4),MATCH($A23,INDIRECT(Lister!$Q$4&\"!$A:$A\"),0),MATCH(M$1,INDIRECT(Lister!$Q$4&\"!$2:$2\"),0))","v":{"$error":"#REF!"}},{"$f":"INDEX(INDIRECT(Lister!$Q$4),MATCH($A23,INDIRECT(Lister!$Q$4&\"!$A:$A\"),0),MATCH(M$1&\"l\",INDIRECT(Lister!$Q$4&\"!$2:$2\"),0))","v":{"$error":"#REF!"}},{"$f":"INDEX(INDIRECT(Lister!$Q$4),MATCH($A23,INDIRECT(Lister!$Q$4&\"!$A:$A\"),0),MATCH(O$1,INDIRECT(Lister!$Q$4&\"!$2:$2\"),0))","v":{"$error":"#REF!"}},{"$f":"INDEX(INDIRECT(Lister!$Q$4),MATCH($A23,INDIRECT(Lister!$Q$4&\"!$A:$A\"),0),MATCH(O$1&\"l\",INDIRECT(Lister!$Q$4&\"!$2:$2\"),0))","v":{"$error":"#REF!"}}]
[180,70,{"$f":"INDEX(INDIRECT(Lister!$Q$4),MATCH($A24,INDIRECT(Lister!$Q$4&\"!$A:$A\"),0),MATCH(C$1,INDIRECT(Lister!$Q$4&\"!$2:$2\"),0))","v":{"$error":"#REF!"}},{"$f":"INDEX(INDIRECT(Lister!$Q$4),MATCH($A24,INDIRECT(Lister!$Q$4&\"!$A:$A\"),0),MATCH(C$1&\"l\",INDIRECT(Lister!$Q$4&\"!$2:$2\"),0))","v":{"$error":"#REF!"}},{"$f":"INDEX(INDIRECT(Lister!$Q$4),MATCH($A24,INDIRECT(Lister!$Q$4&\"!$A:$A\"),0),MATCH(E$1,INDIRECT(Lister!$Q$4&\"!$2:$2\"),0))","v":{"$error":"#REF!"}},{"$f":"INDEX(INDIRECT(Lister!$Q$4),MATCH($A24,INDIRECT(Lister!$Q$4&\"!$A:$A\"),0),MATCH(E$1&\"l\",INDIRECT(Lister!$Q$4&\"!$2:$2\"),0))","v":{"$error":"#REF!"}},{"$f":"INDEX(INDIRECT(Lister!$Q$4),MATCH($A24,INDIRECT(Lister!$Q$4&\"!$A:$A\"),0),MATCH(G$1,INDIRECT(Lister!$Q$4&\"!$2:$2\"),0))","v":{"$error":"#REF!"}},{"$f":"INDEX(INDIRECT(Lister!$Q$4),MATCH($A24,INDIRECT(Lister!$Q$4&\"!$A:$A\"),0),MATCH(G$1&\"l\",INDIRECT(Lister!$Q$4&\"!$2:$2\"),0))","v":{"$error":"#REF!"}},{"$f":"INDEX(INDIRECT(Lister!$Q$4),MATCH($A24,INDIRECT(Lister!$Q$4&\"!$A:$A\"),0),MATCH(I$1,INDIRECT(Lister!$Q$4&\"!$2:$2\"),0))","v":{"$error":"#REF!"}},{"$f":"INDEX(INDIRECT(Lister!$Q$4),MATCH($A24,INDIRECT(Lister!$Q$4&\"!$A:$A\"),0),MATCH(I$1&\"l\",INDIRECT(Lister!$Q$4&\"!$2:$2\"),0))","v":{"$error":"#REF!"}},{"$f":"INDEX(INDIRECT(Lister!$Q$4),MATCH($A24,INDIRECT(Lister!$Q$4&\"!$A:$A\"),0),MATCH(K$1,INDIRECT(Lister!$Q$4&\"!$2:$2\"),0))","v":{"$error":"#REF!"}},{"$f":"INDEX(INDIRECT(Lister!$Q$4),MATCH($A24,INDIRECT(Lister!$Q$4&\"!$A:$A\"),0),MATCH(K$1&\"l\",INDIRECT(Lister!$Q$4&\"!$2:$2\"),0))","v":{"$error":"#REF!"}},{"$f":"INDEX(INDIRECT(Lister!$Q$4),MATCH($A24,INDIRECT(Lister!$Q$4&\"!$A:$A\"),0),MATCH(M$1,INDIRECT(Lister!$Q$4&\"!$2:$2\"),0))","v":{"$error":"#REF!"}},{"$f":"INDEX(INDIRECT(Lister!$Q$4),MATCH($A24,INDIRECT(Lister!$Q$4&\"!$A:$A\"),0),MATCH(M$1&\"l\",INDIRECT(Lister!$Q$4&\"!$2:$2\"),0))","v":{"$error":"#REF!"}},{"$f":"INDEX(INDIRECT(Lister!$Q$4),MATCH($A24,INDIRECT(Lister!$Q$4&\"!$A:$A\"),0),MATCH(O$1,INDIRECT(Lister!$Q$4&\"!$2:$2\"),0))","v":{"$error":"#REF!"}},{"$f":"INDEX(INDIRECT(Lister!$Q$4),MATCH($A24,INDIRECT(Lister!$Q$4&\"!$A:$A\"),0),MATCH(O$1&\"l\",INDIRECT(Lister!$Q$4&\"!$2:$2\"),0))","v":{"$error":"#REF!"}}]
[200,90,{"$f":"INDEX(INDIRECT(Lister!$Q$4),MATCH($A25,INDIRECT(Lister!$Q$4&\"!$A:$A\"),0),MATCH(C$1,INDIRECT(Lister!$Q$4&\"!$2:$2\"),0))","v":{"$error":"#REF!"}},{"$f":"INDEX(INDIRECT(Lister!$Q$4),MATCH($A25,INDIRECT(Lister!$Q$4&\"!$A:$A\"),0),MATCH(C$1&\"l\",INDIRECT(Lister!$Q$4&\"!$2:$2\"),0))","v":{"$error":"#REF!"}},{"$f":"INDEX(INDIRECT(Lister!$Q$4),MATCH($A25,INDIRECT(Lister!$Q$4&\"!$A:$A\"),0),MATCH(E$1,INDIRECT(Lister!$Q$4&\"!$2:$2\"),0))","v":{"$error":"#REF!"}},{"$f":"INDEX(INDIRECT(Lister!$Q$4),MATCH($A25,INDIRECT(Lister!$Q$4&\"!$A:$A\"),0),MATCH(E$1&\"l\",INDIRECT(Lister!$Q$4&\"!$2:$2\"),0))","v":{"$error":"#REF!"}},{"$f":"INDEX(INDIRECT(Lister!$Q$4),MATCH($A25,INDIRECT(Lister!$Q$4&\"!$A:$A\"),0),MATCH(G$1,INDIRECT(Lister!$Q$4&\"!$2:$2\"),0))","v":{"$error":"#REF!"}},{"$f":"INDEX(INDIRECT(Lister!$Q$4),MATCH($A25,INDIRECT(Lister!$Q$4&\"!$A:$A\"),0),MATCH(G$1&\"l\",INDIRECT(Lister!$Q$4&\"!$2:$2\"),0))","v":{"$error":"#REF!"}},{"$f":"INDEX(INDIRECT(Lister!$Q$4),MATCH($A25,INDIRECT(Lister!$Q$4&\"!$A:$A\"),0),MATCH(I$1,INDIRECT(Lister!$Q$4&\"!$2:$2\"),0))","v":{"$error":"#REF!"}},{"$f":"INDEX(INDIRECT(Lister!$Q$4),MATCH($A25,INDIRECT(Lister!$Q$4&\"!$A:$A\"),0),MATCH(I$1&\"l\",INDIRECT(Lister!$Q$4&\"!$2:$2\"),0))","v":{"$error":"#REF!"}},{"$f":"INDEX(INDIRECT(Lister!$Q$4),MATCH($A25,INDIRECT(Lister!$Q$4&\"!$A:$A\"),0),MATCH(K$1,INDIRECT(Lister!$Q$4&\"!$2:$2\"),0))","v":{"$error":"#REF!"}},{"$f":"INDEX(INDIRECT(Lister!$Q$4),MATCH($A25,INDIRECT(Lister!$Q$4&\"!$A:$A\"),0),MATCH(K$1&\"l\",INDIRECT(Lister!$Q$4&\"!$2:$2\"),0))","v":{"$error":"#REF!"}},{"$f":"INDEX(INDIRECT(Lister!$Q$4),MATCH($A25,INDIRECT(Lister!$Q$4&\"!$A:$A\"),0),MATCH(M$1,INDIRECT(Lister!$Q$4&\"!$2:$2\"),0))","v":{"$error":"#REF!"}},{"$f":"INDEX(INDIRECT(Lister!$Q$4),MATCH($A25,INDIRECT(Lister!$Q$4&\"!$A:$A\"),0),MATCH(M$1&\"l\",INDIRECT(Lister!$Q$4&\"!$2:$2\"),0))","v":{"$error":"#REF!"}},{"$f":"INDEX(INDIRECT(Lister!$Q$4),MATCH($A25,INDIRECT(Lister!$Q$4&\"!$A:$A\"),0),MATCH(O$1,INDIRECT(Lister!$Q$4&\"!$2:$2\"),0))","v":{"$error":"#REF!"}},{"$f":"INDEX(INDIRECT(Lister!$Q$4),MATCH($A25,INDIRECT(Lister!$Q$4&\"!$A:$A\"),0),MATCH(O$1&\"l\",INDIRECT(Lister!$Q$4&\"!$2:$2\"),0))","v":{"$error":"#REF!"}}]
[225,106,{"$f":"INDEX(INDIRECT(Lister!$Q$4),MATCH($A26,INDIRECT(Lister!$Q$4&\"!$A:$A\"),0),MATCH(C$1,INDIRECT(Lister!$Q$4&\"!$2:$2\"),0))","v":{"$error":"#REF!"}},{"$f":"INDEX(INDIRECT(Lister!$Q$4),MATCH($A26,INDIRECT(Lister!$Q$4&\"!$A:$A\"),0),MATCH(C$1&\"l\",INDIRECT(Lister!$Q$4&\"!$2:$2\"),0))","v":{"$error":"#REF!"}},{"$f":"INDEX(INDIRECT(Lister!$Q$4),MATCH($A26,INDIRECT(Lister!$Q$4&\"!$A:$A\"),0),MATCH(E$1,INDIRECT(Lister!$Q$4&\"!$2:$2\"),0))","v":{"$error":"#REF!"}},{"$f":"INDEX(INDIRECT(Lister!$Q$4),MATCH($A26,INDIRECT(Lister!$Q$4&\"!$A:$A\"),0),MATCH(E$1&\"l\",INDIRECT(Lister!$Q$4&\"!$2:$2\"),0))","v":{"$error":"#REF!"}},{"$f":"INDEX(INDIRECT(Lister!$Q$4),MATCH($A26,INDIRECT(Lister!$Q$4&\"!$A:$A\"),0),MATCH(G$1,INDIRECT(Lister!$Q$4&\"!$2:$2\"),0))","v":{"$error":"#REF!"}},{"$f":"INDEX(INDIRECT(Lister!$Q$4),MATCH($A26,INDIRECT(Lister!$Q$4&\"!$A:$A\"),0),MATCH(G$1&\"l\",INDIRECT(Lister!$Q$4&\"!$2:$2\"),0))","v":{"$error":"#REF!"}},{"$f":"INDEX(INDIRECT(Lister!$Q$4),MATCH($A26,INDIRECT(Lister!$Q$4&\"!$A:$A\"),0),MATCH(I$1,INDIRECT(Lister!$Q$4&\"!$2:$2\"),0))","v":{"$error":"#REF!"}},{"$f":"INDEX(INDIRECT(Lister!$Q$4),MATCH($A26,INDIRECT(Lister!$Q$4&\"!$A:$A\"),0),MATCH(I$1&\"l\",INDIRECT(Lister!$Q$4&\"!$2:$2\"),0))","v":{"$error":"#REF!"}},{"$f":"INDEX(INDIRECT(Lister!$Q$4),MATCH($A26,INDIRECT(Lister!$Q$4&\"!$A:$A\"),0),MATCH(K$1,INDIRECT(Lister!$Q$4&\"!$2:$2\"),0))","v":{"$error":"#REF!"}},{"$f":"INDEX(INDIRECT(Lister!$Q$4),MATCH($A26,INDIRECT(Lister!$Q$4&\"!$A:$A\"),0),MATCH(K$1&\"l\",INDIRECT(Lister!$Q$4&\"!$2:$2\"),0))","v":{"$error":"#REF!"}},{"$f":"INDEX(INDIRECT(Lister!$Q$4),MATCH($A26,INDIRECT(Lister!$Q$4&\"!$A:$A\"),0),MATCH(M$1,INDIRECT(Lister!$Q$4&\"!$2:$2\"),0))","v":{"$error":"#REF!"}},{"$f":"INDEX(INDIRECT(Lister!$Q$4),MATCH($A26,INDIRECT(Lister!$Q$4&\"!$A:$A\"),0),MATCH(M$1&\"l\",INDIRECT(Lister!$Q$4&\"!$2:$2\"),0))","v":{"$error":"#REF!"}},{"$f":"INDEX(INDIRECT(Lister!$Q$4),MATCH($A26,INDIRECT(Lister!$Q$4&\"!$A:$A\"),0),MATCH(O$1,INDIRECT(Lister!$Q$4&\"!$2:$2\"),0))","v":{"$error":"#REF!"}},{"$f":"INDEX(INDIRECT(Lister!$Q$4),MATCH($A26,INDIRECT(Lister!$Q$4&\"!$A:$A\"),0),MATCH(O$1&\"l\",INDIRECT(Lister!$Q$4&\"!$2:$2\"),0))","v":{"$error":"#REF!"}}]
[250,125,{"$f":"INDEX(INDIRECT(Lister!$Q$4),MATCH($A27,INDIRECT(Lister!$Q$4&\"!$A:$A\"),0),MATCH(C$1,INDIRECT(Lister!$Q$4&\"!$2:$2\"),0))","v":{"$error":"#REF!"}},{"$f":"INDEX(INDIRECT(Lister!$Q$4),MATCH($A27,INDIRECT(Lister!$Q$4&\"!$A:$A\"),0),MATCH(C$1&\"l\",INDIRECT(Lister!$Q$4&\"!$2:$2\"),0))","v":{"$error":"#REF!"}},{"$f":"INDEX(INDIRECT(Lister!$Q$4),MATCH($A27,INDIRECT(Lister!$Q$4&\"!$A:$A\"),0),MATCH(E$1,INDIRECT(Lister!$Q$4&\"!$2:$2\"),0))","v":{"$error":"#REF!"}},{"$f":"INDEX(INDIRECT(Lister!$Q$4),MATCH($A27,INDIRECT(Lister!$Q$4&\"!$A:$A\"),0),MATCH(E$1&\"l\",INDIRECT(Lister!$Q$4&\"!$2:$2\"),0))","v":{"$error":"#REF!"}},{"$f":"INDEX(INDIRECT(Lister!$Q$4),MATCH($A27,INDIRECT(Lister!$Q$4&\"!$A:$A\"),0),MATCH(G$1,INDIRECT(Lister!$Q$4&\"!$2:$2\"),0))","v":{"$error":"#REF!"}},{"$f":"INDEX(INDIRECT(Lister!$Q$4),MATCH($A27,INDIRECT(Lister!$Q$4&\"!$A:$A\"),0),MATCH(G$1&\"l\",INDIRECT(Lister!$Q$4&\"!$2:$2\"),0))","v":{"$error":"#REF!"}},{"$f":"INDEX(INDIRECT(Lister!$Q$4),MATCH($A27,INDIRECT(Lister!$Q$4&\"!$A:$A\"),0),MATCH(I$1,INDIRECT(Lister!$Q$4&\"!$2:$2\"),0))","v":{"$error":"#REF!"}},{"$f":"INDEX(INDIRECT(Lister!$Q$4),MATCH($A27,INDIRECT(Lister!$Q$4&\"!$A:$A\"),0),MATCH(I$1&\"l\",INDIRECT(Lister!$Q$4&\"!$2:$2\"),0))","v":{"$error":"#REF!"}},{"$f":"INDEX(INDIRECT(Lister!$Q$4),MATCH($A27,INDIRECT(Lister!$Q$4&\"!$A:$A\"),0),MATCH(K$1,INDIRECT(Lister!$Q$4&\"!$2:$2\"),0))","v":{"$error":"#REF!"}},{"$f":"INDEX(INDIRECT(Lister!$Q$4),MATCH($A27,INDIRECT(Lister!$Q$4&\"!$A:$A\"),0),MATCH(K$1&\"l\",INDIRECT(Lister!$Q$4&\"!$2:$2\"),0))","v":{"$error":"#REF!"}},{"$f":"INDEX(INDIRECT(Lister!$Q$4),MATCH($A27,INDIRECT(Lister!$Q$4&\"!$A:$A\"),0),MATCH(M$1,INDIRECT(Lister!$Q$4&\"!$2:$2\"),0))","v":{"$error":"#REF!"}},{"$f":"INDEX(INDIRECT(Lister!$Q$4),MATCH($A27,INDIRECT(Lister!$Q$4&\"!$A:$A\"),0),MATCH(M$1&\"l\",INDIRECT(Lister!$Q$4&\"!$2:$2\"),0))","v":{"$error":"#REF!"}},{"$f":"INDEX(INDIRECT(Lister!$Q$4),MATCH($A27,INDIRECT(Lister!$Q$4&\"!$A:$A\"),0),MATCH(O$1,INDIRECT(Lister!$Q$4&\"!$2:$2\"),0))","v":{"$error":"#REF!"}},{"$f":"INDEX(INDIRECT(Lister!$Q$4),MATCH($A27,INDIRECT(Lister!$Q$4&\"!$A:$A\"),0),MATCH(O$1&\"l\",INDIRECT(Lister!$Q$4&\"!$2:$2\"),0))","v":{"$error":"#REF!"}}]
[280,165,{"$f":"INDEX(INDIRECT(Lister!$Q$4),MATCH($A28,INDIRECT(Lister!$Q$4&\"!$A:$A\"),0),MATCH(C$1,INDIRECT(Lister!$Q$4&\"!$2:$2\"),0))","v":{"$error":"#REF!"}},{"$f":"INDEX(INDIRECT(Lister!$Q$4),MATCH($A28,INDIRECT(Lister!$Q$4&\"!$A:$A\"),0),MATCH(C$1&\"l\",INDIRECT(Lister!$Q$4&\"!$2:$2\"),0))","v":{"$error":"#REF!"}},{"$f":"INDEX(INDIRECT(Lister!$Q$4),MATCH($A28,INDIRECT(Lister!$Q$4&\"!$A:$A\"),0),MATCH(E$1,INDIRECT(Lister!$Q$4&\"!$2:$2\"),0))","v":{"$error":"#REF!"}},{"$f":"INDEX(INDIRECT(Lister!$Q$4),MATCH($A28,INDIRECT(Lister!$Q$4&\"!$A:$A\"),0),MATCH(E$1&\"l\",INDIRECT(Lister!$Q$4&\"!$2:$2\"),0))","v":{"$error":"#REF!"}},{"$f":"INDEX(INDIRECT(Lister!$Q$4),MATCH($A28,INDIRECT(Lister!$Q$4&\"!$A:$A\"),0),MATCH(G$1,INDIRECT(Lister!$Q$4&\"!$2:$2\"),0))","v":{"$error":"#REF!"}},{"$f":"INDEX(INDIRECT(Lister!$Q$4),MATCH($A28,INDIRECT(Lister!$Q$4&\"!$A:$A\"),0),MATCH(G$1&\"l\",INDIRECT(Lister!$Q$4&\"!$2:$2\"),0))","v":{"$error":"#REF!"}},{"$f":"INDEX(INDIRECT(Lister!$Q$4),MATCH($A28,INDIRECT(Lister!$Q$4&\"!$A:$A\"),0),MATCH(I$1,INDIRECT(Lister!$Q$4&\"!$2:$2\"),0))","v":{"$error":"#REF!"}},{"$f":"INDEX(INDIRECT(Lister!$Q$4),MATCH($A28,INDIRECT(Lister!$Q$4&\"!$A:$A\"),0),MATCH(I$1&\"l\",INDIRECT(Lister!$Q$4&\"!$2:$2\"),0))","v":{"$error":"#REF!"}},{"$f":"INDEX(INDIRECT(Lister!$Q$4),MATCH($A28,INDIRECT(Lister!$Q$4&\"!$A:$A\"),0),MATCH(K$1,INDIRECT(Lister!$Q$4&\"!$2:$2\"),0))","v":{"$error":"#REF!"}},{"$f":"INDEX(INDIRECT(Lister!$Q$4),MATCH($A28,INDIRECT(Lister!$Q$4&\"!$A:$A\"),0),MATCH(K$1&\"l\",INDIRECT(Lister!$Q$4&\"!$2:$2\"),0))","v":{"$error":"#REF!"}},{"$f":"INDEX(INDIRECT(Lister!$Q$4),MATCH($A28,INDIRECT(Lister!$Q$4&\"!$A:$A\"),0),MATCH(M$1,INDIRECT(Lister!$Q$4&\"!$2:$2\"),0))","v":{"$error":"#REF!"}},{"$f":"INDEX(INDIRECT(Lister!$Q$4),MATCH($A28,INDIRECT(Lister!$Q$4&\"!$A:$A\"),0),MATCH(M$1&\"l\",INDIRECT(Lister!$Q$4&\"!$2:$2\"),0))","v":{"$error":"#REF!"}},{"$f":"INDEX(INDIRECT(Lister!$Q$4),MATCH($A28,INDIRECT(Lister!$Q$4&\"!$A:$A\"),0),MATCH(O$1,INDIRECT(Lister!$Q$4&\"!$2:$2\"),0))","v":{"$error":"#REF!"}},{"$f":"INDEX(INDIRECT(Lister!$Q$4),MATCH($A28,INDIRECT(Lister!$Q$4&\"!$A:$A\"),0),MATCH(O$1&\"l\",INDIRECT(Lister!$Q$4&\"!$2:$2\"),0))","v":{"$error":"#REF!"}}]
[315,200,{"$f":"INDEX(INDIRECT(Lister!$Q$4),MATCH($A29,INDIRECT(Lister!$Q$4&\"!$A:$A\"),0),MATCH(C$1,INDIRECT(Lister!$Q$4&\"!$2:$2\"),0))","v":{"$error":"#REF!"}},{"$f":"INDEX(INDIRECT(Lister!$Q$4),MATCH($A29,INDIRECT(Lister!$Q$4&\"!$A:$A\"),0),MATCH(C$1&\"l\",INDIRECT(Lister!$Q$4&\"!$2:$2\"),0))","v":{"$error":"#REF!"}},{"$f":"INDEX(INDIRECT(Lister!$Q$4),MATCH($A29,INDIRECT(Lister!$Q$4&\"!$A:$A\"),0),MATCH(E$1,INDIRECT(Lister!$Q$4&\"!$2:$2\"),0))","v":{"$error":"#REF!"}},{"$f":"INDEX(INDIRECT(Lister!$Q$4),MATCH($A29,INDIRECT(Lister!$Q$4&\"!$A:$A\"),0),MATCH(E$1&\"l\",INDIRECT(Lister!$Q$4&\"!$2:$2\"),0))","v":{"$error":"#REF!"}},{"$f":"INDEX(INDIRECT(Lister!$Q$4),MATCH($A29,INDIRECT(Lister!$Q$4&\"!$A:$A\"),0),MATCH(G$1,INDIRECT(Lister!$Q$4&\"!$2:$2\"),0))","v":{"$error":"#REF!"}},{"$f":"INDEX(INDIRECT(Lister!$Q$4),MATCH($A29,INDIRECT(Lister!$Q$4&\"!$A:$A\"),0),MATCH(G$1&\"l\",INDIRECT(Lister!$Q$4&\"!$2:$2\"),0))","v":{"$error":"#REF!"}},{"$f":"INDEX(INDIRECT(Lister!$Q$4),MATCH($A29,INDIRECT(Lister!$Q$4&\"!$A:$A\"),0),MATCH(I$1,INDIRECT(Lister!$Q$4&\"!$2:$2\"),0))","v":{"$error":"#REF!"}},{"$f":"INDEX(INDIRECT(Lister!$Q$4),MATCH($A29,INDIRECT(Lister!$Q$4&\"!$A:$A\"),0),MATCH(I$1&\"l\",INDIRECT(Lister!$Q$4&\"!$2:$2\"),0))","v":{"$error":"#REF!"}},{"$f":"INDEX(INDIRECT(Lister!$Q$4),MATCH($A29,INDIRECT(Lister!$Q$4&\"!$A:$A\"),0),MATCH(K$1,INDIRECT(Lister!$Q$4&\"!$2:$2\"),0))","v":{"$error":"#REF!"}},{"$f":"INDEX(INDIRECT(Lister!$Q$4),MATCH($A29,INDIRECT(Lister!$Q$4&\"!$A:$A\"),0),MATCH(K$1&\"l\",INDIRECT(Lister!$Q$4&\"!$2:$2\"),0))","v":{"$error":"#REF!"}},{"$f":"INDEX(INDIRECT(Lister!$Q$4),MATCH($A29,INDIRECT(Lister!$Q$4&\"!$A:$A\"),0),MATCH(M$1,INDIRECT(Lister!$Q$4&\"!$2:$2\"),0))","v":{"$error":"#REF!"}},{"$f":"INDEX(INDIRECT(Lister!$Q$4),MATCH($A29,INDIRECT(Lister!$Q$4&\"!$A:$A\"),0),MATCH(M$1&\"l\",INDIRECT(Lister!$Q$4&\"!$2:$2\"),0))","v":{"$error":"#REF!"}},{"$f":"INDEX(INDIRECT(Lister!$Q$4),MATCH($A29,INDIRECT(Lister!$Q$4&\"!$A:$A\"),0),MATCH(O$1,INDIRECT(Lister!$Q$4&\"!$2:$2\"),0))","v":{"$error":"#REF!"}},{"$f":"INDEX(INDIRECT(Lister!$Q$4),MATCH($A29,INDIRECT(Lister!$Q$4&\"!$A:$A\"),0),MATCH(O$1&\"l\",INDIRECT(Lister!$Q$4&\"!$2:$2\"),0))","v":{"$error":"#REF!"}}]
[355,256,{"$f":"INDEX(INDIRECT(Lister!$Q$4),MATCH($A30,INDIRECT(Lister!$Q$4&\"!$A:$A\"),0),MATCH(C$1,INDIRECT(Lister!$Q$4&\"!$2:$2\"),0))","v":{"$error":"#REF!"}},{"$f":"INDEX(INDIRECT(Lister!$Q$4),MATCH($A30,INDIRECT(Lister!$Q$4&\"!$A:$A\"),0),MATCH(C$1&\"l\",INDIRECT(Lister!$Q$4&\"!$2:$2\"),0))","v":{"$error":"#REF!"}},{"$f":"INDEX(INDIRECT(Lister!$Q$4),MATCH($A30,INDIRECT(Lister!$Q$4&\"!$A:$A\"),0),MATCH(E$1,INDIRECT(Lister!$Q$4&\"!$2:$2\"),0))","v":{"$error":"#REF!"}},{"$f":"INDEX(INDIRECT(Lister!$Q$4),MATCH($A30,INDIRECT(Lister!$Q$4&\"!$A:$A\"),0),MATCH(E$1&\"l\",INDIRECT(Lister!$Q$4&\"!$2:$2\"),0))","v":{"$error":"#REF!"}},{"$f":"INDEX(INDIRECT(Lister!$Q$4),MATCH($A30,INDIRECT(Lister!$Q$4&\"!$A:$A\"),0),MATCH(G$1,INDIRECT(Lister!$Q$4&\"!$2:$2\"),0))","v":{"$error":"#REF!"}},{"$f":"INDEX(INDIRECT(Lister!$Q$4),MATCH($A30,INDIRECT(Lister!$Q$4&\"!$A:$A\"),0),MATCH(G$1&\"l\",INDIRECT(Lister!$Q$4&\"!$2:$2\"),0))","v":{"$error":"#REF!"}},{"$f":"INDEX(INDIRECT(Lister!$Q$4),MATCH($A30,INDIRECT(Lister!$Q$4&\"!$A:$A\"),0),MATCH(I$1,INDIRECT(Lister!$Q$4&\"!$2:$2\"),0))","v":{"$error":"#REF!"}},{"$f":"INDEX(INDIRECT(Lister!$Q$4),MATCH($A30,INDIRECT(Lister!$Q$4&\"!$A:$A\"),0),MATCH(I$1&\"l\",INDIRECT(Lister!$Q$4&\"!$2:$2\"),0))","v":{"$error":"#REF!"}},{"$f":"INDEX(INDIRECT(Lister!$Q$4),MATCH($A30,INDIRECT(Lister!$Q$4&\"!$A:$A\"),0),MATCH(K$1,INDIRECT(Lister!$Q$4&\"!$2:$2\"),0))","v":{"$error":"#REF!"}},{"$f":"INDEX(INDIRECT(Lister!$Q$4),MATCH($A30,INDIRECT(Lister!$Q$4&\"!$A:$A\"),0),MATCH(K$1&\"l\",INDIRECT(Lister!$Q$4&\"!$2:$2\"),0))","v":{"$error":"#REF!"}},{"$f":"INDEX(INDIRECT(Lister!$Q$4),MATCH($A30,INDIRECT(Lister!$Q$4&\"!$A:$A\"),0),MATCH(M$1,INDIRECT(Lister!$Q$4&\"!$2:$2\"),0))","v":{"$error":"#REF!"}},{"$f":"INDEX(INDIRECT(Lister!$Q$4),MATCH($A30,INDIRECT(Lister!$Q$4&\"!$A:$A\"),0),MATCH(M$1&\"l\",INDIRECT(Lister!$Q$4&\"!$2:$2\"),0))","v":{"$error":"#REF!"}},{"$f":"INDEX(INDIRECT(Lister!$Q$4),MATCH($A30,INDIRECT(Lister!$Q$4&\"!$A:$A\"),0),MATCH(O$1,INDIRECT(Lister!$Q$4&\"!$2:$2\"),0))","v":{"$error":"#REF!"}},{"$f":"INDEX(INDIRECT(Lister!$Q$4),MATCH($A30,INDIRECT(Lister!$Q$4&\"!$A:$A\"),0),MATCH(O$1&\"l\",INDIRECT(Lister!$Q$4&\"!$2:$2\"),0))","v":{"$error":"#REF!"}}]
[400,300,{"$f":"INDEX(INDIRECT(Lister!$Q$4),MATCH($A31,INDIRECT(Lister!$Q$4&\"!$A:$A\"),0),MATCH(C$1,INDIRECT(Lister!$Q$4&\"!$2:$2\"),0))","v":{"$error":"#REF!"}},{"$f":"INDEX(INDIRECT(Lister!$Q$4),MATCH($A31,INDIRECT(Lister!$Q$4&\"!$A:$A\"),0),MATCH(C$1&\"l\",INDIRECT(Lister!$Q$4&\"!$2:$2\"),0))","v":{"$error":"#REF!"}},{"$f":"INDEX(INDIRECT(Lister!$Q$4),MATCH($A31,INDIRECT(Lister!$Q$4&\"!$A:$A\"),0),MATCH(E$1,INDIRECT(Lister!$Q$4&\"!$2:$2\"),0))","v":{"$error":"#REF!"}},{"$f":"INDEX(INDIRECT(Lister!$Q$4),MATCH($A31,INDIRECT(Lister!$Q$4&\"!$A:$A\"),0),MATCH(E$1&\"l\",INDIRECT(Lister!$Q$4&\"!$2:$2\"),0))","v":{"$error":"#REF!"}},{"$f":"INDEX(INDIRECT(Lister!$Q$4),MATCH($A31,INDIRECT(Lister!$Q$4&\"!$A:$A\"),0),MATCH(G$1,INDIRECT(Lister!$Q$4&\"!$2:$2\"),0))","v":{"$error":"#REF!"}},{"$f":"INDEX(INDIRECT(Lister!$Q$4),MATCH($A31,INDIRECT(Lister!$Q$4&\"!$A:$A\"),0),MATCH(G$1&\"l\",INDIRECT(Lister!$Q$4&\"!$2:$2\"),0))","v":{"$error":"#REF!"}},{"$f":"INDEX(INDIRECT(Lister!$Q$4),MATCH($A31,INDIRECT(Lister!$Q$4&\"!$A:$A\"),0),MATCH(I$1,INDIRECT(Lister!$Q$4&\"!$2:$2\"),0))","v":{"$error":"#REF!"}},{"$f":"INDEX(INDIRECT(Lister!$Q$4),MATCH($A31,INDIRECT(Lister!$Q$4&\"!$A:$A\"),0),MATCH(I$1&\"l\",INDIRECT(Lister!$Q$4&\"!$2:$2\"),0))","v":{"$error":"#REF!"}},{"$f":"INDEX(INDIRECT(Lister!$Q$4),MATCH($A31,INDIRECT(Lister!$Q$4&\"!$A:$A\"),0),MATCH(K$1,INDIRECT(Lister!$Q$4&\"!$2:$2\"),0))","v":{"$error":"#REF!"}},{"$f":"INDEX(INDIRECT(Lister!$Q$4),MATCH($A31,INDIRECT(Lister!$Q$4&\"!$A:$A\"),0),MATCH(K$1&\"l\",INDIRECT(Lister!$Q$4&\"!$2:$2\"),0))","v":{"$error":"#REF!"}},{"$f":"INDEX(INDIRECT(Lister!$Q$4),MATCH($A31,INDIRECT(Lister!$Q$4&\"!$A:$A\"),0),MATCH(M$1,INDIRECT(Lister!$Q$4&\"!$2:$2\"),0))","v":{"$error":"#REF!"}},{"$f":"INDEX(INDIRECT(Lister!$Q$4),MATCH($A31,INDIRECT(Lister!$Q$4&\"!$A:$A\"),0),MATCH(M$1&\"l\",INDIRECT(Lister!$Q$4&\"!$2:$2\"),0))","v":{"$error":"#REF!"}},{"$f":"INDEX(INDIRECT(Lister!$Q$4),MATCH($A31,INDIRECT(Lister!$Q$4&\"!$A:$A\"),0),MATCH(O$1,INDIRECT(Lister!$Q$4&\"!$2:$2\"),0))","v":{"$error":"#REF!"}},{"$f":"INDEX(INDIRECT(Lister!$Q$4),MATCH($A31,INDIRECT(Lister!$Q$4&\"!$A:$A\"),0),MATCH(O$1&\"l\",INDIRECT(Lister!$Q$4&\"!$2:$2\"),0))","v":{"$error":"#REF!"}}]
[450,400,{"$f":"INDEX(INDIRECT(Lister!$Q$4),MATCH($A32,INDIRECT(Lister!$Q$4&\"!$A:$A\"),0),MATCH(C$1,INDIRECT(Lister!$Q$4&\"!$2:$2\"),0))","v":{"$error":"#REF!"}},{"$f":"INDEX(INDIRECT(Lister!$Q$4),MATCH($A32,INDIRECT(Lister!$Q$4&\"!$A:$A\"),0),MATCH(C$1&\"l\",INDIRECT(Lister!$Q$4&\"!$2:$2\"),0))","v":{"$error":"#REF!"}},{"$f":"INDEX(INDIRECT(Lister!$Q$4),MATCH($A32,INDIRECT(Lister!$Q$4&\"!$A:$A\"),0),MATCH(E$1,INDIRECT(Lister!$Q$4&\"!$2:$2\"),0))","v":{"$error":"#REF!"}},{"$f":"INDEX(INDIRECT(Lister!$Q$4),MATCH($A32,INDIRECT(Lister!$Q$4&\"!$A:$A\"),0),MATCH(E$1&\"l\",INDIRECT(Lister!$Q$4&\"!$2:$2\"),0))","v":{"$error":"#REF!"}},{"$f":"INDEX(INDIRECT(Lister!$Q$4),MATCH($A32,INDIRECT(Lister!$Q$4&\"!$A:$A\"),0),MATCH(G$1,INDIRECT(Lister!$Q$4&\"!$2:$2\"),0))","v":{"$error":"#REF!"}},{"$f":"INDEX(INDIRECT(Lister!$Q$4),MATCH($A32,INDIRECT(Lister!$Q$4&\"!$A:$A\"),0),MATCH(G$1&\"l\",INDIRECT(Lister!$Q$4&\"!$2:$2\"),0))","v":{"$error":"#REF!"}},{"$f":"INDEX(INDIRECT(Lister!$Q$4),MATCH($A32,INDIRECT(Lister!$Q$4&\"!$A:$A\"),0),MATCH(I$1,INDIRECT(Lister!$Q$4&\"!$2:$2\"),0))","v":{"$error":"#REF!"}},{"$f":"INDEX(INDIRECT(Lister!$Q$4),MATCH($A32,INDIRECT(Lister!$Q$4&\"!$A:$A\"),0),MATCH(I$1&\"l\",INDIRECT(Lister!$Q$4&\"!$2:$2\"),0))","v":{"$error":"#REF!"}},{"$f":"INDEX(INDIRECT(Lister!$Q$4),MATCH($A32,INDIRECT(Lister!$Q$4&\"!$A:$A\"),0),MATCH(K$1,INDIRECT(Lister!$Q$4&\"!$2:$2\"),0))","v":{"$error":"#REF!"}},{"$f":"INDEX(INDIRECT(Lister!$Q$4),MATCH($A32,INDIRECT(Lister!$Q$4&\"!$A:$A\"),0),MATCH(K$1&\"l\",INDIRECT(Lister!$Q$4&\"!$2:$2\"),0))","v":{"$error":"#REF!"}},{"$f":"INDEX(INDIRECT(Lister!$Q$4),MATCH($A32,INDIRECT(Lister!$Q$4&\"!$A:$A\"),0),MATCH(M$1,INDIRECT(Lister!$Q$4&\"!$2:$2\"),0))","v":{"$error":"#REF!"}},{"$f":"INDEX(INDIRECT(Lister!$Q$4),MATCH($A32,INDIRECT(Lister!$Q$4&\"!$A:$A\"),0),MATCH(M$1&\"l\",INDIRECT(Lister!$Q$4&\"!$2:$2\"),0))","v":{"$error":"#REF!"}},{"$f":"INDEX(INDIRECT(Lister!$Q$4),MATCH($A32,INDIRECT(Lister!$Q$4&\"!$A:$A\"),0),MATCH(O$1,INDIRECT(Lister!$Q$4&\"!$2:$2\"),0))","v":{"$error":"#REF!"}},{"$f":"INDEX(INDIRECT(Lister!$Q$4),MATCH($A32,INDIRECT(Lister!$Q$4&\"!$A:$A\"),0),MATCH(O$1&\"l\",INDIRECT(Lister!$Q$4&\"!$2:$2\"),0))","v":{"$error":"#REF!"}}]
[500,720,{"$f":"INDEX(INDIRECT(Lister!$Q$4),MATCH($A33,INDIRECT(Lister!$Q$4&\"!$A:$A\"),0),MATCH(C$1,INDIRECT(Lister!$Q$4&\"!$2:$2\"),0))","v":{"$error":"#REF!"}},{"$f":"INDEX(INDIRECT(Lister!$Q$4),MATCH($A33,INDIRECT(Lister!$Q$4&\"!$A:$A\"),0),MATCH(C$1&\"l\",INDIRECT(Lister!$Q$4&\"!$2:$2\"),0))","v":{"$error":"#REF!"}},{"$f":"INDEX(INDIRECT(Lister!$Q$4),MATCH($A33,INDIRECT(Lister!$Q$4&\"!$A:$A\"),0),MATCH(E$1,INDIRECT(Lister!$Q$4&\"!$2:$2\"),0))","v":{"$error":"#REF!"}},{"$f":"INDEX(INDIRECT(Lister!$Q$4),MATCH($A33,INDIRECT(Lister!$Q$4&\"!$A:$A\"),0),MATCH(E$1&\"l\",INDIRECT(Lister!$Q$4&\"!$2:$2\"),0))","v":{"$error":"#REF!"}},{"$f":"INDEX(INDIRECT(Lister!$Q$4),MATCH($A33,INDIRECT(Lister!$Q$4&\"!$A:$A\"),0),MATCH(G$1,INDIRECT(Lister!$Q$4&\"!$2:$2\"),0))","v":{"$error":"#REF!"}},{"$f":"INDEX(INDIRECT(Lister!$Q$4),MATCH($A33,INDIRECT(Lister!$Q$4&\"!$A:$A\"),0),MATCH(G$1&\"l\",INDIRECT(Lister!$Q$4&\"!$2:$2\"),0))","v":{"$error":"#REF!"}},{"$f":"INDEX(INDIRECT(Lister!$Q$4),MATCH($A33,INDIRECT(Lister!$Q$4&\"!$A:$A\"),0),MATCH(I$1,INDIRECT(Lister!$Q$4&\"!$2:$2\"),0))","v":{"$error":"#REF!"}},{"$f":"INDEX(INDIRECT(Lister!$Q$4),MATCH($A33,INDIRECT(Lister!$Q$4&\"!$A:$A\"),0),MATCH(I$1&\"l\",INDIRECT(Lister!$Q$4&\"!$2:$2\"),0))","v":{"$error":"#REF!"}},{"$f":"INDEX(INDIRECT(Lister!$Q$4),MATCH($A33,INDIRECT(Lister!$Q$4&\"!$A:$A\"),0),MATCH(K$1,INDIRECT(Lister!$Q$4&\"!$2:$2\"),0))","v":{"$error":"#REF!"}},{"$f":"INDEX(INDIRECT(Lister!$Q$4),MATCH($A33,INDIRECT(Lister!$Q$4&\"!$A:$A\"),0),MATCH(K$1&\"l\",INDIRECT(Lister!$Q$4&\"!$2:$2\"),0))","v":{"$error":"#REF!"}},{"$f":"INDEX(INDIRECT(Lister!$Q$4),MATCH($A33,INDIRECT(Lister!$Q$4&\"!$A:$A\"),0),MATCH(M$1,INDIRECT(Lister!$Q$4&\"!$2:$2\"),0))","v":{"$error":"#REF!"}},{"$f":"INDEX(INDIRECT(Lister!$Q$4),MATCH($A33,INDIRECT(Lister!$Q$4&\"!$A:$A\"),0),MATCH(M$1&\"l\",INDIRECT(Lister!$Q$4&\"!$2:$2\"),0))","v":{"$error":"#REF!"}},{"$f":"INDEX(INDIRECT(Lister!$Q$4),MATCH($A33,INDIRECT(Lister!$Q$4&\"!$A:$A\"),0),MATCH(O$1,INDIRECT(Lister!$Q$4&\"!$2:$2\"),0))","v":{"$error":"#REF!"}},{"$f":"INDEX(INDIRECT(Lister!$Q$4),MATCH($A33,INDIRECT(Lister!$Q$4&\"!$A:$A\"),0),MATCH(O$1&\"l\",INDIRECT(Lister!$Q$4&\"!$2:$2\"),0))","v":{"$error":"#REF!"}}]
[560,830,{"$f":"INDEX(INDIRECT(Lister!$Q$4),MATCH($A34,INDIRECT(Lister!$Q$4&\"!$A:$A\"),0),MATCH(C$1,INDIRECT(Lister!$Q$4&\"!$2:$2\"),0))","v":{"$error":"#REF!"}},{"$f":"INDEX(INDIRECT(Lister!$Q$4),MATCH($A34,INDIRECT(Lister!$Q$4&\"!$A:$A\"),0),MATCH(C$1&\"l\",INDIRECT(Lister!$Q$4&\"!$2:$2\"),0))","v":{"$error":"#REF!"}},{"$f":"INDEX(INDIRECT(Lister!$Q$4),MATCH($A34,INDIRECT(Lister!$Q$4&\"!$A:$A\"),0),MATCH(E$1,INDIRECT(Lister!$Q$4&\"!$2:$2\"),0))","v":{"$error":"#REF!"}},{"$f":"INDEX(INDIRECT(Lister!$Q$4),MATCH($A34,INDIRECT(Lister!$Q$4&\"!$A:$A\"),0),MATCH(E$1&\"l\",INDIRECT(Lister!$Q$4&\"!$2:$2\"),0))","v":{"$error":"#REF!"}},{"$f":"INDEX(INDIRECT(Lister!$Q$4),MATCH($A34,INDIRECT(Lister!$Q$4&\"!$A:$A\"),0),MATCH(G$1,INDIRECT(Lister!$Q$4&\"!$2:$2\"),0))","v":{"$error":"#REF!"}},{"$f":"INDEX(INDIRECT(Lister!$Q$4),MATCH($A34,INDIRECT(Lister!$Q$4&\"!$A:$A\"),0),MATCH(G$1&\"l\",INDIRECT(Lister!$Q$4&\"!$2:$2\"),0))","v":{"$error":"#REF!"}},{"$f":"INDEX(INDIRECT(Lister!$Q$4),MATCH($A34,INDIRECT(Lister!$Q$4&\"!$A:$A\"),0),MATCH(I$1,INDIRECT(Lister!$Q$4&\"!$2:$2\"),0))","v":{"$error":"#REF!"}},{"$f":"INDEX(INDIRECT(Lister!$Q$4),MATCH($A34,INDIRECT(Lister!$Q$4&\"!$A:$A\"),0),MATCH(I$1&\"l\",INDIRECT(Lister!$Q$4&\"!$2:$2\"),0))","v":{"$error":"#REF!"}},{"$f":"INDEX(INDIRECT(Lister!$Q$4),MATCH($A34,INDIRECT(Lister!$Q$4&\"!$A:$A\"),0),MATCH(K$1,INDIRECT(Lister!$Q$4&\"!$2:$2\"),0))","v":{"$error":"#REF!"}},{"$f":"INDEX(INDIRECT(Lister!$Q$4),MATCH($A34,INDIRECT(Lister!$Q$4&\"!$A:$A\"),0),MATCH(K$1&\"l\",INDIRECT(Lister!$Q$4&\"!$2:$2\"),0))","v":{"$error":"#REF!"}},{"$f":"INDEX(INDIRECT(Lister!$Q$4),MATCH($A34,INDIRECT(Lister!$Q$4&\"!$A:$A\"),0),MATCH(M$1,INDIRECT(Lister!$Q$4&\"!$2:$2\"),0))","v":{"$error":"#REF!"}},{"$f":"INDEX(INDIRECT(Lister!$Q$4),MATCH($A34,INDIRECT(Lister!$Q$4&\"!$A:$A\"),0),MATCH(M$1&\"l\",INDIRECT(Lister!$Q$4&\"!$2:$2\"),0))","v":{"$error":"#REF!"}},{"$f":"INDEX(INDIRECT(Lister!$Q$4),MATCH($A34,INDIRECT(Lister!$Q$4&\"!$A:$A\"),0),MATCH(O$1,INDIRECT(Lister!$Q$4&\"!$2:$2\"),0))","v":{"$error":"#REF!"}},{"$f":"INDEX(INDIRECT(Lister!$Q$4),MATCH($A34,INDIRECT(Lister!$Q$4&\"!$A:$A\"),0),MATCH(O$1&\"l\",INDIRECT(Lister!$Q$4&\"!$2:$2\"),0))","v":{"$error":"#REF!"}}]
[630,900,{"$f":"INDEX(INDIRECT(Lister!$Q$4),MATCH($A35,INDIRECT(Lister!$Q$4&\"!$A:$A\"),0),MATCH(C$1,INDIRECT(Lister!$Q$4&\"!$2:$2\"),0))","v":{"$error":"#REF!"}},{"$f":"INDEX(INDIRECT(Lister!$Q$4),MATCH($A35,INDIRECT(Lister!$Q$4&\"!$A:$A\"),0),MATCH(C$1&\"l\",INDIRECT(Lister!$Q$4&\"!$2:$2\"),0))","v":{"$error":"#REF!"}},{"$f":"INDEX(INDIRECT(Lister!$Q$4),MATCH($A35,INDIRECT(Lister!$Q$4&\"!$A:$A\"),0),MATCH(E$1,INDIRECT(Lister!$Q$4&\"!$2:$2\"),0))","v":{"$error":"#REF!"}},{"$f":"INDEX(INDIRECT(Lister!$Q$4),MATCH($A35,INDIRECT(Lister!$Q$4&\"!$A:$A\"),0),MATCH(E$1&\"l\",INDIRECT(Lister!$Q$4&\"!$2:$2\"),0))","v":{"$error":"#REF!"}},{"$f":"INDEX(INDIRECT(Lister!$Q$4),MATCH($A35,INDIRECT(Lister!$Q$4&\"!$A:$A\"),0),MATCH(G$1,INDIRECT(Lister!$Q$4&\"!$2:$2\"),0))","v":{"$error":"#REF!"}},{"$f":"INDEX(INDIRECT(Lister!$Q$4),MATCH($A35,INDIRECT(Lister!$Q$4&\"!$A:$A\"),0),MATCH(G$1&\"l\",INDIRECT(Lister!$Q$4&\"!$2:$2\"),0))","v":{"$error":"#REF!"}},{"$f":"INDEX(INDIRECT(Lister!$Q$4),MATCH($A35,INDIRECT(Lister!$Q$4&\"!$A:$A\"),0),MATCH(I$1,INDIRECT(Lister!$Q$4&\"!$2:$2\"),0))","v":{"$error":"#REF!"}},{"$f":"INDEX(INDIRECT(Lister!$Q$4),MATCH($A35,INDIRECT(Lister!$Q$4&\"!$A:$A\"),0),MATCH(I$1&\"l\",INDIRECT(Lister!$Q$4&\"!$2:$2\"),0))","v":{"$error":"#REF!"}},{"$f":"INDEX(INDIRECT(Lister!$Q$4),MATCH($A35,INDIRECT(Lister!$Q$4&\"!$A:$A\"),0),MATCH(K$1,INDIRECT(Lister!$Q$4&\"!$2:$2\"),0))","v":{"$error":"#REF!"}},{"$f":"INDEX(INDIRECT(Lister!$Q$4),MATCH($A35,INDIRECT(Lister!$Q$4&\"!$A:$A\"),0),MATCH(K$1&\"l\",INDIRECT(Lister!$Q$4&\"!$2:$2\"),0))","v":{"$error":"#REF!"}},{"$f":"INDEX(INDIRECT(Lister!$Q$4),MATCH($A35,INDIRECT(Lister!$Q$4&\"!$A:$A\"),0),MATCH(M$1,INDIRECT(Lister!$Q$4&\"!$2:$2\"),0))","v":{"$error":"#REF!"}},{"$f":"INDEX(INDIRECT(Lister!$Q$4),MATCH($A35,INDIRECT(Lister!$Q$4&\"!$A:$A\"),0),MATCH(M$1&\"l\",INDIRECT(Lister!$Q$4&\"!$2:$2\"),0))","v":{"$error":"#REF!"}},{"$f":"INDEX(INDIRECT(Lister!$Q$4),MATCH($A35,INDIRECT(Lister!$Q$4&\"!$A:$A\"),0),MATCH(O$1,INDIRECT(Lister!$Q$4&\"!$2:$2\"),0))","v":{"$error":"#REF!"}},{"$f":"INDEX(INDIRECT(Lister!$Q$4),MATCH($A35,INDIRECT(Lister!$Q$4&\"!$A:$A\"),0),MATCH(O$1&\"l\",INDIRECT(Lister!$Q$4&\"!$2:$2\"),0))","v":{"$error":"#REF!"}}]
[710,1200,{"$f":"INDEX(INDIRECT(Lister!$Q$4),MATCH($A36,INDIRECT(Lister!$Q$4&\"!$A:$A\"),0),MATCH(C$1,INDIRECT(Lister!$Q$4&\"!$2:$2\"),0))","v":{"$error":"#REF!"}},{"$f":"INDEX(INDIRECT(Lister!$Q$4),MATCH($A36,INDIRECT(Lister!$Q$4&\"!$A:$A\"),0),MATCH(C$1&\"l\",INDIRECT(Lister!$Q$4&\"!$2:$2\"),0))","v":{"$error":"#REF!"}},{"$f":"INDEX(INDIRECT(Lister!$Q$4),MATCH($A36,INDIRECT(Lister!$Q$4&\"!$A:$A\"),0),MATCH(E$1,INDIRECT(Lister!$Q$4&\"!$2:$2\"),0))","v":{"$error":"#REF!"}},{"$f":"INDEX(INDIRECT(Lister!$Q$4),MATCH($A36,INDIRECT(Lister!$Q$4&\"!$A:$A\"),0),MATCH(E$1&\"l\",INDIRECT(Lister!$Q$4&\"!$2:$2\"),0))","v":{"$error":"#REF!"}},{"$f":"INDEX(INDIRECT(Lister!$Q$4),MATCH($A36,INDIRECT(Lister!$Q$4&\"!$A:$A\"),0),MATCH(G$1,INDIRECT(Lister!$Q$4&\"!$2:$2\"),0))","v":{"$error":"#REF!"}},{"$f":"INDEX(INDIRECT(Lister!$Q$4),MATCH($A36,INDIRECT(Lister!$Q$4&\"!$A:$A\"),0),MATCH(G$1&\"l\",INDIRECT(Lister!$Q$4&\"!$2:$2\"),0))","v":{"$error":"#REF!"}},{"$f":"INDEX(INDIRECT(Lister!$Q$4),MATCH($A36,INDIRECT(Lister!$Q$4&\"!$A:$A\"),0),MATCH(I$1,INDIRECT(Lister!$Q$4&\"!$2:$2\"),0))","v":{"$error":"#REF!"}},{"$f":"INDEX(INDIRECT(Lister!$Q$4),MATCH($A36,INDIRECT(Lister!$Q$4&\"!$A:$A\"),0),MATCH(I$1&\"l\",INDIRECT(Lister!$Q$4&\"!$2:$2\"),0))","v":{"$error":"#REF!"}},{"$f":"INDEX(INDIRECT(Lister!$Q$4),MATCH($A36,INDIRECT(Lister!$Q$4&\"!$A:$A\"),0),MATCH(K$1,INDIRECT(Lister!$Q$4&\"!$2:$2\"),0))","v":{"$error":"#REF!"}},{"$f":"INDEX(INDIRECT(Lister!$Q$4),MATCH($A36,INDIRECT(Lister!$Q$4&\"!$A:$A\"),0),MATCH(K$1&\"l\",INDIRECT(Lister!$Q$4&\"!$2:$2\"),0))","v":{"$error":"#REF!"}},{"$f":"INDEX(INDIRECT(Lister!$Q$4),MATCH($A36,INDIRECT(Lister!$Q$4&\"!$A:$A\"),0),MATCH(M$1,INDIRECT(Lister!$Q$4&\"!$2:$2\"),0))","v":{"$error":"#REF!"}},{"$f":"INDEX(INDIRECT(Lister!$Q$4),MATCH($A36,INDIRECT(Lister!$Q$4&\"!$A:$A\"),0),MATCH(M$1&\"l\",INDIRECT(Lister!$Q$4&\"!$2:$2\"),0))","v":{"$error":"#REF!"}},{"$f":"INDEX(INDIRECT(Lister!$Q$4),MATCH($A36,INDIRECT(Lister!$Q$4&\"!$A:$A\"),0),MATCH(O$1,INDIRECT(Lister!$Q$4&\"!$2:$2\"),0))","v":{"$error":"#REF!"}},{"$f":"INDEX(INDIRECT(Lister!$Q$4),MATCH($A36,INDIRECT(Lister!$Q$4&\"!$A:$A\"),0),MATCH(O$1&\"l\",INDIRECT(Lister!$Q$4&\"!$2:$2\"),0))","v":{"$error":"#REF!"}}]
[800,1460,{"$f":"INDEX(INDIRECT(Lister!$Q$4),MATCH($A37,INDIRECT(Lister!$Q$4&\"!$A:$A\"),0),MATCH(C$1,INDIRECT(Lister!$Q$4&\"!$2:$2\"),0))","v":{"$error":"#REF!"}},{"$f":"INDEX(INDIRECT(Lister!$Q$4),MATCH($A37,INDIRECT(Lister!$Q$4&\"!$A:$A\"),0),MATCH(C$1&\"l\",INDIRECT(Lister!$Q$4&\"!$2:$2\"),0))","v":{"$error":"#REF!"}},{"$f":"INDEX(INDIRECT(Lister!$Q$4),MATCH($A37,INDIRECT(Lister!$Q$4&\"!$A:$A\"),0),MATCH(E$1,INDIRECT(Lister!$Q$4&\"!$2:$2\"),0))","v":{"$error":"#REF!"}},{"$f":"INDEX(INDIRECT(Lister!$Q$4),MATCH($A37,INDIRECT(Lister!$Q$4&\"!$A:$A\"),0),MATCH(E$1&\"l\",INDIRECT(Lister!$Q$4&\"!$2:$2\"),0))","v":{"$error":"#REF!"}},{"$f":"INDEX(INDIRECT(Lister!$Q$4),MATCH($A37,INDIRECT(Lister!$Q$4&\"!$A:$A\"),0),MATCH(G$1,INDIRECT(Lister!$Q$4&\"!$2:$2\"),0))","v":{"$error":"#REF!"}},{"$f":"INDEX(INDIRECT(Lister!$Q$4),MATCH($A37,INDIRECT(Lister!$Q$4&\"!$A:$A\"),0),MATCH(G$1&\"l\",INDIRECT(Lister!$Q$4&\"!$2:$2\"),0))","v":{"$error":"#REF!"}},{"$f":"INDEX(INDIRECT(Lister!$Q$4),MATCH($A37,INDIRECT(Lister!$Q$4&\"!$A:$A\"),0),MATCH(I$1,INDIRECT(Lister!$Q$4&\"!$2:$2\"),0))","v":{"$error":"#REF!"}},{"$f":"INDEX(INDIRECT(Lister!$Q$4),MATCH($A37,INDIRECT(Lister!$Q$4&\"!$A:$A\"),0),MATCH(I$1&\"l\",INDIRECT(Lister!$Q$4&\"!$2:$2\"),0))","v":{"$error":"#REF!"}},{"$f":"INDEX(INDIRECT(Lister!$Q$4),MATCH($A37,INDIRECT(Lister!$Q$4&\"!$A:$A\"),0),MATCH(K$1,INDIRECT(Lister!$Q$4&\"!$2:$2\"),0))","v":{"$error":"#REF!"}},{"$f":"INDEX(INDIRECT(Lister!$Q$4),MATCH($A37,INDIRECT(Lister!$Q$4&\"!$A:$A\"),0),MATCH(K$1&\"l\",INDIRECT(Lister!$Q$4&\"!$2:$2\"),0))","v":{"$error":"#REF!"}},{"$f":"INDEX(INDIRECT(Lister!$Q$4),MATCH($A37,INDIRECT(Lister!$Q$4&\"!$A:$A\"),0),MATCH(M$1,INDIRECT(Lister!$Q$4&\"!$2:$2\"),0))","v":{"$error":"#REF!"}},{"$f":"INDEX(INDIRECT(Lister!$Q$4),MATCH($A37,INDIRECT(Lister!$Q$4&\"!$A:$A\"),0),MATCH(M$1&\"l\",INDIRECT(Lister!$Q$4&\"!$2:$2\"),0))","v":{"$error":"#REF!"}},{"$f":"INDEX(INDIRECT(Lister!$Q$4),MATCH($A37,INDIRECT(Lister!$Q$4&\"!$A:$A\"),0),MATCH(O$1,INDIRECT(Lister!$Q$4&\"!$2:$2\"),0))","v":{"$error":"#REF!"}},{"$f":"INDEX(INDIRECT(Lister!$Q$4),MATCH($A37,INDIRECT(Lister!$Q$4&\"!$A:$A\"),0),MATCH(O$1&\"l\",INDIRECT(Lister!$Q$4&\"!$2:$2\"),0))","v":{"$error":"#REF!"}}]
[900,1850,{"$f":"INDEX(INDIRECT(Lister!$Q$4),MATCH($A38,INDIRECT(Lister!$Q$4&\"!$A:$A\"),0),MATCH(C$1,INDIRECT(Lister!$Q$4&\"!$2:$2\"),0))","v":{"$error":"#REF!"}},{"$f":"INDEX(INDIRECT(Lister!$Q$4),MATCH($A38,INDIRECT(Lister!$Q$4&\"!$A:$A\"),0),MATCH(C$1&\"l\",INDIRECT(Lister!$Q$4&\"!$2:$2\"),0))","v":{"$error":"#REF!"}},{"$f":"INDEX(INDIRECT(Lister!$Q$4),MATCH($A38,INDIRECT(Lister!$Q$4&\"!$A:$A\"),0),MATCH(E$1,INDIRECT(Lister!$Q$4&\"!$2:$2\"),0))","v":{"$error":"#REF!"}},{"$f":"INDEX(INDIRECT(Lister!$Q$4),MATCH($A38,INDIRECT(Lister!$Q$4&\"!$A:$A\"),0),MATCH(E$1&\"l\",INDIRECT(Lister!$Q$4&\"!$2:$2\"),0))","v":{"$error":"#REF!"}},{"$f":"INDEX(INDIRECT(Lister!$Q$4),MATCH($A38,INDIRECT(Lister!$Q$4&\"!$A:$A\"),0),MATCH(G$1,INDIRECT(Lister!$Q$4&\"!$2:$2\"),0))","v":{"$error":"#REF!"}},{"$f":"INDEX(INDIRECT(Lister!$Q$4),MATCH($A38,INDIRECT(Lister!$Q$4&\"!$A:$A\"),0),MATCH(G$1&\"l\",INDIRECT(Lister!$Q$4&\"!$2:$2\"),0))","v":{"$error":"#REF!"}},{"$f":"INDEX(INDIRECT(Lister!$Q$4),MATCH($A38,INDIRECT(Lister!$Q$4&\"!$A:$A\"),0),MATCH(I$1,INDIRECT(Lister!$Q$4&\"!$2:$2\"),0))","v":{"$error":"#REF!"}},{"$f":"INDEX(INDIRECT(Lister!$Q$4),MATCH($A38,INDIRECT(Lister!$Q$4&\"!$A:$A\"),0),MATCH(I$1&\"l\",INDIRECT(Lister!$Q$4&\"!$2:$2\"),0))","v":{"$error":"#REF!"}},{"$f":"INDEX(INDIRECT(Lister!$Q$4),MATCH($A38,INDIRECT(Lister!$Q$4&\"!$A:$A\"),0),MATCH(K$1,INDIRECT(Lister!$Q$4&\"!$2:$2\"),0))","v":{"$error":"#REF!"}},{"$f":"INDEX(INDIRECT(Lister!$Q$4),MATCH($A38,INDIRECT(Lister!$Q$4&\"!$A:$A\"),0),MATCH(K$1&\"l\",INDIRECT(Lister!$Q$4&\"!$2:$2\"),0))","v":{"$error":"#REF!"}},{"$f":"INDEX(INDIRECT(Lister!$Q$4),MATCH($A38,INDIRECT(Lister!$Q$4&\"!$A:$A\"),0),MATCH(M$1,INDIRECT(Lister!$Q$4&\"!$2:$2\"),0))","v":{"$error":"#REF!"}},{"$f":"INDEX(INDIRECT(Lister!$Q$4),MATCH($A38,INDIRECT(Lister!$Q$4&\"!$A:$A\"),0),MATCH(M$1&\"l\",INDIRECT(Lister!$Q$4&\"!$2:$2\"),0))","v":{"$error":"#REF!"}},{"$f":"INDEX(INDIRECT(Lister!$Q$4),MATCH($A38,INDIRECT(Lister!$Q$4&\"!$A:$A\"),0),MATCH(O$1,INDIRECT(Lister!$Q$4&\"!$2:$2\"),0))","v":{"$error":"#REF!"}},{"$f":"INDEX(INDIRECT(Lister!$Q$4),MATCH($A38,INDIRECT(Lister!$Q$4&\"!$A:$A\"),0),MATCH(O$1&\"l\",INDIRECT(Lister!$Q$4&\"!$2:$2\"),0))","v":{"$error":"#REF!"}}]

{"sheet":"Endring","index":4,"n_rows":5,"n_cols":6,"rows_kept":5,"cut":false,"hidden":false,"merged":[[4,1,4,4]]}
["Endringslogg:"]
["Dato:","Hendelse:"]
["2013-08-12","Endret vekt på 200mm lodd til 90 kg. Endring i fane:\"Data\" og \"Data2\""]
["2014-03-11","Lagt inn stripselodd 8,5 kg"]
["2022-03-25","Skiftet vekt på Ø560 loddet fra 900kg til 830kg",null,null,null,"RG"]

{"sheet":"Ferskvann","index":5,"n_rows":39,"n_cols":15,"rows_kept":39,"cut":false,"hidden":true,"merged":[]}
["DN/OD","SDR","SDR","SDR","SDR","SDR","SDR","SDR","SDR","SDR","SDR","SDR","SDR","SDR","SDR"]
[null,26,"26l",21,"21l",17,"17l",13.6,"13,6l",11,"11l",9,"9l",7.4,"7,4l"]
[20,null,null,null,null,null,null,null,null,-0.01,0.34,-0.01,0.32,-0.01,0.26]
[25,null,null,null,null,null,null,-0.01,0.59,-0.01,0.56000000000000005,-0.01,0.48,-0.01,0.44]
[32,null,null,null,null,-0.02,1.05,-0.01,0.99,0,0.91,-0.01,0.83,-0.01,0.72]
[40,null,null,-0.02,1.74,-0.01,1.66,-0.01,1.55,-0.02,1.43,-0.01,1.29,-0.02,1.1299999999999999]
[50,-0.03,2.84,-0.02,2.74,-0.03,2.6,-0.02,2.44,-0.03,2.2400000000000002,-0.01,2.02,-0.02,1.76]
[63,-0.01,4.5199999999999996,-0.04,4.3600000000000003,-0.04,4.12,-0.01,3.86,-0.03,3.55,-0.01,3.2,-0.05,2.82]
[75,-0.04,6.43,-0.03,6.17,-0.06,5.85,-0.02,5.47,-0.04,5.0599999999999996,-0.02,4.55,-0.03,3.97]
[90,-0.06,9.25,-0.06,8.9,-0.06,8.42,-0.01,7.88,-0.06,7.28,-0.01,6.54,-0.06,5.74]
[110,-0.09,13.9,-0.05,13.3,-0.08,12.6,-0.06,11.8,-7.0000000000000007E-2,10.9,-0.03,9.7899999999999991,-0.08,8.5500000000000007]
[125,-0.08,17.899999999999999,-0.06,17.100000000000001,-0.1,16.3,-7.0000000000000007E-2,15.3,-0.04,14,-0.01,12.6,-0.09,11.1]
[140,-0.11,22.4,-0.08,21.5,-0.11,20.5,-0.09,19.100000000000001,-0.09,17.600000000000001,0.02,15.8,-0.09,13.9]
[160,-0.14000000000000001,29.3,-0.08,28.1,-0.13,26.7,-0.08,25,-0.12,23,0,20.7,-0.19,18.100000000000001]
[180,-0.13,37.1,-0.1,35.6,-0.14000000000000001,33.799999999999997,-0.08,31.6,-0.14000000000000001,29.1,-0.01,26.2,-0.21,23]
[200,-0.15,45.8,-0.12,43.9,-0.12,41.7,-0.16,39.1,-0.18,35.9,0,32.299999999999997,-0.24,28.3]
[225,-0.19,58,-0.14000000000000001,55.6,-0.21,52.8,-0.05,49.4,-0.22,45.5,0.03,40.9,-0.19,35.9]
[250,-0.22,71.5,-0.22,68.7,-0.28000000000000003,65.2,-0.19,61,-0.15,56.2,-0.06,50.7,-0.37,44.3]
[280,-0.25,89.8,-0.2,86.1,-0.28000000000000003,81.8,-0.19,76.599999999999994,-0.14000000000000001,70.599999999999994,0.09,63.5,-0.37,55.6]
[315,-0.32,114,-0.28000000000000003,109,-0.33,103,-0.23,96.9,-0.28999999999999998,89.3,7.0000000000000007E-2,80.400000000000006,-0.66,70.3]
[355,-0.37,144,-0.43,139,-0.46,131,-0.4,123,-0.59,113,0.04,102,-0.85,89.4]
[400,-1.04,183,-1.27,176,-1.51,167,-1.66,156,-2.09,144,-1.55,130,-3.01,113]
[450,-1.39,232,-1.47,222,-1.87,211,-2.13,198,-2.62,182,-1.95,164,-3.83,144]
[500,-1.79,286,-1.97,275,-2.08,261,-2.48,244,-3.18,225,-2.62,203]
[560,-2.21,359,-2.5099999999999998,345,-2.83,327,-3.16,306,-4.16,282,-3.28,254]
[630,-2.61,455,-2.99,436,-3.71,414,-4.0999999999999996,388,-3.54,357,-6.82,322]
[710,-3.17,577,-3.75,554,-4.55,526,-5,493,-5.99,453,-8.34,408]
[800,-3.99,733,-4.8,704,-5.01,668,-6.47,625,-7.69,576,-10.8,519]
[900,-6.59,928,-5.79,890,-7.22,845,-8.44,792,-9.52,729]
[1000,-7.82,1146,-7.34,1099,-8.1199999999999992,1043,-5.53,978,-11.7,900]
[1100,-7.6,1385,-8.8000000000000007,1330,-10.3,1263,-12,1182]
[1200,-11.3,1649,-10.7,1583,-9.6,1503,-14.4,1407]
[1400,-14.3,2245,-13.9,2155,-12.3,2045,-19.5,1915]
[1600,-17.3,2932,-18.3,2814,-16.3,2672,-26.1,2502]
[1800,-23.5,3712,-22.3,3561,-20.8,3382]
[2000,-29.2,4583,-27.8,4397,-25.2,4174]
[2100,-31.3,5052,-31.3,4848]
[2300,-37.9,6060,-37.700000000000003,5816]
[2500,-45.3,7160,-43.4,6871]

{"sheet":"Fjord","index":6,"n_rows":39,"n_cols":15,"rows_kept":39,"cut":false,"hidden":true,"merged":[]}
["DN/OD","SDR","SDR","SDR","SDR","SDR","SDR","SDR","SDR","SDR","SDR","SDR","SDR","SDR","SDR"]
[null,26,"26l",21,"21l",17,"17l",13.6,"13,6l",11,"11l",9,"9l",7.4,"7,4l"]
[20,null,null,null,null,null,null,null,null,0.01,0.35,0,0.33,0.01,0.27]
[25,null,null,null,null,null,null,0.01,0.61,0.01,0.56999999999999995,0.01,0.5,0.01,0.45]
[32,null,null,null,null,0.02,1.08,0.03,1.02,0.03,0.93,0.03,0.85,0.03,0.74]
[40,null,null,0.03,1.78,0.04,1.7,0.05,1.59,0.03,1.46,0.05,1.32,0.04,1.1599999999999999]
[50,0.06,2.91,0.06,2.81,0.06,2.66,7.0000000000000007E-2,2.4900000000000002,0.06,2.29,7.0000000000000007E-2,2.0699999999999998,7.0000000000000007E-2,1.8]
[63,0.12,4.62,0.1,4.47,0.1,4.22,0.12,3.95,0.11,3.63,0.13,3.27,0.08,2.88]
[75,0.15,6.58,0.16,6.32,0.13,5.99,0.18,5.59,0.15,5.18,0.17,4.66,0.16,4.07]
[90,0.22,9.4700000000000006,0.22,9.11,0.22,8.6199999999999992,0.27,8.06,0.22,7.45,0.27,6.7,0.21,5.88]
[110,0.32,14.2,0.37,13.6,0.34,12.9,0.35,12.1,0.35,11.1,0.39,10,0.33,8.75]
[125,0.45,18.3,0.47,17.600000000000001,0.44,16.7,0.46,15.6,0.5,14.4,0.52,12.9,0.44,11.3]
[140,0.56000000000000005,22.9,0.6,22,0.56000000000000005,20.9,0.57999999999999996,19.600000000000001,0.57999999999999996,18.100000000000001,0.69,16.2,0.57999999999999996,14.2]
[160,0.73,29.9,0.8,28.7,0.74,27.3,0.8,25.6,0.76,23.5,0.88,21.2,0.69,18.600000000000001]
[180,0.98,38,1.01,36.4,0.98,34.6,1.04,32.299999999999997,0.97,29.8,1.1100000000000001,26.9,0.9,23.5]
[200,1.22,46.8,1.26,44.9,1.26,42.7,1.21,40,1.19,36.799999999999997,1.37,33.1,1.1200000000000001,29]
[225,1.54,59.3,1.6,56.9,1.53,54,1.68,50.6,1.51,46.5,1.77,41.9,1.55,36.700000000000003]
[250,1.92,73.2,1.92,70.3,1.86,66.8,1.95,62.5,1.99,57.5,2.09,51.8,1.77,45.3]
[280,2.44,91.9,2.4900000000000002,88.1,2.41,83.7,2.5,78.400000000000006,2.5499999999999998,72.2,2.79,65,2.31,56.9]
[315,3.08,116,3.12,112,3.07,106,3.18,99.2,3.12,91.3,3.48,82.2,2.74,72]
[355,3.96,148,3.89,142,3.86,134,3.92,126,3.73,116,4.37,104,3.46,91.5]
[400,4.43,188,4.2,180,3.95,171,3.8,160,3.36,147,3.91,133,2.41,116]
[450,5.53,237,5.46,228,5.04,216,4.7699999999999996,202,4.2699999999999996,186,4.97,168,3.04,147]
[500,6.76,293,6.57,281,6.46,267,6.05,250,5.33,230,5.91,207]
[560,8.52,368,8.2100000000000009,353,7.88,335,7.54,314,6.51,289,7.42,260]
[630,11,465,10.6,447,9.84,424,9.44,397,10,365,6.66,329]
[710,14.1,591,13.5,567,12.7,538,12.2,504,11.2,464,8.7899999999999991,418]
[800,17.899999999999999,750,17.100000000000001,720,16.899999999999999,684,15.4,640,14.1,589,10.9,531]
[900,21.1,950,21.9,911,20.399999999999999,865,19.2,810,18.100000000000001,746]
[1000,26.4,1172,26.8,1125,26,1068,28.7,1001,22.4,921]
[1100,33.799999999999997,1417,32.6,1361,31,1292,29.3,1210]
[1200,38,1688,38.6,1620,39.6,1538,34.700000000000003,1440]
[1400,52.7,2298,53.1,2205,54.8,2093,47.4,1960]
[1600,70.2,3001,69.2,2880,71.3,2734,61.3,2561]
[1800,87.3,3798,88.5,3645,90,3461]
[2000,108,4690,109,4500,112,4272]
[2100,120,5170,120,4962]
[2300,143,6202,143,5952]
[2500,168,7328,170,7031]

{"sheet":"Hav","index":7,"n_rows":39,"n_cols":15,"rows_kept":39,"cut":false,"hidden":true,"merged":[]}
["DN/OD","SDR","SDR","SDR","SDR","SDR","SDR","SDR","SDR","SDR","SDR","SDR","SDR","SDR","SDR"]
[null,26,"26l",21,"21l",17,"17l",13.6,"13,6l",11,"11l",9,"9l",7.4,"7,4l"]
[20,null,null,null,null,null,null,null,null,0.01,0.35,0.01,0.33,0.01,0.27]
[25,null,null,null,null,null,null,0.02,0.61,0.02,0.57999999999999996,0.02,0.5,0.02,0.45]
[32,null,null,null,null,0.03,1.08,0.04,1.02,0.05,0.93,0.04,0.85,0.04,0.74]
[40,null,null,0.06,1.79,7.0000000000000007E-2,1.71,7.0000000000000007E-2,1.6,0.06,1.47,7.0000000000000007E-2,1.33,0.06,1.1599999999999999]
[50,0.09,2.92,0.1,2.82,0.09,2.68,0.1,2.5099999999999998,0.09,2.2999999999999998,0.11,2.08,0.1,1.81]
[63,0.18,4.6500000000000004,0.16,4.49,0.15,4.24,0.18,3.97,0.16,3.65,0.19,3.29,0.14000000000000001,2.9]
[75,0.23,6.62,0.24,6.35,0.21,6.02,0.26,5.63,0.23,5.21,0.25,4.68,0.24,4.09]
[90,0.33,9.52,0.34,9.16,0.33,8.67,0.38,8.11,0.33,7.49,0.38,6.73,0.33,5.91]
[110,0.49,14.3,0.54,13.7,0.5,13,0.52,12.2,0.52,11.2,0.56000000000000005,10.1,0.5,8.8000000000000007]
[125,0.67,18.399999999999999,0.69,17.7,0.66,16.8,0.68,15.7,0.72,14.4,0.74,13,0.66,11.4]
[140,0.83,23.1,0.87,22.2,0.83,21,0.85,19.7,0.86,18.2,0.97,16.3,0.85,14.3]
[160,1.0900000000000001,30.1,1.1599999999999999,28.9,1.1000000000000001,27.5,1.1599999999999999,25.7,1.1100000000000001,23.6,1.24,21.3,1.05,18.7]
[180,1.43,38.200000000000003,1.46,36.6,1.43,34.799999999999997,1.49,32.5,1.43,30,1.56,27,1.36,23.6]
[200,1.78,47.1,1.82,45.2,1.82,42.9,1.77,40.200000000000003,1.75,37,1.93,33.299999999999997,1.68,29.1]
[225,2.25,59.7,2.2999999999999998,57.2,2.23,54.3,2.39,50.9,2.2200000000000002,46.8,2.48,42.1,2.2599999999999998,36.9]
[250,2.8,73.599999999999994,2.8,70.7,2.73,67.099999999999994,2.83,62.8,2.86,57.9,2.97,52.1,2.65,45.6]
[280,3.53,92.4,3.59,88.6,3.51,84.2,3.6,78.8,3.65,72.599999999999994,3.89,65.3,3.41,57.2]
[315,4.47,117,4.51,112,4.46,107,4.57,99.7,4.51,91.9,4.87,82.7,4.12,72.400000000000006]
[355,5.72,149,5.66,143,5.63,135,5.69,127,5.49,117,6.14,105,5.22,92]
[400,6.67,189,6.43,181,6.19,172,6.03,161,5.59,148,6.15,133,4.6399999999999997,117]
[450,8.3699999999999992,239,8.2899999999999991,229,7.87,217,7.6,204,7.1,187,7.79,169,5.86,148]
[500,10.3,295,10.1,283,9.9499999999999993,268,9.5399999999999991,251,8.82,231,9.4,209]
[560,12.9,370,12.6,355,12.3,337,11.9,315,10.9,290,11.8,262]
[630,16.5,468,16.100000000000001,449,15.4,426,15,399,15.6,367,12.2,331]
[710,21.1,594,20.5,570,19.7,541,19.2,507,18.2,467,15.8,420]
[800,26.9,754,26,724,25.8,687,24.3,644,23.1,593,19.8,534]
[900,32.4,955,33.200000000000003,916,31.8,870,30.5,815,29.4,750]
[1000,40.299999999999997,1179,40.799999999999997,1131,40,1074,42.7,1006,36.299999999999997,926]
[1100,50.7,1425,49.5,1369,47.9,1300,46.2,1217]
[1200,58.1,1698,58.7,1629,59.7,1547,54.8,1448]
[1400,80.099999999999994,2311,80.5,2218,82.2,2105,74.8,1971]
[1600,106,3018,105,2897,107.1,2750,97,2576]
[1800,133,3820,134,3665,135,3481]
[2000,163,4717,165,4526,168,4296]
[2100,181,5199,181,4990]
[2300,217,6237,217,5986]
[2500,256,7370,258,7071]